BEGIN:VCALENDAR
VERSION:2.0
PRODID:-//Disfruta Denia - ECPv6.15.20//NONSGML v1.0//EN
CALSCALE:GREGORIAN
METHOD:PUBLISH
X-ORIGINAL-URL:https://disfruta-denia.com
X-WR-CALDESC:Eventos para Disfruta Denia
REFRESH-INTERVAL;VALUE=DURATION:PT1H
X-Robots-Tag:noindex
X-PUBLISHED-TTL:PT1H
BEGIN:VTIMEZONE
TZID:Europe/Madrid
BEGIN:DAYLIGHT
TZOFFSETFROM:+0100
TZOFFSETTO:+0200
TZNAME:CEST
DTSTART:20240331T010000
END:DAYLIGHT
BEGIN:STANDARD
TZOFFSETFROM:+0200
TZOFFSETTO:+0100
TZNAME:CET
DTSTART:20241027T010000
END:STANDARD
BEGIN:DAYLIGHT
TZOFFSETFROM:+0100
TZOFFSETTO:+0200
TZNAME:CEST
DTSTART:20250330T010000
END:DAYLIGHT
BEGIN:STANDARD
TZOFFSETFROM:+0200
TZOFFSETTO:+0100
TZNAME:CET
DTSTART:20251026T010000
END:STANDARD
BEGIN:DAYLIGHT
TZOFFSETFROM:+0100
TZOFFSETTO:+0200
TZNAME:CEST
DTSTART:20260329T010000
END:DAYLIGHT
BEGIN:STANDARD
TZOFFSETFROM:+0200
TZOFFSETTO:+0100
TZNAME:CET
DTSTART:20261025T010000
END:STANDARD
END:VTIMEZONE
BEGIN:VEVENT
DTSTART;TZID=Europe/Madrid:20251102T123000
DTEND;TZID=Europe/Madrid:20251102T123000
DTSTAMP:20260420T212240
CREATED:20251026T115811Z
LAST-MODIFIED:20251026T115811Z
UID:10023057-1762086600-1762086600@disfruta-denia.com
SUMMARY:Visita en familia: UNA RUTA URBANA A TRAVÉS DEL PATRIMONI PORTUARI DE LA CIUTAT
DESCRIPTION:Punt d’Encontre: Plaça de Les Drassanes. 10.30 h. Dificultat baixa\nInformació i reserves/información y reservas: Museu Etnològic de Dénia\, 966420260.\nDe dimarts a diumenge / martes a domingo\, de 10 a 13 h.\nVisita amb guia expert / Visita con guía experto.
URL:https://disfruta-denia.com/evento/visita-en-familia-una-ruta-urbana-a-traves-del-patrimoni-portuari-de-la-ciutat/
LOCATION:Denia\, Denia\, Alicante\, 03700\, España
CATEGORIES:Excursión
ATTACH;FMTTYPE=image/png:https://disfruta-denia.com/wp-content/uploads/2025/10/1-familia-dia-2-1.png
END:VEVENT
END:VCALENDAR