BEGIN:VCALENDAR
VERSION:2.0
PRODID:-//Disfruta Denia - ECPv6.15.20//NONSGML v1.0//EN
CALSCALE:GREGORIAN
METHOD:PUBLISH
X-ORIGINAL-URL:https://disfruta-denia.com
X-WR-CALDESC:Eventos para Disfruta Denia
REFRESH-INTERVAL;VALUE=DURATION:PT1H
X-Robots-Tag:noindex
X-PUBLISHED-TTL:PT1H
BEGIN:VTIMEZONE
TZID:Europe/Madrid
BEGIN:DAYLIGHT
TZOFFSETFROM:+0100
TZOFFSETTO:+0200
TZNAME:CEST
DTSTART:20220327T010000
END:DAYLIGHT
BEGIN:STANDARD
TZOFFSETFROM:+0200
TZOFFSETTO:+0100
TZNAME:CET
DTSTART:20221030T010000
END:STANDARD
BEGIN:DAYLIGHT
TZOFFSETFROM:+0100
TZOFFSETTO:+0200
TZNAME:CEST
DTSTART:20230326T010000
END:DAYLIGHT
BEGIN:STANDARD
TZOFFSETFROM:+0200
TZOFFSETTO:+0100
TZNAME:CET
DTSTART:20231029T010000
END:STANDARD
BEGIN:DAYLIGHT
TZOFFSETFROM:+0100
TZOFFSETTO:+0200
TZNAME:CEST
DTSTART:20240331T010000
END:DAYLIGHT
BEGIN:STANDARD
TZOFFSETFROM:+0200
TZOFFSETTO:+0100
TZNAME:CET
DTSTART:20241027T010000
END:STANDARD
END:VTIMEZONE
BEGIN:VEVENT
DTSTART;TZID=Europe/Madrid:20230916T154500
DTEND;TZID=Europe/Madrid:20230916T170000
DTSTAMP:20260425T052117
CREATED:20230914T073555Z
LAST-MODIFIED:20230914T073555Z
UID:10013678-1694879100-1694883600@disfruta-denia.com
SUMMARY:Fútbol: C. D. Dénia Juvenil "A" vs C. D. Olimpic “A”
DESCRIPTION:El C. D. Dénia Juvenil «A»\, disputará su encuentro el   sábado 16 de septiembre en el Campo Diego Mena Cuesta\, contra el C. D. Olimpic “A”\, a partir de las  15:45 h.
URL:https://disfruta-denia.com/evento/futbol-c-d-denia-juvenil-a-vs-c-d-olimpic-a/
LOCATION:Campo de Fútbol «Diego Mena Cuesta»\, Dénia\, 03700\, España
CATEGORIES:Deporte,Futbol
ATTACH;FMTTYPE=image/jpeg:https://disfruta-denia.com/wp-content/uploads/2023/09/377524091_163867526755891_709933962498749518_n.jpg
END:VEVENT
BEGIN:VEVENT
DTSTART;TZID=Europe/Madrid:20230916T180000
DTEND;TZID=Europe/Madrid:20230916T193000
DTSTAMP:20260425T052117
CREATED:20230914T073728Z
LAST-MODIFIED:20230914T073728Z
UID:10013679-1694887200-1694892600@disfruta-denia.com
SUMMARY:Fútbol: C. D. Dénia "B"vs Pego C. F. "B"
DESCRIPTION:a partir de las  18:15 h\, será el equipo C. D. Dénia «B»\, el que dispute su partido contra el Pego C. F. «B».
URL:https://disfruta-denia.com/evento/futbol-c-d-denia-bvs-pego-c-f-b/
LOCATION:Campo de Fútbol «Diego Mena Cuesta»\, Dénia\, 03700\, España
CATEGORIES:Deporte,Futbol
ATTACH;FMTTYPE=image/jpeg:https://disfruta-denia.com/wp-content/uploads/2023/09/377554413_163867660089211_7817898760891720456_n.jpg
END:VEVENT
BEGIN:VEVENT
DTSTART;TZID=Europe/Madrid:20230923T170000
DTEND;TZID=Europe/Madrid:20230923T170000
DTSTAMP:20260425T052117
CREATED:20230920T082043Z
LAST-MODIFIED:20230920T082043Z
UID:10013709-1695488400-1695488400@disfruta-denia.com
SUMMARY:Football: CD Denia VS C.F. Independent Alacant “A”
DESCRIPTION:Tenim una cita en el Diego Mena Cuesta  a les :H. El primer equip jugarà VS C.F. Independent Alacant “A”\, on lluitaran per mantindre la bona ratxa que porten fins al moment
URL:https://disfruta-denia.com/evento/football-cd-denia-vs-c-f-independent-alacant-a/
LOCATION:Campo de Fútbol «Diego Mena Cuesta»\, Dénia\, 03700\, España
CATEGORIES:Deporte,Futbol
ATTACH;FMTTYPE=image/jpeg:https://disfruta-denia.com/wp-content/uploads/2023/09/380705778_700769628756952_8685594693827276826_n.jpg
END:VEVENT
BEGIN:VEVENT
DTSTART;TZID=Europe/Madrid:20230930T154500
DTEND;TZID=Europe/Madrid:20230930T170000
DTSTAMP:20260425T052117
CREATED:20230926T215526Z
LAST-MODIFIED:20230926T215526Z
UID:10013734-1696088700-1696093200@disfruta-denia.com
SUMMARY:Futbol: Juvenil A VS F.S. Picassent “A”
DESCRIPTION:Empezamos esta semana con el Juvenil A que juega en casa  a las :H VS el F.S. Picassent “A”.
URL:https://disfruta-denia.com/evento/futbol-juvenil-a-vs-f-s-picassent-a/
LOCATION:Campo de Fútbol «Diego Mena Cuesta»\, Dénia\, 03700\, España
CATEGORIES:Deporte,Futbol
ATTACH;FMTTYPE=image/jpeg:https://disfruta-denia.com/wp-content/uploads/2023/09/382338284_17974320266559250_7144780590419466714_n.jpg
END:VEVENT
BEGIN:VEVENT
DTSTART;TZID=Europe/Madrid:20230930T181500
DTEND;TZID=Europe/Madrid:20230930T181500
DTSTAMP:20260425T052117
CREATED:20230926T221503Z
LAST-MODIFIED:20230926T221503Z
UID:10013736-1696097700-1696097700@disfruta-denia.com
SUMMARY:Futbol: C.D. Dénia “B” VS C.F. Joventut de Pedreguer “A
DESCRIPTION:Després del Juvenil A\, serà el torn del C.D. Dénia “B”. El partit donarà principi a les :H VS C.F. Joventut de Pedreguer “A”.\n\n\nDiumenge 01/10;
URL:https://disfruta-denia.com/evento/futbol-c-d-denia-b-vs-c-f-joventut-de-pedreguer-a/
LOCATION:Campo de Fútbol «Diego Mena Cuesta»\, Dénia\, 03700\, España
CATEGORIES:Deporte,Futbol
ATTACH;FMTTYPE=image/jpeg:https://disfruta-denia.com/wp-content/uploads/2023/09/382230596_17974320275559250_5294739782278790930_n.jpg
END:VEVENT
END:VCALENDAR