BEGIN:VCALENDAR
VERSION:2.0
PRODID:-//Disfruta Denia - ECPv6.15.20//NONSGML v1.0//EN
CALSCALE:GREGORIAN
METHOD:PUBLISH
X-WR-CALNAME:Disfruta Denia
X-ORIGINAL-URL:https://disfruta-denia.com
X-WR-CALDESC:Eventos para Disfruta Denia
REFRESH-INTERVAL;VALUE=DURATION:PT1H
X-Robots-Tag:noindex
X-PUBLISHED-TTL:PT1H
BEGIN:VTIMEZONE
TZID:Europe/Madrid
BEGIN:DAYLIGHT
TZOFFSETFROM:+0100
TZOFFSETTO:+0200
TZNAME:CEST
DTSTART:20230326T010000
END:DAYLIGHT
BEGIN:STANDARD
TZOFFSETFROM:+0200
TZOFFSETTO:+0100
TZNAME:CET
DTSTART:20231029T010000
END:STANDARD
BEGIN:DAYLIGHT
TZOFFSETFROM:+0100
TZOFFSETTO:+0200
TZNAME:CEST
DTSTART:20240331T010000
END:DAYLIGHT
BEGIN:STANDARD
TZOFFSETFROM:+0200
TZOFFSETTO:+0100
TZNAME:CET
DTSTART:20241027T010000
END:STANDARD
BEGIN:DAYLIGHT
TZOFFSETFROM:+0100
TZOFFSETTO:+0200
TZNAME:CEST
DTSTART:20250330T010000
END:DAYLIGHT
BEGIN:STANDARD
TZOFFSETFROM:+0200
TZOFFSETTO:+0100
TZNAME:CET
DTSTART:20251026T010000
END:STANDARD
END:VTIMEZONE
BEGIN:VEVENT
DTSTART;TZID=Europe/Madrid:20240113T163000
DTEND;TZID=Europe/Madrid:20240113T170000
DTSTAMP:20260424T195823
CREATED:20240110T141317Z
LAST-MODIFIED:20240110T141317Z
UID:10015224-1705163400-1705165200@disfruta-denia.com
SUMMARY:Fútbol: Juvenil A  VS U.D. Alzira “B”
DESCRIPTION:El Juvenil A jugará en el Diego Mena Cuesta VS la U.D. Alzira “B” a las :H.
URL:https://disfruta-denia.com/evento/futbol-juvenil-a-vs-u-d-alzira-b/
LOCATION:Campo de Fútbol «Diego Mena Cuesta»\, Dénia\, 03700\, España
CATEGORIES:Deporte,Futbol
ATTACH;FMTTYPE=image/jpeg:https://disfruta-denia.com/wp-content/uploads/2024/01/418874120_17987984729559250_1750806742573497048_n.jpg
END:VEVENT
BEGIN:VEVENT
DTSTART;TZID=Europe/Madrid:20240121T170000
DTEND;TZID=Europe/Madrid:20240121T170000
DTSTAMP:20260424T195823
CREATED:20240116T125826Z
LAST-MODIFIED:20240116T125826Z
UID:10015236-1705856400-1705856400@disfruta-denia.com
SUMMARY:Fútbol: CD Denia VS Santa Pola C.F
DESCRIPTION:Fútbol: CD Denia VS Santa Pola C.F
URL:https://disfruta-denia.com/evento/futbol-cd-denia-vs-santa-pola-c-f/
LOCATION:Campo de Fútbol «Diego Mena Cuesta»\, Dénia\, 03700\, España
CATEGORIES:Deporte,Futbol
ATTACH;FMTTYPE=image/jpeg:https://disfruta-denia.com/wp-content/uploads/2024/01/419891183_17988787949559250_5598877265873720462_n.jpg
END:VEVENT
END:VCALENDAR