BEGIN:VCALENDAR
VERSION:2.0
PRODID:-//Disfruta Denia - ECPv6.15.20//NONSGML v1.0//EN
CALSCALE:GREGORIAN
METHOD:PUBLISH
X-WR-CALNAME:Disfruta Denia
X-ORIGINAL-URL:https://disfruta-denia.com
X-WR-CALDESC:Eventos para Disfruta Denia
REFRESH-INTERVAL;VALUE=DURATION:PT1H
X-Robots-Tag:noindex
X-PUBLISHED-TTL:PT1H
BEGIN:VTIMEZONE
TZID:Europe/Madrid
BEGIN:DAYLIGHT
TZOFFSETFROM:+0100
TZOFFSETTO:+0200
TZNAME:CEST
DTSTART:20250330T010000
END:DAYLIGHT
BEGIN:STANDARD
TZOFFSETFROM:+0200
TZOFFSETTO:+0100
TZNAME:CET
DTSTART:20251026T010000
END:STANDARD
BEGIN:DAYLIGHT
TZOFFSETFROM:+0100
TZOFFSETTO:+0200
TZNAME:CEST
DTSTART:20260329T010000
END:DAYLIGHT
BEGIN:STANDARD
TZOFFSETFROM:+0200
TZOFFSETTO:+0100
TZNAME:CET
DTSTART:20261025T010000
END:STANDARD
BEGIN:DAYLIGHT
TZOFFSETFROM:+0100
TZOFFSETTO:+0200
TZNAME:CEST
DTSTART:20270328T010000
END:DAYLIGHT
BEGIN:STANDARD
TZOFFSETFROM:+0200
TZOFFSETTO:+0100
TZNAME:CET
DTSTART:20271031T010000
END:STANDARD
END:VTIMEZONE
BEGIN:VEVENT
DTSTART;TZID=Europe/Madrid:20260421T093000
DTEND;TZID=Europe/Madrid:20260421T093000
DTSTAMP:20260420T111550
CREATED:20251218T163752Z
LAST-MODIFIED:20260227T104533Z
UID:10022110-1776763800-1776763800@disfruta-denia.com
SUMMARY:Denia camina
DESCRIPTION:🚶‍♀️ ¡Dénia Camina vuelve a caminar!\n¿Y tú\, te animas?\nMartes y jueves a las 9:30 h desde el Centro de Salud Joan Fuster\, con nuevas salidas temáticas y culturales para disfrutar caminando. \nℹ️ + info en el 618 945 344 o en esports.denia.es \nTambién:\n➡️La Xara Camina (dos viernes al mes).\n➡️Jesús Pobre Camina (los otros dos viernes). \nActividad gratuita y abierta a todas y todos
URL:https://disfruta-denia.com/evento/denia-camina-2/2026-04-21/
LOCATION:Denia\, Denia\, Alicante\, 03700\, España
CATEGORIES:Deporte
ATTACH;FMTTYPE=image/png:https://disfruta-denia.com/wp-content/uploads/2025/09/Instagram-09-05-2025_11_31_AM.png
END:VEVENT
BEGIN:VEVENT
DTSTART;TZID=Europe/Madrid:20260423T093000
DTEND;TZID=Europe/Madrid:20260423T093000
DTSTAMP:20260420T111550
CREATED:20251218T163752Z
LAST-MODIFIED:20260227T104533Z
UID:10022111-1776936600-1776936600@disfruta-denia.com
SUMMARY:Denia camina
DESCRIPTION:🚶‍♀️ ¡Dénia Camina vuelve a caminar!\n¿Y tú\, te animas?\nMartes y jueves a las 9:30 h desde el Centro de Salud Joan Fuster\, con nuevas salidas temáticas y culturales para disfrutar caminando. \nℹ️ + info en el 618 945 344 o en esports.denia.es \nTambién:\n➡️La Xara Camina (dos viernes al mes).\n➡️Jesús Pobre Camina (los otros dos viernes). \nActividad gratuita y abierta a todas y todos
URL:https://disfruta-denia.com/evento/denia-camina-2/2026-04-23/
LOCATION:Denia\, Denia\, Alicante\, 03700\, España
CATEGORIES:Deporte
ATTACH;FMTTYPE=image/png:https://disfruta-denia.com/wp-content/uploads/2025/09/Instagram-09-05-2025_11_31_AM.png
END:VEVENT
BEGIN:VEVENT
DTSTART;TZID=Europe/Madrid:20260425T110000
DTEND;TZID=Europe/Madrid:20260425T110000
DTSTAMP:20260420T111550
CREATED:20250924T103623Z
LAST-MODIFIED:20250924T103623Z
UID:10022443-1777114800-1777114800@disfruta-denia.com
SUMMARY:Deporte en los Barrios
DESCRIPTION:La Concejalía de Deportes del Ayuntamiento de Dénia retoma en octubre el programa “Deporte en los Barrios”\, una iniciativa que lleva actividades físicas gratuitas a los espacios públicos de la ciudad con el objetivo de fomentar el deporte como un hábito saludable y cercano. \nEl concejal de Deportes\, Valen Alcalà\, ha destacado que “este programa es una manera de hacer llegar la actividad física a todos y todas\, sin barreras y muy cerca de casa. Deporte en los Barrios nos recuerda que cualquier plaza o parque puede ser un espacio donde cuidarse y compartir buenos momentos con los vecinos”. \nSiguiendo la buena acogida que cada verano recibe “Deporte en la Playa”\, el consistorio apuesta por esta versión que recorre diferentes barrios de la ciudad durante el año. Las sesiones\, abiertas a todas las edades y sin necesidad de inscripción\, combinan ejercicio físico con música y gimnasia de mantenimiento. Tendrán lugar dos sábados al mes\, a las 11 de la mañana\, con una duración aproximada de una hora. \nEl calendario comenzará el sábado 4 de octubre de 2025 en la plaza del Consell\, y continuará el 18 de octubre en la plaza Maria Hervás. En noviembre\, las sesiones se realizarán el día 8 en la plaza Jaume I y el día 22 en la plaza Oeste. El mes de diciembre llevará la actividad a la calle La Vía\, coincidiendo con el Mercado de Navidad\, el día 13\, y a la plaza Mariana Pineda el día 27. \nYa en 2026\, el programa visitará la plaza del Convento el 10 de enero y el parque de la Marineta Cassiana el 24 de enero. En febrero\, las citas serán el día 7 en la Glorieta del País Valencià y el día 21 en el parque Chabàs. En marzo\, las sesiones tendrán lugar el día 7 en la plaza del Ayuntamiento y el día 28 en el Skate Park del parque Corona Boreal. En abril\, la actividad llegará a la plaza Maria Hervás el día 11 y a la plaza Oeste el 25. Finalmente\, en el mes de mayo tendrán lugar las últimas sesiones del curso: el día 9 en la plaza Jaume I y el día 23 en la plaza del Consell. \nSe recomienda acudir con ropa cómoda\, calzado deportivo y agua. La actividad es totalmente gratuita y abierta a la participación de todos y todas. Para más información se puede contactar con la oficina de Deportes del Ayuntamiento de Dénia en el 96 578 69 68 o consultar la web esports.denia.es.
URL:https://disfruta-denia.com/evento/deporte-en-los-barrios/2026-04-25/
LOCATION:Denia\, Denia\, Alicante\, 03700\, España
CATEGORIES:Deporte
ATTACH;FMTTYPE=image/png:https://disfruta-denia.com/wp-content/uploads/2025/09/7465f1.png
END:VEVENT
BEGIN:VEVENT
DTSTART;TZID=Europe/Madrid:20260425T120000
DTEND;TZID=Europe/Madrid:20260425T120000
DTSTAMP:20260420T111550
CREATED:20260420T075928Z
LAST-MODIFIED:20260420T075928Z
UID:10027179-1777118400-1777118400@disfruta-denia.com
SUMMARY:Booty & Bands x Lulufit + Brunch
DESCRIPTION:
URL:https://disfruta-denia.com/evento/booty-bands-x-lulufit-brunch/
LOCATION:Allgood House\, Dirección: la Muralla per les Tropes de Felip V\, Carrer de la Bretxa Oberta a la Muralla per les Tropes de Felip V\, 2\, Oberta a\, Denia\, 03700\, España
CATEGORIES:Brunch,Deporte,Gastronomía,Taller
ATTACH;FMTTYPE=image/jpeg:https://disfruta-denia.com/wp-content/uploads/2026/04/eae783e2-0dac-4e2e-a7b9-e7c0a4b7bbd1-2.jpg
END:VEVENT
BEGIN:VEVENT
DTSTART;TZID=Europe/Madrid:20260426T083000
DTEND;TZID=Europe/Madrid:20260426T140000
DTSTAMP:20260420T111550
CREATED:20260415T174225Z
LAST-MODIFIED:20260415T174309Z
UID:10027177-1777192200-1777212000@disfruta-denia.com
SUMMARY:Regata Liga Suma-37 Trofeo Virgen de los Desamparados
DESCRIPTION:El Puerto Deportivo y Turístico Marina Dénia acoge la XI Regata Liga Suma Banco Fijo del Mediterráneo– 37ª edición del Trofeo Virgen de los Desamparados\, que se celebra el domingo 26 de abril. “esta es la regata reina en el mundo del mar\, sobre todo para la gente de la pesca. También me gustaría dar la enhorabuena a las Veteranas del Club de REM por su último oro conseguido en la prueba celebrada el pasado domingo en el Club Náutico de Dénia»\, ha comentado Gabriel Martínez\, capitán-director de Marina Dénia. \nLa regata\, que es la última de este circuito\, se celebrará en Marina Dénia desde las 8:30 a las 14:30 horas\, donde competirán 800 deportistas federados\, 65 equipos y 20 clubes. La entrega de trofeos se realizará a las 15 horas. «Se podrá ver desde el paseo de Marina Dénia y tendremos un dj para que la gente pueda disfrutar de la regata y la buena música»\, ha señalado Vanessa Nicolau\, tesorera del Club de Rem Marina Dénia. \nEste año todas las embarcaciones harán una toma de tiempos en 700 metros y luego se realizarán las finales en grupos de A\, B y C de las categorías\, Veteranos\, Veteranas\, Cadetes\, Juvenil\, Senior femenino y masculino. Los cuatro mejores irán a la final A y se clasificarán los tres primeros. Este año hay una categoría nueva\, Mixta\, en la que participan cuatro veteranos y cuatro veteranas. “Esta modalidad está teniendo muy buena acogida”\, ha asegurado Michel Letelier\, vicepresidente de Club de Rem. \n \nPor su parte\, Rafa Carrió\, vicealcalde del Ayuntamiento de Dénia\, ha manifestado “estoy aquí con mucha ilusión ya que en breve seré el alcalde\, soy el concejal de Salud Pública y sabemos que el deporte es salud. El deporte náutico es un privilegio que disfrutamos en nuestra comarca y por ello es muy importante para nosotros». \n \nEn este sentido\, Gabriel Martínez ha concluido que “Marina Dénia es un espacio abierto a la ciudad y desde ese paseo estamos encantados de acoger a todo el mundo por eso animo a todo el mundo a que se acerque a ver esta regata. También aprovecho la ocasión para desearle a Rafa Carrió toda la suerte del mundo y ofrecerle nuestra colaboración para lo que necesite”. \n  \n 
URL:https://disfruta-denia.com/evento/regata-liga-suma-37-trofeo-virgen-de-los-desamparados/
LOCATION:Marina de Denia\, Puerto de Dénia\, Edificio Capitanía\, Dársena de Babor\, Denia\, Alicante\, 03700\, España
CATEGORIES:Deporte
ATTACH;FMTTYPE=image/jpeg:https://disfruta-denia.com/wp-content/uploads/2026/04/Cartel-Liga-SUMA.jpeg
END:VEVENT
BEGIN:VEVENT
DTSTART;TZID=Europe/Madrid:20260426T090000
DTEND;TZID=Europe/Madrid:20260426T090000
DTSTAMP:20260420T111550
CREATED:20260323T082512Z
LAST-MODIFIED:20260323T082512Z
UID:10026844-1777194000-1777194000@disfruta-denia.com
SUMMARY:Passejada ETNOBOTÀNICA URBANA
DESCRIPTION:Endèmica Natura. Senders\, sabers i sabors \n  \nCaminata etnobotánica por el pueblo y sus alrededores encontraremos especies comestibles\, medicinales\, vegetación exótica…Aprenderemos a identificarlas y diferenciarlas. Combatimos el cambio climático con el consumo de las hierbas de temporada y compartimos un puñado de ideas de recetas para preparar en casa platos exquisitos con productos KM0.  \nPúblico familiar. En valenciano. 2 horas. Punto de encuentro: 9 h puerta de Torrecremada \nInscripción previa obligatoria hasta las  14 h del jueves anterior al correo  viuiconviu@ayto-denia.es
URL:https://disfruta-denia.com/evento/passejada-etnobotanica-urbana/
LOCATION:Parque de Torrecremada\, Carrer Germans Maristes\, Denia\, Alicante\, 03700\, España
CATEGORIES:Deporte,Excursión
ATTACH;FMTTYPE=image/png:https://disfruta-denia.com/wp-content/uploads/2026/03/FAMILIA.png
END:VEVENT
BEGIN:VEVENT
DTSTART;TZID=Europe/Madrid:20260428T093000
DTEND;TZID=Europe/Madrid:20260428T093000
DTSTAMP:20260420T111550
CREATED:20251218T163752Z
LAST-MODIFIED:20260227T104533Z
UID:10022112-1777368600-1777368600@disfruta-denia.com
SUMMARY:Denia camina
DESCRIPTION:🚶‍♀️ ¡Dénia Camina vuelve a caminar!\n¿Y tú\, te animas?\nMartes y jueves a las 9:30 h desde el Centro de Salud Joan Fuster\, con nuevas salidas temáticas y culturales para disfrutar caminando. \nℹ️ + info en el 618 945 344 o en esports.denia.es \nTambién:\n➡️La Xara Camina (dos viernes al mes).\n➡️Jesús Pobre Camina (los otros dos viernes). \nActividad gratuita y abierta a todas y todos
URL:https://disfruta-denia.com/evento/denia-camina-2/2026-04-28/
LOCATION:Denia\, Denia\, Alicante\, 03700\, España
CATEGORIES:Deporte
ATTACH;FMTTYPE=image/png:https://disfruta-denia.com/wp-content/uploads/2025/09/Instagram-09-05-2025_11_31_AM.png
END:VEVENT
BEGIN:VEVENT
DTSTART;TZID=Europe/Madrid:20260430T093000
DTEND;TZID=Europe/Madrid:20260430T093000
DTSTAMP:20260420T111550
CREATED:20251218T163752Z
LAST-MODIFIED:20260227T104533Z
UID:10022113-1777541400-1777541400@disfruta-denia.com
SUMMARY:Denia camina
DESCRIPTION:🚶‍♀️ ¡Dénia Camina vuelve a caminar!\n¿Y tú\, te animas?\nMartes y jueves a las 9:30 h desde el Centro de Salud Joan Fuster\, con nuevas salidas temáticas y culturales para disfrutar caminando. \nℹ️ + info en el 618 945 344 o en esports.denia.es \nTambién:\n➡️La Xara Camina (dos viernes al mes).\n➡️Jesús Pobre Camina (los otros dos viernes). \nActividad gratuita y abierta a todas y todos
URL:https://disfruta-denia.com/evento/denia-camina-2/2026-04-30/
LOCATION:Denia\, Denia\, Alicante\, 03700\, España
CATEGORIES:Deporte
ATTACH;FMTTYPE=image/png:https://disfruta-denia.com/wp-content/uploads/2025/09/Instagram-09-05-2025_11_31_AM.png
END:VEVENT
END:VCALENDAR