BEGIN:VCALENDAR
VERSION:2.0
PRODID:-//Disfruta Denia - ECPv6.15.20//NONSGML v1.0//EN
CALSCALE:GREGORIAN
METHOD:PUBLISH
X-WR-CALNAME:Disfruta Denia
X-ORIGINAL-URL:https://disfruta-denia.com
X-WR-CALDESC:Eventos para Disfruta Denia
REFRESH-INTERVAL;VALUE=DURATION:PT1H
X-Robots-Tag:noindex
X-PUBLISHED-TTL:PT1H
BEGIN:VTIMEZONE
TZID:Europe/Madrid
BEGIN:DAYLIGHT
TZOFFSETFROM:+0100
TZOFFSETTO:+0200
TZNAME:CEST
DTSTART:20230326T010000
END:DAYLIGHT
BEGIN:STANDARD
TZOFFSETFROM:+0200
TZOFFSETTO:+0100
TZNAME:CET
DTSTART:20231029T010000
END:STANDARD
BEGIN:DAYLIGHT
TZOFFSETFROM:+0100
TZOFFSETTO:+0200
TZNAME:CEST
DTSTART:20240331T010000
END:DAYLIGHT
BEGIN:STANDARD
TZOFFSETFROM:+0200
TZOFFSETTO:+0100
TZNAME:CET
DTSTART:20241027T010000
END:STANDARD
BEGIN:DAYLIGHT
TZOFFSETFROM:+0100
TZOFFSETTO:+0200
TZNAME:CEST
DTSTART:20250330T010000
END:DAYLIGHT
BEGIN:STANDARD
TZOFFSETFROM:+0200
TZOFFSETTO:+0100
TZNAME:CET
DTSTART:20251026T010000
END:STANDARD
END:VTIMEZONE
BEGIN:VEVENT
DTSTART;TZID=Europe/Madrid:20240203T083000
DTEND;TZID=Europe/Madrid:20240203T150000
DTSTAMP:20260422T142613
CREATED:20231127T093459Z
LAST-MODIFIED:20231127T093459Z
UID:10014896-1706949000-1706972400@disfruta-denia.com
SUMMARY:II Torneo de Pádel Benéfico de la Femmicc Dénia
DESCRIPTION:Todavía falta un tiempo pero ve agendándote el 3 de febrero para el II Torneo de Pádel Benéfico de la Femmicc Dénia. Tienes para pensártelo hasta el 28 de enero\, así que busca las palas y ponte a entrenar estas Navidades\, porque lo importante es recaudar el máximo para colaborar con las iniciativas solidarias del Ejército de Salvación. ¡Que no se te olvide
URL:https://disfruta-denia.com/evento/ii-torneo-de-padel-benefico-de-la-femmicc-denia/
LOCATION:Padel Soul\, Partida Madrigueres\, SUD 10 C\, Denia\, Alicante\, 03700\, España
CATEGORIES:Deporte,Padel
ATTACH;FMTTYPE=image/jpeg:https://disfruta-denia.com/wp-content/uploads/2023/11/405661459_745583420941419_3982670476409181617_n.jpg
END:VEVENT
END:VCALENDAR