BEGIN:VCALENDAR
VERSION:2.0
PRODID:-//Disfruta Denia - ECPv6.15.20//NONSGML v1.0//EN
CALSCALE:GREGORIAN
METHOD:PUBLISH
X-ORIGINAL-URL:https://disfruta-denia.com
X-WR-CALDESC:Eventos para Disfruta Denia
REFRESH-INTERVAL;VALUE=DURATION:PT1H
X-Robots-Tag:noindex
X-PUBLISHED-TTL:PT1H
BEGIN:VTIMEZONE
TZID:Europe/Madrid
BEGIN:DAYLIGHT
TZOFFSETFROM:+0100
TZOFFSETTO:+0200
TZNAME:CEST
DTSTART:20230326T010000
END:DAYLIGHT
BEGIN:STANDARD
TZOFFSETFROM:+0200
TZOFFSETTO:+0100
TZNAME:CET
DTSTART:20231029T010000
END:STANDARD
BEGIN:DAYLIGHT
TZOFFSETFROM:+0100
TZOFFSETTO:+0200
TZNAME:CEST
DTSTART:20240331T010000
END:DAYLIGHT
BEGIN:STANDARD
TZOFFSETFROM:+0200
TZOFFSETTO:+0100
TZNAME:CET
DTSTART:20241027T010000
END:STANDARD
BEGIN:DAYLIGHT
TZOFFSETFROM:+0100
TZOFFSETTO:+0200
TZNAME:CEST
DTSTART:20250330T010000
END:DAYLIGHT
BEGIN:STANDARD
TZOFFSETFROM:+0200
TZOFFSETTO:+0100
TZNAME:CET
DTSTART:20251026T010000
END:STANDARD
END:VTIMEZONE
BEGIN:VEVENT
DTSTART;VALUE=DATE:20240927
DTEND;VALUE=DATE:20241001
DTSTAMP:20260422T022224
CREATED:20240924T125933Z
LAST-MODIFIED:20240924T125933Z
UID:10019636-1727409600-1727668799@disfruta-denia.com
SUMMARY:IV Torneo benéfico de pádel Cerebrum
DESCRIPTION:Llega el IV Torneo benéfico de pádel Cerebrum los días 27\, 28 y 29 de septiembre en Dénia.Busca a tu pareja y podéis inscribiros al 644 79 39 85⁩ hasta el 23 de septiembreAdemás habrá animación y juegos infantiles\, sorteo de regalos\, clases de pilates y muchas sopreses más! Este torneo se en beneficio de Cerebrum\, la asociación por los afectados por el daño cerebral adquirido de Dénia y la Marina Alta.
URL:https://disfruta-denia.com/evento/iv-torneo-benefico-de-padel-cerebrum/
LOCATION:Club de Tenis Denia\, Partida Marjal\, 0\, Denia\, Alicante\, 03700\, España
CATEGORIES:Deporte,Padel
ATTACH;FMTTYPE=image/jpeg:https://disfruta-denia.com/wp-content/uploads/2024/09/460895513_398366906639284_2225596842105210278_n-e1727182757159.jpg
END:VEVENT
END:VCALENDAR