BEGIN:VCALENDAR
VERSION:2.0
PRODID:-//Disfruta Denia - ECPv6.15.20//NONSGML v1.0//EN
CALSCALE:GREGORIAN
METHOD:PUBLISH
X-ORIGINAL-URL:https://disfruta-denia.com
X-WR-CALDESC:Eventos para Disfruta Denia
REFRESH-INTERVAL;VALUE=DURATION:PT1H
X-Robots-Tag:noindex
X-PUBLISHED-TTL:PT1H
BEGIN:VTIMEZONE
TZID:Europe/Madrid
BEGIN:DAYLIGHT
TZOFFSETFROM:+0100
TZOFFSETTO:+0200
TZNAME:CEST
DTSTART:20220327T010000
END:DAYLIGHT
BEGIN:STANDARD
TZOFFSETFROM:+0200
TZOFFSETTO:+0100
TZNAME:CET
DTSTART:20221030T010000
END:STANDARD
BEGIN:DAYLIGHT
TZOFFSETFROM:+0100
TZOFFSETTO:+0200
TZNAME:CEST
DTSTART:20230326T010000
END:DAYLIGHT
BEGIN:STANDARD
TZOFFSETFROM:+0200
TZOFFSETTO:+0100
TZNAME:CET
DTSTART:20231029T010000
END:STANDARD
BEGIN:DAYLIGHT
TZOFFSETFROM:+0100
TZOFFSETTO:+0200
TZNAME:CEST
DTSTART:20240331T010000
END:DAYLIGHT
BEGIN:STANDARD
TZOFFSETFROM:+0200
TZOFFSETTO:+0100
TZNAME:CET
DTSTART:20241027T010000
END:STANDARD
END:VTIMEZONE
BEGIN:VEVENT
DTSTART;TZID=Europe/Madrid:20230122T100000
DTEND;TZID=Europe/Madrid:20230122T100000
DTSTAMP:20260424T182135
CREATED:20230120T131249Z
LAST-MODIFIED:20230120T131249Z
UID:10009835-1674381600-1674381600@disfruta-denia.com
SUMMARY:Una ruta para todos
DESCRIPTION:
URL:https://disfruta-denia.com/evento/una-ruta-para-todos/
LOCATION:Denia\, Denia\, Alicante\, 03700\, España
CATEGORIES:Deporte,Senderismo
ATTACH;FMTTYPE=image/png:https://disfruta-denia.com/wp-content/uploads/2023/01/322014551_2245433102332187_3664158546413980041_n.png
END:VEVENT
BEGIN:VEVENT
DTSTART;TZID=Europe/Madrid:20230129T090000
DTEND;TZID=Europe/Madrid:20230129T090000
DTSTAMP:20260424T182135
CREATED:20230120T131401Z
LAST-MODIFIED:20230120T131401Z
UID:10009836-1674982800-1674982800@disfruta-denia.com
SUMMARY:Historias de árboles
DESCRIPTION:
URL:https://disfruta-denia.com/evento/historias-de-arboles/
CATEGORIES:Deporte,Senderismo
ATTACH;FMTTYPE=image/jpeg:https://disfruta-denia.com/wp-content/uploads/2023/01/322480267_3538865429675442_3449549433399545707_n.jpg
END:VEVENT
END:VCALENDAR