BEGIN:VCALENDAR
VERSION:2.0
PRODID:-//Disfruta Denia - ECPv6.15.20//NONSGML v1.0//EN
CALSCALE:GREGORIAN
METHOD:PUBLISH
X-WR-CALNAME:Disfruta Denia
X-ORIGINAL-URL:https://disfruta-denia.com
X-WR-CALDESC:Eventos para Disfruta Denia
REFRESH-INTERVAL;VALUE=DURATION:PT1H
X-Robots-Tag:noindex
X-PUBLISHED-TTL:PT1H
BEGIN:VTIMEZONE
TZID:Europe/Madrid
BEGIN:DAYLIGHT
TZOFFSETFROM:+0100
TZOFFSETTO:+0200
TZNAME:CEST
DTSTART:20220327T010000
END:DAYLIGHT
BEGIN:STANDARD
TZOFFSETFROM:+0200
TZOFFSETTO:+0100
TZNAME:CET
DTSTART:20221030T010000
END:STANDARD
BEGIN:DAYLIGHT
TZOFFSETFROM:+0100
TZOFFSETTO:+0200
TZNAME:CEST
DTSTART:20230326T010000
END:DAYLIGHT
BEGIN:STANDARD
TZOFFSETFROM:+0200
TZOFFSETTO:+0100
TZNAME:CET
DTSTART:20231029T010000
END:STANDARD
BEGIN:DAYLIGHT
TZOFFSETFROM:+0100
TZOFFSETTO:+0200
TZNAME:CEST
DTSTART:20240331T010000
END:DAYLIGHT
BEGIN:STANDARD
TZOFFSETFROM:+0200
TZOFFSETTO:+0100
TZNAME:CET
DTSTART:20241027T010000
END:STANDARD
END:VTIMEZONE
BEGIN:VEVENT
DTSTART;TZID=Europe/Madrid:20231205T083000
DTEND;TZID=Europe/Madrid:20231205T083000
DTSTAMP:20260422T161639
CREATED:20231005T092619Z
LAST-MODIFIED:20231005T092702Z
UID:10014053-1701765000-1701765000@disfruta-denia.com
SUMMARY:Clase de Yoga en Códigos del Arte
DESCRIPTION:Clase de Yoga en Códigos del Arte
URL:https://disfruta-denia.com/evento/clase-de-yoga-en-codigos-del-arte/2023-12-05/
LOCATION:Códigos del Arte\, Carreró de Morant\, 8\, Dénia\, 03700\, España
CATEGORIES:Deporte,Yoga
ATTACH;FMTTYPE=image/jpeg:https://disfruta-denia.com/wp-content/uploads/2023/10/image_6487327.jpg
END:VEVENT
BEGIN:VEVENT
DTSTART;TZID=Europe/Madrid:20231207T083000
DTEND;TZID=Europe/Madrid:20231207T083000
DTSTAMP:20260422T161639
CREATED:20231005T092619Z
LAST-MODIFIED:20231005T092702Z
UID:10014054-1701937800-1701937800@disfruta-denia.com
SUMMARY:Clase de Yoga en Códigos del Arte
DESCRIPTION:Clase de Yoga en Códigos del Arte
URL:https://disfruta-denia.com/evento/clase-de-yoga-en-codigos-del-arte/2023-12-07/
LOCATION:Códigos del Arte\, Carreró de Morant\, 8\, Dénia\, 03700\, España
CATEGORIES:Deporte,Yoga
ATTACH;FMTTYPE=image/jpeg:https://disfruta-denia.com/wp-content/uploads/2023/10/image_6487327.jpg
END:VEVENT
BEGIN:VEVENT
DTSTART;TZID=Europe/Madrid:20231209T100000
DTEND;TZID=Europe/Madrid:20231209T100000
DTSTAMP:20260422T161639
CREATED:20231118T210424Z
LAST-MODIFIED:20231118T210424Z
UID:10014888-1702116000-1702116000@disfruta-denia.com
SUMMARY:Yoga & brunch
DESCRIPTION:¿Te apetece empezar el fin de semana de una manera diferente?\nPues reserva está fecha: Sábado 9 de Diciembre a las 10:00h\nEse día estaremos en SamsaraYaranda esperándote para compartir contigo esta experiencia.\n¿Te vienes? Escríbeme para reservar 🤗
URL:https://disfruta-denia.com/evento/yoga-brunch/
LOCATION:Samsara Yaranda\, Camí Betlems\, 20\, Dénia\, 03700\, España
CATEGORIES:Deporte,Yoga
ATTACH;FMTTYPE=image/png:https://disfruta-denia.com/wp-content/uploads/2023/11/1_20231118_214027_0000-e1700341401260.png
END:VEVENT
BEGIN:VEVENT
DTSTART;TZID=Europe/Madrid:20231212T083000
DTEND;TZID=Europe/Madrid:20231212T083000
DTSTAMP:20260422T161639
CREATED:20231005T092619Z
LAST-MODIFIED:20231005T092702Z
UID:10014055-1702369800-1702369800@disfruta-denia.com
SUMMARY:Clase de Yoga en Códigos del Arte
DESCRIPTION:Clase de Yoga en Códigos del Arte
URL:https://disfruta-denia.com/evento/clase-de-yoga-en-codigos-del-arte/2023-12-12/
LOCATION:Códigos del Arte\, Carreró de Morant\, 8\, Dénia\, 03700\, España
CATEGORIES:Deporte,Yoga
ATTACH;FMTTYPE=image/jpeg:https://disfruta-denia.com/wp-content/uploads/2023/10/image_6487327.jpg
END:VEVENT
BEGIN:VEVENT
DTSTART;TZID=Europe/Madrid:20231214T083000
DTEND;TZID=Europe/Madrid:20231214T083000
DTSTAMP:20260422T161639
CREATED:20231005T092619Z
LAST-MODIFIED:20231005T092702Z
UID:10014056-1702542600-1702542600@disfruta-denia.com
SUMMARY:Clase de Yoga en Códigos del Arte
DESCRIPTION:Clase de Yoga en Códigos del Arte
URL:https://disfruta-denia.com/evento/clase-de-yoga-en-codigos-del-arte/2023-12-14/
LOCATION:Códigos del Arte\, Carreró de Morant\, 8\, Dénia\, 03700\, España
CATEGORIES:Deporte,Yoga
ATTACH;FMTTYPE=image/jpeg:https://disfruta-denia.com/wp-content/uploads/2023/10/image_6487327.jpg
END:VEVENT
BEGIN:VEVENT
DTSTART;TZID=Europe/Madrid:20231219T083000
DTEND;TZID=Europe/Madrid:20231219T083000
DTSTAMP:20260422T161639
CREATED:20231005T092619Z
LAST-MODIFIED:20231005T092702Z
UID:10014057-1702974600-1702974600@disfruta-denia.com
SUMMARY:Clase de Yoga en Códigos del Arte
DESCRIPTION:Clase de Yoga en Códigos del Arte
URL:https://disfruta-denia.com/evento/clase-de-yoga-en-codigos-del-arte/2023-12-19/
LOCATION:Códigos del Arte\, Carreró de Morant\, 8\, Dénia\, 03700\, España
CATEGORIES:Deporte,Yoga
ATTACH;FMTTYPE=image/jpeg:https://disfruta-denia.com/wp-content/uploads/2023/10/image_6487327.jpg
END:VEVENT
BEGIN:VEVENT
DTSTART;TZID=Europe/Madrid:20231221T083000
DTEND;TZID=Europe/Madrid:20231221T083000
DTSTAMP:20260422T161639
CREATED:20231005T092619Z
LAST-MODIFIED:20231005T092702Z
UID:10014058-1703147400-1703147400@disfruta-denia.com
SUMMARY:Clase de Yoga en Códigos del Arte
DESCRIPTION:Clase de Yoga en Códigos del Arte
URL:https://disfruta-denia.com/evento/clase-de-yoga-en-codigos-del-arte/2023-12-21/
LOCATION:Códigos del Arte\, Carreró de Morant\, 8\, Dénia\, 03700\, España
CATEGORIES:Deporte,Yoga
ATTACH;FMTTYPE=image/jpeg:https://disfruta-denia.com/wp-content/uploads/2023/10/image_6487327.jpg
END:VEVENT
BEGIN:VEVENT
DTSTART;TZID=Europe/Madrid:20231226T083000
DTEND;TZID=Europe/Madrid:20231226T083000
DTSTAMP:20260422T161639
CREATED:20231005T092619Z
LAST-MODIFIED:20231005T092702Z
UID:10014059-1703579400-1703579400@disfruta-denia.com
SUMMARY:Clase de Yoga en Códigos del Arte
DESCRIPTION:Clase de Yoga en Códigos del Arte
URL:https://disfruta-denia.com/evento/clase-de-yoga-en-codigos-del-arte/2023-12-26/
LOCATION:Códigos del Arte\, Carreró de Morant\, 8\, Dénia\, 03700\, España
CATEGORIES:Deporte,Yoga
ATTACH;FMTTYPE=image/jpeg:https://disfruta-denia.com/wp-content/uploads/2023/10/image_6487327.jpg
END:VEVENT
BEGIN:VEVENT
DTSTART;TZID=Europe/Madrid:20231228T083000
DTEND;TZID=Europe/Madrid:20231228T083000
DTSTAMP:20260422T161639
CREATED:20231005T092619Z
LAST-MODIFIED:20231005T092702Z
UID:10014060-1703752200-1703752200@disfruta-denia.com
SUMMARY:Clase de Yoga en Códigos del Arte
DESCRIPTION:Clase de Yoga en Códigos del Arte
URL:https://disfruta-denia.com/evento/clase-de-yoga-en-codigos-del-arte/2023-12-28/
LOCATION:Códigos del Arte\, Carreró de Morant\, 8\, Dénia\, 03700\, España
CATEGORIES:Deporte,Yoga
ATTACH;FMTTYPE=image/jpeg:https://disfruta-denia.com/wp-content/uploads/2023/10/image_6487327.jpg
END:VEVENT
END:VCALENDAR