BEGIN:VCALENDAR
VERSION:2.0
PRODID:-//Disfruta Denia - ECPv6.15.20//NONSGML v1.0//EN
CALSCALE:GREGORIAN
METHOD:PUBLISH
X-ORIGINAL-URL:https://disfruta-denia.com
X-WR-CALDESC:Eventos para Disfruta Denia
REFRESH-INTERVAL;VALUE=DURATION:PT1H
X-Robots-Tag:noindex
X-PUBLISHED-TTL:PT1H
BEGIN:VTIMEZONE
TZID:Europe/Madrid
BEGIN:DAYLIGHT
TZOFFSETFROM:+0100
TZOFFSETTO:+0200
TZNAME:CEST
DTSTART:20230326T010000
END:DAYLIGHT
BEGIN:STANDARD
TZOFFSETFROM:+0200
TZOFFSETTO:+0100
TZNAME:CET
DTSTART:20231029T010000
END:STANDARD
BEGIN:DAYLIGHT
TZOFFSETFROM:+0100
TZOFFSETTO:+0200
TZNAME:CEST
DTSTART:20240331T010000
END:DAYLIGHT
BEGIN:STANDARD
TZOFFSETFROM:+0200
TZOFFSETTO:+0100
TZNAME:CET
DTSTART:20241027T010000
END:STANDARD
BEGIN:DAYLIGHT
TZOFFSETFROM:+0100
TZOFFSETTO:+0200
TZNAME:CEST
DTSTART:20250330T010000
END:DAYLIGHT
BEGIN:STANDARD
TZOFFSETFROM:+0200
TZOFFSETTO:+0100
TZNAME:CET
DTSTART:20251026T010000
END:STANDARD
END:VTIMEZONE
BEGIN:VEVENT
DTSTART;TZID=Europe/Madrid:20241013T133000
DTEND;TZID=Europe/Madrid:20241013T133000
DTSTAMP:20260425T002151
CREATED:20240924T122800Z
LAST-MODIFIED:20240924T122800Z
UID:10019623-1728826200-1728826200@disfruta-denia.com
SUMMARY:VISITA EN FAMILIA: COVA DE LA CATXUPA
DESCRIPTION:RT RUPESTRE LLEVANTÍ. \nPunt d’encontre /Punto de encuentro: Carretera CN 332. Km 187.5. Venta de Parra.           \nInformació i reserves / información y reservas: Museu Etnològic de Dénia\, 966420260.  \nDe dimarts a diumenge/ de martes a domingo\, de 10.00 a 13.00 h  \nVisita amb guia expert/ Visita con guía experto. Dificultat alta.
URL:https://disfruta-denia.com/evento/visita-en-familia-cova-de-la-catxupa-3/
LOCATION:Denia\, Denia\, Alicante\, 03700\, España
CATEGORIES:Excursión
ATTACH;FMTTYPE=image/png:https://disfruta-denia.com/wp-content/uploads/2024/09/Familia-general.png
END:VEVENT
END:VCALENDAR