BEGIN:VCALENDAR
VERSION:2.0
PRODID:-//Disfruta Denia - ECPv6.15.20//NONSGML v1.0//EN
CALSCALE:GREGORIAN
METHOD:PUBLISH
X-ORIGINAL-URL:https://disfruta-denia.com
X-WR-CALDESC:Eventos para Disfruta Denia
REFRESH-INTERVAL;VALUE=DURATION:PT1H
X-Robots-Tag:noindex
X-PUBLISHED-TTL:PT1H
BEGIN:VTIMEZONE
TZID:Europe/Madrid
BEGIN:DAYLIGHT
TZOFFSETFROM:+0100
TZOFFSETTO:+0200
TZNAME:CEST
DTSTART:20240331T010000
END:DAYLIGHT
BEGIN:STANDARD
TZOFFSETFROM:+0200
TZOFFSETTO:+0100
TZNAME:CET
DTSTART:20241027T010000
END:STANDARD
BEGIN:DAYLIGHT
TZOFFSETFROM:+0100
TZOFFSETTO:+0200
TZNAME:CEST
DTSTART:20250330T010000
END:DAYLIGHT
BEGIN:STANDARD
TZOFFSETFROM:+0200
TZOFFSETTO:+0100
TZNAME:CET
DTSTART:20251026T010000
END:STANDARD
BEGIN:DAYLIGHT
TZOFFSETFROM:+0100
TZOFFSETTO:+0200
TZNAME:CEST
DTSTART:20260329T010000
END:DAYLIGHT
BEGIN:STANDARD
TZOFFSETFROM:+0200
TZOFFSETTO:+0100
TZNAME:CET
DTSTART:20261025T010000
END:STANDARD
END:VTIMEZONE
BEGIN:VEVENT
DTSTART;TZID=Europe/Madrid:20251019T080000
DTEND;TZID=Europe/Madrid:20251019T080000
DTSTAMP:20260423T200949
CREATED:20251003T092912Z
LAST-MODIFIED:20251003T092912Z
UID:10022461-1760860800-1760860800@disfruta-denia.com
SUMMARY:EXCURSIÓN EN FAMÍLIA
DESCRIPTION:EXPLORANT LA COVA AMPLA. Ok Aventuras.\nCova a la cara sud del Montgó.\nRecomanat a partir de 8 anys / recomendado a partir de 8 años.\nPreu/precio 5 €. Horari a determinar / Horario a determinar.\nInscripció prèvia obligatòria fins les 14h del dijous anterior al correu\nviuiconviu@ayto-denia.es\nInscripción previa obligatoria hasta las 14 h del jueves anterior al correo viuiconviu@ayto-denia.es
URL:https://disfruta-denia.com/evento/excursion-en-familia-9/
LOCATION:Denia\, Denia\, Alicante\, 03700\, España
CATEGORIES:Excursión
ATTACH;FMTTYPE=image/png:https://disfruta-denia.com/wp-content/uploads/2025/09/7-FAMILIA-General.png
END:VEVENT
END:VCALENDAR