BEGIN:VCALENDAR
VERSION:2.0
PRODID:-//Disfruta Denia - ECPv6.15.20//NONSGML v1.0//EN
CALSCALE:GREGORIAN
METHOD:PUBLISH
X-ORIGINAL-URL:https://disfruta-denia.com
X-WR-CALDESC:Eventos para Disfruta Denia
REFRESH-INTERVAL;VALUE=DURATION:PT1H
X-Robots-Tag:noindex
X-PUBLISHED-TTL:PT1H
BEGIN:VTIMEZONE
TZID:Europe/Madrid
BEGIN:DAYLIGHT
TZOFFSETFROM:+0100
TZOFFSETTO:+0200
TZNAME:CEST
DTSTART:20220327T010000
END:DAYLIGHT
BEGIN:STANDARD
TZOFFSETFROM:+0200
TZOFFSETTO:+0100
TZNAME:CET
DTSTART:20221030T010000
END:STANDARD
BEGIN:DAYLIGHT
TZOFFSETFROM:+0100
TZOFFSETTO:+0200
TZNAME:CEST
DTSTART:20230326T010000
END:DAYLIGHT
BEGIN:STANDARD
TZOFFSETFROM:+0200
TZOFFSETTO:+0100
TZNAME:CET
DTSTART:20231029T010000
END:STANDARD
BEGIN:DAYLIGHT
TZOFFSETFROM:+0100
TZOFFSETTO:+0200
TZNAME:CEST
DTSTART:20240331T010000
END:DAYLIGHT
BEGIN:STANDARD
TZOFFSETFROM:+0200
TZOFFSETTO:+0100
TZNAME:CET
DTSTART:20241027T010000
END:STANDARD
END:VTIMEZONE
BEGIN:VEVENT
DTSTART;VALUE=DATE:20231020
DTEND;VALUE=DATE:20231107
DTSTAMP:20260422T193402
CREATED:20231017T093902Z
LAST-MODIFIED:20231017T094240Z
UID:10014713-1697774400-1699243199@disfruta-denia.com
SUMMARY:Fira de tots Sants 2023
DESCRIPTION:A partir del viernes\, 20 de octubre\, ¡la feria en #Dénia!\n Días de los niños y las niñas: 20\, 24 y 26 de octubre y 5 de noviembre.\n Día sin música: 26 de octubre.\n Día para personas con diversidad funcional: 28 de octubre (de 11 a 14 h). \nMás info
URL:https://disfruta-denia.com/evento/fira-de-tots-sants-2023/
LOCATION:Parque de Torrecremada\, Carrer Germans Maristes\, Denia\, Alicante\, 03700\, España
CATEGORIES:Feria
ATTACH;FMTTYPE=image/jpeg:https://disfruta-denia.com/wp-content/uploads/2023/10/384249814_725260036314495_2541491699457105512_n.jpg
END:VEVENT
BEGIN:VEVENT
DTSTART;TZID=Europe/Madrid:20231117T100000
DTEND;TZID=Europe/Madrid:20231118T170000
DTSTAMP:20260422T193402
CREATED:20231109T135751Z
LAST-MODIFIED:20231109T135751Z
UID:10014807-1700215200-1700326800@disfruta-denia.com
SUMMARY:Wellbeing expo
DESCRIPTION:Wellbeing expo
URL:https://disfruta-denia.com/evento/wellbeing-expo/
LOCATION:Salones Carrasco\, Cam. Cabanes\, 15\, Jávea\, 03730\, España
CATEGORIES:Feria
ATTACH;FMTTYPE=image/jpeg:https://disfruta-denia.com/wp-content/uploads/2023/11/400810234_10227835336646410_6620349463975574129_n.jpg
END:VEVENT
BEGIN:VEVENT
DTSTART;TZID=Europe/Madrid:20231119T090000
DTEND;TZID=Europe/Madrid:20231119T140000
DTSTAMP:20260422T193402
CREATED:20231118T093628Z
LAST-MODIFIED:20231118T093628Z
UID:10014827-1700384400-1700402400@disfruta-denia.com
SUMMARY:Concentració de vehicles clàssics
DESCRIPTION:concentració de vehicles clàssics el diumenge 19. \nEns veiem a la Avda. Doctor Fleming per a la XVIII concentració de cotxes\, motos i camions clàssics. \nSerà de 9h a 14h. A gaudir! 
URL:https://disfruta-denia.com/evento/concentracio-de-vehicles-classics/
LOCATION:Avda Doctor Flemming\, Avenida Doctor Flemming\, Ondara\, España
CATEGORIES:Cultura,Exposiciones,Feria,Presentación
ATTACH;FMTTYPE=image/jpeg:https://disfruta-denia.com/wp-content/uploads/2023/11/402453160_309030858597547_6309646476896089938_n.jpg
END:VEVENT
END:VCALENDAR