BEGIN:VCALENDAR
VERSION:2.0
PRODID:-//Disfruta Denia - ECPv6.15.20//NONSGML v1.0//EN
CALSCALE:GREGORIAN
METHOD:PUBLISH
X-ORIGINAL-URL:https://disfruta-denia.com
X-WR-CALDESC:Eventos para Disfruta Denia
REFRESH-INTERVAL;VALUE=DURATION:PT1H
X-Robots-Tag:noindex
X-PUBLISHED-TTL:PT1H
BEGIN:VTIMEZONE
TZID:Europe/Madrid
BEGIN:DAYLIGHT
TZOFFSETFROM:+0100
TZOFFSETTO:+0200
TZNAME:CEST
DTSTART:20230326T010000
END:DAYLIGHT
BEGIN:STANDARD
TZOFFSETFROM:+0200
TZOFFSETTO:+0100
TZNAME:CET
DTSTART:20231029T010000
END:STANDARD
BEGIN:DAYLIGHT
TZOFFSETFROM:+0100
TZOFFSETTO:+0200
TZNAME:CEST
DTSTART:20240331T010000
END:DAYLIGHT
BEGIN:STANDARD
TZOFFSETFROM:+0200
TZOFFSETTO:+0100
TZNAME:CET
DTSTART:20241027T010000
END:STANDARD
BEGIN:DAYLIGHT
TZOFFSETFROM:+0100
TZOFFSETTO:+0200
TZNAME:CEST
DTSTART:20250330T010000
END:DAYLIGHT
BEGIN:STANDARD
TZOFFSETFROM:+0200
TZOFFSETTO:+0100
TZNAME:CET
DTSTART:20251026T010000
END:STANDARD
END:VTIMEZONE
BEGIN:VEVENT
DTSTART;TZID=Europe/Madrid:20240406T100000
DTEND;TZID=Europe/Madrid:20240406T210000
DTSTAMP:20260422T105304
CREATED:20240402T085656Z
LAST-MODIFIED:20240402T085656Z
UID:10017861-1712397600-1712437200@disfruta-denia.com
SUMMARY:Feria Dénia Stock 2024
DESCRIPTION:El mercado del oultet “Feria Dénia Stock”\, organizado por la Concejalía de Comercio a través de la oficina AFIC en Creama\, celebrará una nueva edición el sábado 6 de abril\, de nuevo en la calle Marqués de Campo. “Esta feria permite a los comercios inscritos”\, como ha destacado María José García\, la regidora de Comercio\, “vender productos en stock\, de las últimas ediciones a un precio muy rebajado\, y asimismo\, los compradores encuentran y adquieren productos a unos precios más reducidos”. \n  \nTreinta y seis establecimientos van a participar en esta nueva edición de la Feria del oultet. Desde moda hasta electrónica\, pasando por artículos deportivos\, calzado o lencería\, hasta productos de alimentación\, “Feria Dénia Stock” reúne una variedad inigualable de artículos para todos los gustos y todas las necesidades\, a unos precios con grandes descuentos. \n  \nEl sábado 6 de abril\, la feria abrirá al público de 10.00 horas a 21.00 horas\, y los comercios locales que participan en la Feria llevarán sus productos a los estands instalados en la calle Marqués de Campo\, excepto Amadeo Home\, que ofrecerá sus artículos desde su propia tienda\, en la calle Diana.
URL:https://disfruta-denia.com/evento/feria-denia-stock-2024/
LOCATION:Carrer del Marqués de Campo\, Carrer del Marqués de Campo\, Denia\, Alicante\, 03700\, España
CATEGORIES:Feria,Shopping
ATTACH;FMTTYPE=image/jpeg:https://disfruta-denia.com/wp-content/uploads/2024/04/6944f1.jpg
END:VEVENT
END:VCALENDAR