BEGIN:VCALENDAR
VERSION:2.0
PRODID:-//Disfruta Denia - ECPv6.15.20//NONSGML v1.0//EN
CALSCALE:GREGORIAN
METHOD:PUBLISH
X-ORIGINAL-URL:https://disfruta-denia.com
X-WR-CALDESC:Eventos para Disfruta Denia
REFRESH-INTERVAL;VALUE=DURATION:PT1H
X-Robots-Tag:noindex
X-PUBLISHED-TTL:PT1H
BEGIN:VTIMEZONE
TZID:Europe/Madrid
BEGIN:DAYLIGHT
TZOFFSETFROM:+0100
TZOFFSETTO:+0200
TZNAME:CEST
DTSTART:20230326T010000
END:DAYLIGHT
BEGIN:STANDARD
TZOFFSETFROM:+0200
TZOFFSETTO:+0100
TZNAME:CET
DTSTART:20231029T010000
END:STANDARD
BEGIN:DAYLIGHT
TZOFFSETFROM:+0100
TZOFFSETTO:+0200
TZNAME:CEST
DTSTART:20240331T010000
END:DAYLIGHT
BEGIN:STANDARD
TZOFFSETFROM:+0200
TZOFFSETTO:+0100
TZNAME:CET
DTSTART:20241027T010000
END:STANDARD
BEGIN:DAYLIGHT
TZOFFSETFROM:+0100
TZOFFSETTO:+0200
TZNAME:CEST
DTSTART:20250330T010000
END:DAYLIGHT
BEGIN:STANDARD
TZOFFSETFROM:+0200
TZOFFSETTO:+0100
TZNAME:CET
DTSTART:20251026T010000
END:STANDARD
END:VTIMEZONE
BEGIN:VEVENT
DTSTART;TZID=Europe/Madrid:20240524T180000
DTEND;TZID=Europe/Madrid:20240524T220000
DTSTAMP:20260422T091907
CREATED:20240509T071604Z
LAST-MODIFIED:20240509T071604Z
UID:10018584-1716573600-1716588000@disfruta-denia.com
SUMMARY:IV Feria del Vino Marina Dénia
DESCRIPTION:El Puerto Deportivo y Turístico Marina Dénia ha presentado la IV edición de la Feria del Vino\, que se celebrará el 24 y 25 de mayo. Además de vino\, la feria tendrá productos locales de alimentación\, por lo que aquellas empresas que quieran participar ya pueden inscribirse. \nEste año\, la barrica que ilustra el cartel promocional del evento\, está pintada por el diseñador e ilustrador Javier Mariscal y se encuentra en Arte en Barrica\, del Museo Hoya de Cadenas de Vicente Gandía. El año pasado visitaron la Feria del Vino alrededor de 6.000 personas y participaron 21 empresas. «Nosotros queremos sumarnos a ese turismo que potencia la zona y apostar por otros eventos que atraen a turistas que buscan otras experiencias\, no solo el sol y la playa. Este año la feria tendrá más puntos dedicados a la comida»\, ha comentado Gabriel Martínez\, capitán-director de Marina Dénia. \nEl viernes 24 de mayo\, la feria abrirá sus puertas de 12 a 14 horas y de 18:00 a 22.00 horas y\, el sábado 25 de mayo de 11:30 a 14:00 horas y de 18:00 a 22:00 horas. La entrada al recinto es gratuita y habrá música en directo. «Este año queremos dar más protagonismo a la hostelería de la Marina Alta y por eso este año vamos a tener un espacio para que profesionales de la hostelería puedan presentar sus vinos y productos»\, ha señalado José Vicente Blasco\, gerente de Bodegas Blasco. \n«Estamos muy contentos con esta iniciativa\, que ya se ha consolidado en nuestra comarca. Es un evento que a todos nos interesa y que el puerto se convierta también en un espacio de promoción turística. Además\, en unas fechas que ayudan a desestacionalizar el turismo»\, ha dicho Vicent Grimalt\, alcalde de Dénia. \nEl evento cuenta con la colaboración del Ayuntamiento de Dénia\, Bodegas Vicente Gandía\, Bodegas Blasco y el patrocinio de Fine & Country. «Somos una inmobiliaria\, pero no solo vendemos casa\, también un estilo de vida y por eso nos parece muy importante apoyar eventos como este»\, ha comentado Cristian Hara\, de Fine & Country.
URL:https://disfruta-denia.com/evento/iv-feria-del-vino-marina-denia/2024-05-24/
LOCATION:Marina de Denia\, Puerto de Dénia\, Edificio Capitanía\, Dársena de Babor\, Denia\, Alicante\, 03700\, España
CATEGORIES:Cata,Feria,Gastronomía
ATTACH;FMTTYPE=image/jpeg:https://disfruta-denia.com/wp-content/uploads/2024/05/feria-vino.jpg
END:VEVENT
BEGIN:VEVENT
DTSTART;TZID=Europe/Madrid:20240525T180000
DTEND;TZID=Europe/Madrid:20240525T220000
DTSTAMP:20260422T091907
CREATED:20240509T071604Z
LAST-MODIFIED:20240509T071604Z
UID:10018585-1716660000-1716674400@disfruta-denia.com
SUMMARY:IV Feria del Vino Marina Dénia
DESCRIPTION:El Puerto Deportivo y Turístico Marina Dénia ha presentado la IV edición de la Feria del Vino\, que se celebrará el 24 y 25 de mayo. Además de vino\, la feria tendrá productos locales de alimentación\, por lo que aquellas empresas que quieran participar ya pueden inscribirse. \nEste año\, la barrica que ilustra el cartel promocional del evento\, está pintada por el diseñador e ilustrador Javier Mariscal y se encuentra en Arte en Barrica\, del Museo Hoya de Cadenas de Vicente Gandía. El año pasado visitaron la Feria del Vino alrededor de 6.000 personas y participaron 21 empresas. «Nosotros queremos sumarnos a ese turismo que potencia la zona y apostar por otros eventos que atraen a turistas que buscan otras experiencias\, no solo el sol y la playa. Este año la feria tendrá más puntos dedicados a la comida»\, ha comentado Gabriel Martínez\, capitán-director de Marina Dénia. \nEl viernes 24 de mayo\, la feria abrirá sus puertas de 12 a 14 horas y de 18:00 a 22.00 horas y\, el sábado 25 de mayo de 11:30 a 14:00 horas y de 18:00 a 22:00 horas. La entrada al recinto es gratuita y habrá música en directo. «Este año queremos dar más protagonismo a la hostelería de la Marina Alta y por eso este año vamos a tener un espacio para que profesionales de la hostelería puedan presentar sus vinos y productos»\, ha señalado José Vicente Blasco\, gerente de Bodegas Blasco. \n«Estamos muy contentos con esta iniciativa\, que ya se ha consolidado en nuestra comarca. Es un evento que a todos nos interesa y que el puerto se convierta también en un espacio de promoción turística. Además\, en unas fechas que ayudan a desestacionalizar el turismo»\, ha dicho Vicent Grimalt\, alcalde de Dénia. \nEl evento cuenta con la colaboración del Ayuntamiento de Dénia\, Bodegas Vicente Gandía\, Bodegas Blasco y el patrocinio de Fine & Country. «Somos una inmobiliaria\, pero no solo vendemos casa\, también un estilo de vida y por eso nos parece muy importante apoyar eventos como este»\, ha comentado Cristian Hara\, de Fine & Country.
URL:https://disfruta-denia.com/evento/iv-feria-del-vino-marina-denia/2024-05-25/
LOCATION:Marina de Denia\, Puerto de Dénia\, Edificio Capitanía\, Dársena de Babor\, Denia\, Alicante\, 03700\, España
CATEGORIES:Cata,Feria,Gastronomía
ATTACH;FMTTYPE=image/jpeg:https://disfruta-denia.com/wp-content/uploads/2024/05/feria-vino.jpg
END:VEVENT
END:VCALENDAR