BEGIN:VCALENDAR
VERSION:2.0
PRODID:-//Disfruta Denia - ECPv6.15.20//NONSGML v1.0//EN
CALSCALE:GREGORIAN
METHOD:PUBLISH
X-WR-CALNAME:Disfruta Denia
X-ORIGINAL-URL:https://disfruta-denia.com
X-WR-CALDESC:Eventos para Disfruta Denia
REFRESH-INTERVAL;VALUE=DURATION:PT1H
X-Robots-Tag:noindex
X-PUBLISHED-TTL:PT1H
BEGIN:VTIMEZONE
TZID:Europe/Madrid
BEGIN:DAYLIGHT
TZOFFSETFROM:+0100
TZOFFSETTO:+0200
TZNAME:CEST
DTSTART:20230326T010000
END:DAYLIGHT
BEGIN:STANDARD
TZOFFSETFROM:+0200
TZOFFSETTO:+0100
TZNAME:CET
DTSTART:20231029T010000
END:STANDARD
BEGIN:DAYLIGHT
TZOFFSETFROM:+0100
TZOFFSETTO:+0200
TZNAME:CEST
DTSTART:20240331T010000
END:DAYLIGHT
BEGIN:STANDARD
TZOFFSETFROM:+0200
TZOFFSETTO:+0100
TZNAME:CET
DTSTART:20241027T010000
END:STANDARD
BEGIN:DAYLIGHT
TZOFFSETFROM:+0100
TZOFFSETTO:+0200
TZNAME:CEST
DTSTART:20250330T010000
END:DAYLIGHT
BEGIN:STANDARD
TZOFFSETFROM:+0200
TZOFFSETTO:+0100
TZNAME:CET
DTSTART:20251026T010000
END:STANDARD
END:VTIMEZONE
BEGIN:VEVENT
DTSTART;TZID=Europe/Madrid:20241109T100000
DTEND;TZID=Europe/Madrid:20241109T200000
DTSTAMP:20260421T223022
CREATED:20241031T104139Z
LAST-MODIFIED:20241104T182619Z
UID:10020215-1731146400-1731182400@disfruta-denia.com
SUMMARY:FERIA DE ASOCIACIONES
DESCRIPTION:Treinta y seis entidades y asociaciones sin ánimo de lucro de ámbito social\, cultural\, deportivo\, de ocio y de participación ciudadana de Dénia y la Marina Alta participan el próximo sábado\, 9 de noviembre\, en la Feria de Asociaciones de Dénia que organiza la Concejalía de Igualdad y Políticas Inclusivas. \n  \nDe 10 a 20 horas del sábado\, las entidades tendrán presencia desde los estands que se instalarán en la calle La Via\, desde los cuales ofrecerán a la ciudadanía información sobre su tarea. \n  \nAdemás\, a lo largo de la jornada se sucederán talleres organizados por algunas de las asociaciones participantes. Entre las 10.30 y las 18.30 horas\, Cerebrum\, la asociación comarcal de personas afectadas por daño cerebral adquirido\, propone para el público partidas múltiples de tres en raya\, un taller de zumo de naranja y decoración de pajitas y juegos de la oca neurosaludable y títeres de espanta-criaturas. Cruz Roja Dénia tendrá un espacio informativo sobre la soledad no deseada de las personas mayores y cómo actúa la entidad al respecto (de 10 a 14 horas) y\, por la tarde\, otro sobre la intervención en emergencias (de 16 a 20 horas). \n  \nLa asociación TDAH Marina Alta (ADAHMA) organiza un taller de creación de un miniárbol de Navidad y de hacer pompas gigantes\, mientras que TDAH +16 València Dénia propone a los visitantes de la feria un taller de manualidades de botas navideñas y otro de maquillajes infantiles navideños. \n  \nLa asociación Ayuda Ucrania Dénia hará a las 16.30 horas un taller de adornos navideños de escayola\, mientras que Todos unidos por la inclusión ha organizado el taller inclusivo “Creación de otoño” para personas con diversidad funcional y juegos de psicomotricidad. \n  \nA las 18 horas y a las 20 horas\, Mon Bloc Batucada\, ASS Xarcia-Fent Sinergia hará una exhibición y un taller participativo y a las 18.30 horas\, la asociación Orquídea ofrecerá un espectáculo de baile del grupo La alegría de Colombia.
URL:https://disfruta-denia.com/evento/feria-de-asociaciones-2/
LOCATION:Calle La Vía\, calle la via\, Denia\, Alicante\, 03700\, España
CATEGORIES:Feria
ATTACH;FMTTYPE=image/png:https://disfruta-denia.com/wp-content/uploads/2024/10/9-fira-associacions.png
END:VEVENT
END:VCALENDAR