BEGIN:VCALENDAR
VERSION:2.0
PRODID:-//Disfruta Denia - ECPv6.15.20//NONSGML v1.0//EN
CALSCALE:GREGORIAN
METHOD:PUBLISH
X-WR-CALNAME:Disfruta Denia
X-ORIGINAL-URL:https://disfruta-denia.com
X-WR-CALDESC:Eventos para Disfruta Denia
REFRESH-INTERVAL;VALUE=DURATION:PT1H
X-Robots-Tag:noindex
X-PUBLISHED-TTL:PT1H
BEGIN:VTIMEZONE
TZID:Europe/Madrid
BEGIN:DAYLIGHT
TZOFFSETFROM:+0100
TZOFFSETTO:+0200
TZNAME:CEST
DTSTART:20240331T010000
END:DAYLIGHT
BEGIN:STANDARD
TZOFFSETFROM:+0200
TZOFFSETTO:+0100
TZNAME:CET
DTSTART:20241027T010000
END:STANDARD
BEGIN:DAYLIGHT
TZOFFSETFROM:+0100
TZOFFSETTO:+0200
TZNAME:CEST
DTSTART:20250330T010000
END:DAYLIGHT
BEGIN:STANDARD
TZOFFSETFROM:+0200
TZOFFSETTO:+0100
TZNAME:CET
DTSTART:20251026T010000
END:STANDARD
BEGIN:DAYLIGHT
TZOFFSETFROM:+0100
TZOFFSETTO:+0200
TZNAME:CEST
DTSTART:20260329T010000
END:DAYLIGHT
BEGIN:STANDARD
TZOFFSETFROM:+0200
TZOFFSETTO:+0100
TZNAME:CET
DTSTART:20261025T010000
END:STANDARD
END:VTIMEZONE
BEGIN:VEVENT
DTSTART;TZID=Europe/Madrid:20250323T103000
DTEND;TZID=Europe/Madrid:20250323T133000
DTSTAMP:20260421T154320
CREATED:20250321T123706Z
LAST-MODIFIED:20250321T123706Z
UID:10020595-1742725800-1742736600@disfruta-denia.com
SUMMARY:Fira de l'Embotit de la Marina 'Porc\, pebre i pebre roig'
DESCRIPTION:El 23 de marzo celebramos la 3ª edición de este evento en el que homenajeamos el trabajo artesanal y la arraigada tradición de los embutidos de la comarca.\nPodrás conocer de cerca\, probar y llevarte a casa embutidos artesanales de: Ca Paquitina (Ondara)\, Ca Curro (Gata de Gorgos) y Panxeta (Pedreguer). Además\, realizaremos una mesa redonda con estas carnicerías junto a Javier Calvo (doctor en historia) en la que se hablará de la historia del embutido de la Marina\, se probará y\, ¡muchas más sorpresas!
URL:https://disfruta-denia.com/evento/fira-de-lembotit-de-la-marina-porc-pebre-i-pebre-roig/
LOCATION:Els Magazinos\, Carrer Pont 19\, Denia\, Alicante\, 03700\, España
CATEGORIES:Feria,Gastronomía
ATTACH;FMTTYPE=image/jpeg:https://disfruta-denia.com/wp-content/uploads/2025/03/unnamed-5-scaled.jpg
END:VEVENT
END:VCALENDAR