BEGIN:VCALENDAR
VERSION:2.0
PRODID:-//Disfruta Denia - ECPv6.15.20//NONSGML v1.0//EN
CALSCALE:GREGORIAN
METHOD:PUBLISH
X-WR-CALNAME:Disfruta Denia
X-ORIGINAL-URL:https://disfruta-denia.com
X-WR-CALDESC:Eventos para Disfruta Denia
REFRESH-INTERVAL;VALUE=DURATION:PT1H
X-Robots-Tag:noindex
X-PUBLISHED-TTL:PT1H
BEGIN:VTIMEZONE
TZID:Europe/Madrid
BEGIN:DAYLIGHT
TZOFFSETFROM:+0100
TZOFFSETTO:+0200
TZNAME:CEST
DTSTART:20240331T010000
END:DAYLIGHT
BEGIN:STANDARD
TZOFFSETFROM:+0200
TZOFFSETTO:+0100
TZNAME:CET
DTSTART:20241027T010000
END:STANDARD
BEGIN:DAYLIGHT
TZOFFSETFROM:+0100
TZOFFSETTO:+0200
TZNAME:CEST
DTSTART:20250330T010000
END:DAYLIGHT
BEGIN:STANDARD
TZOFFSETFROM:+0200
TZOFFSETTO:+0100
TZNAME:CET
DTSTART:20251026T010000
END:STANDARD
BEGIN:DAYLIGHT
TZOFFSETFROM:+0100
TZOFFSETTO:+0200
TZNAME:CEST
DTSTART:20260329T010000
END:DAYLIGHT
BEGIN:STANDARD
TZOFFSETFROM:+0200
TZOFFSETTO:+0100
TZNAME:CET
DTSTART:20261025T010000
END:STANDARD
END:VTIMEZONE
BEGIN:VEVENT
DTSTART;TZID=Europe/Madrid:20250510T100000
DTEND;TZID=Europe/Madrid:20250510T153000
DTSTAMP:20260421T120606
CREATED:20250505T065940Z
LAST-MODIFIED:20250505T065940Z
UID:10020622-1746871200-1746891000@disfruta-denia.com
SUMMARY:Feria “Terra Moscatell”
DESCRIPTION:PROGRAMACIÓN | Feria “Terra Moscatell” \n\n\nUn año más\, el sábado 10 de mayo  disfrutaremos de la cuarta edición de la feria de vinos del Mediterráneo\, con la variedad de uva moscatel  como protagonista dando sabor a nuestros paladares.\n\n\n\n\n\n10-15 H: Mercado Terra Moscatell con los vinos de las bodegas participantes\n11-12:30 H: Mesa redonda “El Paraíso de la Uva Moscatel\, la Marina Alta”\n– Presentación del libro “Dénia y la pasa” por el historiador Javier Calvo\n– Presentación “Passaport Cellers de la Marina Alta 2025” por Luis Silvestre\, gerente Melicatesen\n12:30-15 H: Taller de pintura “Els colors i aromes del vi de la nostra terra” con @ximocanetpintures\nDurante toda la jornada: Gran oferta gastronómica de los más de 20 locales de la Calle de los Sabores\, que ofrecerán diferentes vinos moscatell con sus propuestas.
URL:https://disfruta-denia.com/evento/feria-terra-moscatell/
LOCATION:Els Magazinos\, Carrer Pont 19\, Denia\, Alicante\, 03700\, España
CATEGORIES:Cata,Feria,Gastronomía
ATTACH;FMTTYPE=image/jpeg:https://disfruta-denia.com/wp-content/uploads/2025/05/494210291_1114850630670091_8274447359174867460_n.jpg
END:VEVENT
END:VCALENDAR