BEGIN:VCALENDAR
VERSION:2.0
PRODID:-//Disfruta Denia - ECPv6.15.20//NONSGML v1.0//EN
CALSCALE:GREGORIAN
METHOD:PUBLISH
X-WR-CALNAME:Disfruta Denia
X-ORIGINAL-URL:https://disfruta-denia.com
X-WR-CALDESC:Eventos para Disfruta Denia
REFRESH-INTERVAL;VALUE=DURATION:PT1H
X-Robots-Tag:noindex
X-PUBLISHED-TTL:PT1H
BEGIN:VTIMEZONE
TZID:Europe/Madrid
BEGIN:DAYLIGHT
TZOFFSETFROM:+0100
TZOFFSETTO:+0200
TZNAME:CEST
DTSTART:20240331T010000
END:DAYLIGHT
BEGIN:STANDARD
TZOFFSETFROM:+0200
TZOFFSETTO:+0100
TZNAME:CET
DTSTART:20241027T010000
END:STANDARD
BEGIN:DAYLIGHT
TZOFFSETFROM:+0100
TZOFFSETTO:+0200
TZNAME:CEST
DTSTART:20250330T010000
END:DAYLIGHT
BEGIN:STANDARD
TZOFFSETFROM:+0200
TZOFFSETTO:+0100
TZNAME:CET
DTSTART:20251026T010000
END:STANDARD
BEGIN:DAYLIGHT
TZOFFSETFROM:+0100
TZOFFSETTO:+0200
TZNAME:CEST
DTSTART:20260329T010000
END:DAYLIGHT
BEGIN:STANDARD
TZOFFSETFROM:+0200
TZOFFSETTO:+0100
TZNAME:CET
DTSTART:20261025T010000
END:STANDARD
END:VTIMEZONE
BEGIN:VEVENT
DTSTART;VALUE=DATE:20251017
DTEND;VALUE=DATE:20251104
DTSTAMP:20260421T005803
CREATED:20251008T122523Z
LAST-MODIFIED:20251008T122523Z
UID:10022494-1760673600-1762142399@disfruta-denia.com
SUMMARY:Feria de Tots Sants
DESCRIPTION:La tradicional Feria de Tots Sants se celebra en la explanada de Torrecremada de Dénia del 17 de octubre al 2 de noviembre. Atracciones infantiles y de adultos\, casetas de juegos y palomitas\, tómbolas y puestos de comida\, entre otros\, se distribuirán a lo largo de la explanada para disfrute de la población dianense y de la Marina Alta. \n  \nEl horario habitual de la feria será por la tarde/noche\, a partir de las 17 horas\, de lunes a sábado; y los domingos\, de 11 a 15 horas y de 17 horas al cierre. \n  \nHay\, no obstante\, algunas excepciones: \n  \n•           el sábado 25 de octubre\, la feria abrirá en horario de mañana\, de 11 a 14 horas\, para que vayan exclusivamente usuarios de asociaciones\, entidades y centros de personas con diversidad funcional. \n•           Y el sábado el 1 de noviembre\, Día de Tots Sants\, funcionará tanto por la mañana como por la tarde. \n  \nLos Días de las Niñas y los Niños\, en los cuales las atracciones bajan el precio del ticket\, son el 17\, 21\, 23 y 29 de octubre. \n  \nLa novedad más destacada de este año es que se aumentan a dos los días dedicados a las niñas y niños con trastorno del espectro autista\, en los que las atracciones prescindirán de la música\, excepto el buey mecánico y el minirrodeo\, que la tendrán a un volumen mínimo. Serán el 21 y el 29 de octubre.
URL:https://disfruta-denia.com/evento/feria-de-tots-sants/
LOCATION:Parque de Torrecremada\, Carrer Germans Maristes\, Denia\, Alicante\, 03700\, España
CATEGORIES:Feria
ATTACH;FMTTYPE=image/jpeg:https://disfruta-denia.com/wp-content/uploads/2025/10/7482f2.jpg
END:VEVENT
END:VCALENDAR