BEGIN:VCALENDAR
VERSION:2.0
PRODID:-//Disfruta Denia - ECPv6.15.20//NONSGML v1.0//EN
CALSCALE:GREGORIAN
METHOD:PUBLISH
X-ORIGINAL-URL:https://disfruta-denia.com
X-WR-CALDESC:Eventos para Disfruta Denia
REFRESH-INTERVAL;VALUE=DURATION:PT1H
X-Robots-Tag:noindex
X-PUBLISHED-TTL:PT1H
BEGIN:VTIMEZONE
TZID:Europe/Madrid
BEGIN:DAYLIGHT
TZOFFSETFROM:+0100
TZOFFSETTO:+0200
TZNAME:CEST
DTSTART:20250330T010000
END:DAYLIGHT
BEGIN:STANDARD
TZOFFSETFROM:+0200
TZOFFSETTO:+0100
TZNAME:CET
DTSTART:20251026T010000
END:STANDARD
BEGIN:DAYLIGHT
TZOFFSETFROM:+0100
TZOFFSETTO:+0200
TZNAME:CEST
DTSTART:20260329T010000
END:DAYLIGHT
BEGIN:STANDARD
TZOFFSETFROM:+0200
TZOFFSETTO:+0100
TZNAME:CET
DTSTART:20261025T010000
END:STANDARD
BEGIN:DAYLIGHT
TZOFFSETFROM:+0100
TZOFFSETTO:+0200
TZNAME:CEST
DTSTART:20270328T010000
END:DAYLIGHT
BEGIN:STANDARD
TZOFFSETFROM:+0200
TZOFFSETTO:+0100
TZNAME:CET
DTSTART:20271031T010000
END:STANDARD
END:VTIMEZONE
BEGIN:VEVENT
DTSTART;TZID=Europe/Madrid:20260328T100000
DTEND;TZID=Europe/Madrid:20260328T210000
DTSTAMP:20260420T181315
CREATED:20260324T084241Z
LAST-MODIFIED:20260324T084241Z
UID:10026852-1774692000-1774731600@disfruta-denia.com
SUMMARY:Dénia Stock 2026
DESCRIPTION:Este sábado 28 de marzo\, la calle Marqués de Campo se convertirá en un gran escaparate del comercio local 🛍️ \n✨ 41 comercios\n✨ Descuentos especiales\n✨ Moda\, calzado\, joyería\, deporte\, decoración y mucho más \nUn día perfecto para pasear\, descubrir nuevas propuestas y aprovechar grandes ofertas en el comercio de casa \n👨‍👩‍👧‍👦 Además\, habrá actividades infantiles durante todo el día. \n📍 Marqués de Campo\n🕙 De 10 a 21 h
URL:https://disfruta-denia.com/evento/denia-stock-2026/
LOCATION:Carrer del Marqués de Campo\, Carrer del Marqués de Campo\, Denia\, Alicante\, 03700\, España
CATEGORIES:Feria
ATTACH;FMTTYPE=image/png:https://disfruta-denia.com/wp-content/uploads/2026/03/Instagram-03-24-2026_09_40_AM.png
END:VEVENT
END:VCALENDAR