BEGIN:VCALENDAR
VERSION:2.0
PRODID:-//Disfruta Denia - ECPv6.15.20//NONSGML v1.0//EN
CALSCALE:GREGORIAN
METHOD:PUBLISH
X-WR-CALNAME:Disfruta Denia
X-ORIGINAL-URL:https://disfruta-denia.com
X-WR-CALDESC:Eventos para Disfruta Denia
REFRESH-INTERVAL;VALUE=DURATION:PT1H
X-Robots-Tag:noindex
X-PUBLISHED-TTL:PT1H
BEGIN:VTIMEZONE
TZID:Europe/Madrid
BEGIN:DAYLIGHT
TZOFFSETFROM:+0100
TZOFFSETTO:+0200
TZNAME:CEST
DTSTART:20220327T010000
END:DAYLIGHT
BEGIN:STANDARD
TZOFFSETFROM:+0200
TZOFFSETTO:+0100
TZNAME:CET
DTSTART:20221030T010000
END:STANDARD
BEGIN:DAYLIGHT
TZOFFSETFROM:+0100
TZOFFSETTO:+0200
TZNAME:CEST
DTSTART:20230326T010000
END:DAYLIGHT
BEGIN:STANDARD
TZOFFSETFROM:+0200
TZOFFSETTO:+0100
TZNAME:CET
DTSTART:20231029T010000
END:STANDARD
BEGIN:DAYLIGHT
TZOFFSETFROM:+0100
TZOFFSETTO:+0200
TZNAME:CEST
DTSTART:20240331T010000
END:DAYLIGHT
BEGIN:STANDARD
TZOFFSETFROM:+0200
TZOFFSETTO:+0100
TZNAME:CET
DTSTART:20241027T010000
END:STANDARD
END:VTIMEZONE
BEGIN:VEVENT
DTSTART;VALUE=DATE:20230603
DTEND;VALUE=DATE:20230605
DTSTAMP:20260422T222201
CREATED:20230518T155306Z
LAST-MODIFIED:20230518T155306Z
UID:10010662-1685764800-1685851199@disfruta-denia.com
SUMMARY:XII Festival Mascotetes
DESCRIPTION:¡Es hora de lucirse! En nuestro Festival Mascotetes\, tu peludin puede ser la estrella del show. Participa en nuestro concurso solidario\, muestra sus habilidades y podrías llevarte a casa fantásticos premios. ¡Te esperamos el 3 de junio!\nAhhhh y atent@s al concurso gatuno
URL:https://disfruta-denia.com/evento/xii-festival-mascotetes/
LOCATION:Marina de Denia\, Puerto de Dénia\, Edificio Capitanía\, Dársena de Babor\, Denia\, Alicante\, 03700\, España
CATEGORIES:Feria,Festival
ATTACH;FMTTYPE=image/jpeg:https://disfruta-denia.com/wp-content/uploads/2023/05/347585552_948057926432424_176318164821354362_n.jpg
END:VEVENT
END:VCALENDAR