BEGIN:VCALENDAR
VERSION:2.0
PRODID:-//Disfruta Denia - ECPv6.15.20//NONSGML v1.0//EN
CALSCALE:GREGORIAN
METHOD:PUBLISH
X-WR-CALNAME:Disfruta Denia
X-ORIGINAL-URL:https://disfruta-denia.com
X-WR-CALDESC:Eventos para Disfruta Denia
REFRESH-INTERVAL;VALUE=DURATION:PT1H
X-Robots-Tag:noindex
X-PUBLISHED-TTL:PT1H
BEGIN:VTIMEZONE
TZID:Europe/Madrid
BEGIN:DAYLIGHT
TZOFFSETFROM:+0100
TZOFFSETTO:+0200
TZNAME:CEST
DTSTART:20220327T010000
END:DAYLIGHT
BEGIN:STANDARD
TZOFFSETFROM:+0200
TZOFFSETTO:+0100
TZNAME:CET
DTSTART:20221030T010000
END:STANDARD
BEGIN:DAYLIGHT
TZOFFSETFROM:+0100
TZOFFSETTO:+0200
TZNAME:CEST
DTSTART:20230326T010000
END:DAYLIGHT
BEGIN:STANDARD
TZOFFSETFROM:+0200
TZOFFSETTO:+0100
TZNAME:CET
DTSTART:20231029T010000
END:STANDARD
BEGIN:DAYLIGHT
TZOFFSETFROM:+0100
TZOFFSETTO:+0200
TZNAME:CEST
DTSTART:20240331T010000
END:DAYLIGHT
BEGIN:STANDARD
TZOFFSETFROM:+0200
TZOFFSETTO:+0100
TZNAME:CET
DTSTART:20241027T010000
END:STANDARD
END:VTIMEZONE
BEGIN:VEVENT
DTSTART;TZID=Europe/Madrid:20231115T200000
DTEND;TZID=Europe/Madrid:20231115T200000
DTSTAMP:20260422T121621
CREATED:20230919T072349Z
LAST-MODIFIED:20230919T073600Z
UID:10013695-1700078400-1700078400@disfruta-denia.com
SUMMARY:DÉNIA INTERNATIONAL PIANO FESTIVAL 2023: ROMA-PARIS EXPRESS
DESCRIPTION:15 nov. ROMA-PARIS EXPRESS \nGaia Federica Caporiccio\, Suiza \nShe has performed as a solo pianist twice with the Philarmonic Michail Jora (Bacau – Romania)\, as well as with the Collegium Tibertinum Orchestra\, the Calabria Youth Orchestra and the Musici di Parma Orchestra. She has attended masterclasses with A. Jasinski\, N. Trull\, R. Cappello\, A. Delle Vigne\, F. Bidini\, M. Crudeli\, V. Balzani\, P. De Maria\, C. Martinez\, J. Swann\, A. Lucchesini\, P. Rattalino. She is passionately dedicated to the rediscovery of lesser-known Italian composers. In 2020 she began the recording of the Giovanni Sgambati Complete Piano Works for the label Brilliant Classics in 4 CDs. The first volume (2 CD) was published in 2022\, the second one (2 CD) is scheduled for 2023. Also for Brilliant Classics\, in 2020 she recorded the Concerto Gregoriano of P. A. Yon with the organist Tommaso Mazzoletti in Lausanne Cathedral.
URL:https://disfruta-denia.com/evento/denia-international-piano-festival-2023-roma-paris-express/
LOCATION:Teatro Auditorio Centro Social\, 4 Carrer Calderón\, Dénia\, VC\, 03700\, Spain
CATEGORIES:Concierto,Festival,Música
ATTACH;FMTTYPE=image/png:https://disfruta-denia.com/wp-content/uploads/2023/09/stacks-image-a7171a8.png
ORGANIZER;CN="Denia Cultura":MAILTO:cultura@ayto-denia.es
END:VEVENT
BEGIN:VEVENT
DTSTART;TZID=Europe/Madrid:20231129T200000
DTEND;TZID=Europe/Madrid:20231129T200000
DTSTAMP:20260422T121621
CREATED:20230919T073002Z
LAST-MODIFIED:20230919T073546Z
UID:10013696-1701288000-1701288000@disfruta-denia.com
SUMMARY:DÉNIA INTERNATIONAL PIANO FESTIVAL 2023: FRANZ LISZT CENTER
DESCRIPTION:29 nov. FRANZ LISZT CENTER  \nMihaela Manea\, Romania \nMihaela has won numerous prizes. She was a prize winner in the Siena International Piano Competition (2022). She received the Pianists’ Award (1st prize) at the International Summer Academy in Reichenau\, Austria (2021)\, the Benjamin Prize of the Wolfgang Boesch Foundation in 2020 (for outstanding achievements in her years of studies at the University of Music in Vienna)\, the International Piano Competition for Young Musicians in Enschede\, Netherlands (3rd Prize und Press Prize) and the Transylvanian International Piano Competiton (Dinu Lipatti Prize).
URL:https://disfruta-denia.com/evento/denia-international-piano-festival-2023-franz-liszt-center/
LOCATION:Teatro Auditorio Centro Social\, 4 Carrer Calderón\, Dénia\, VC\, 03700\, Spain
CATEGORIES:Concierto,Festival,Música
ATTACH;FMTTYPE=image/png:https://disfruta-denia.com/wp-content/uploads/2023/09/stacks-image-e0eb938.png
ORGANIZER;CN="Denia Cultura":MAILTO:cultura@ayto-denia.es
END:VEVENT
END:VCALENDAR