BEGIN:VCALENDAR
VERSION:2.0
PRODID:-//Disfruta Denia - ECPv6.15.20//NONSGML v1.0//EN
CALSCALE:GREGORIAN
METHOD:PUBLISH
X-WR-CALNAME:Disfruta Denia
X-ORIGINAL-URL:https://disfruta-denia.com
X-WR-CALDESC:Eventos para Disfruta Denia
REFRESH-INTERVAL;VALUE=DURATION:PT1H
X-Robots-Tag:noindex
X-PUBLISHED-TTL:PT1H
BEGIN:VTIMEZONE
TZID:Europe/Madrid
BEGIN:DAYLIGHT
TZOFFSETFROM:+0100
TZOFFSETTO:+0200
TZNAME:CEST
DTSTART:20220327T010000
END:DAYLIGHT
BEGIN:STANDARD
TZOFFSETFROM:+0200
TZOFFSETTO:+0100
TZNAME:CET
DTSTART:20221030T010000
END:STANDARD
BEGIN:DAYLIGHT
TZOFFSETFROM:+0100
TZOFFSETTO:+0200
TZNAME:CEST
DTSTART:20230326T010000
END:DAYLIGHT
BEGIN:STANDARD
TZOFFSETFROM:+0200
TZOFFSETTO:+0100
TZNAME:CET
DTSTART:20231029T010000
END:STANDARD
BEGIN:DAYLIGHT
TZOFFSETFROM:+0100
TZOFFSETTO:+0200
TZNAME:CEST
DTSTART:20240331T010000
END:DAYLIGHT
BEGIN:STANDARD
TZOFFSETFROM:+0200
TZOFFSETTO:+0100
TZNAME:CET
DTSTART:20241027T010000
END:STANDARD
END:VTIMEZONE
BEGIN:VEVENT
DTSTART;TZID=Europe/Madrid:20231213T200000
DTEND;TZID=Europe/Madrid:20231213T200000
DTSTAMP:20260422T103813
CREATED:20230919T073218Z
LAST-MODIFIED:20230919T073218Z
UID:10013697-1702497600-1702497600@disfruta-denia.com
SUMMARY:DÉNIA INTERNATIONAL PIANO FESTIVAL 2023: DEDICATION
DESCRIPTION:13 des./ dic.  DEDICATION \nTsisana KikAbidze\, Georgia \nGifted with a special charisma\, technique and musicality\, Tsisana comes from the class of Alexander Gerber in the finest piano school in Georgia. She is dedicated to merging quality of performance with artistic message\, and Tsisana’s performances are always special and unforgettable.
URL:https://disfruta-denia.com/evento/denia-international-piano-festival-2023-dedication/
LOCATION:Teatro Auditorio Centro Social\, 4 Carrer Calderón\, Dénia\, VC\, 03700\, Spain
CATEGORIES:Concierto,Festival,Música
ATTACH;FMTTYPE=image/png:https://disfruta-denia.com/wp-content/uploads/2023/09/stacks-image-e0cbcf3.png
ORGANIZER;CN="Denia Cultura":MAILTO:cultura@ayto-denia.es
END:VEVENT
END:VCALENDAR