BEGIN:VCALENDAR
VERSION:2.0
PRODID:-//Disfruta Denia - ECPv6.15.20//NONSGML v1.0//EN
CALSCALE:GREGORIAN
METHOD:PUBLISH
X-ORIGINAL-URL:https://disfruta-denia.com
X-WR-CALDESC:Eventos para Disfruta Denia
REFRESH-INTERVAL;VALUE=DURATION:PT1H
X-Robots-Tag:noindex
X-PUBLISHED-TTL:PT1H
BEGIN:VTIMEZONE
TZID:Europe/Madrid
BEGIN:DAYLIGHT
TZOFFSETFROM:+0100
TZOFFSETTO:+0200
TZNAME:CEST
DTSTART:20230326T010000
END:DAYLIGHT
BEGIN:STANDARD
TZOFFSETFROM:+0200
TZOFFSETTO:+0100
TZNAME:CET
DTSTART:20231029T010000
END:STANDARD
BEGIN:DAYLIGHT
TZOFFSETFROM:+0100
TZOFFSETTO:+0200
TZNAME:CEST
DTSTART:20240331T010000
END:DAYLIGHT
BEGIN:STANDARD
TZOFFSETFROM:+0200
TZOFFSETTO:+0100
TZNAME:CET
DTSTART:20241027T010000
END:STANDARD
BEGIN:DAYLIGHT
TZOFFSETFROM:+0100
TZOFFSETTO:+0200
TZNAME:CEST
DTSTART:20250330T010000
END:DAYLIGHT
BEGIN:STANDARD
TZOFFSETFROM:+0200
TZOFFSETTO:+0100
TZNAME:CET
DTSTART:20251026T010000
END:STANDARD
END:VTIMEZONE
BEGIN:VEVENT
DTSTART;TZID=Europe/Madrid:20241003T200000
DTEND;TZID=Europe/Madrid:20241003T200000
DTSTAMP:20260421T171254
CREATED:20240924T120958Z
LAST-MODIFIED:20240924T120958Z
UID:10019616-1727985600-1727985600@disfruta-denia.com
SUMMARY:DÉNIA INTERNATIONAL PIANO FESTIVAL 2024: Orquesta para cuatro manos
DESCRIPTION:dia 3 \nOrquesta para cuatro manos. \nDuo Matarrese-Aventaggiato\, Italia \n  \nDia 31 \nProdigios. \nPianistas prodigios de Francia y España + Miriam Székely\, danza contemporánea \n  \nEntrada: 15 €.  Abonament als 5 concerts / Abono a los 5 conciertos: 50 €  en https://www.notikumi.com  \nEn taquilla: dos hores abans/dos horas antes. \nOrganitza/organiza: Asociación Arts Alta – Ajuntament de Dénia.   + INFO.: https://www.arsaltacultural.com 
URL:https://disfruta-denia.com/evento/denia-international-piano-festival-2024-orquesta-para-cuatro-manos/
LOCATION:Teatro Auditorio Centro Social\, 4 Carrer Calderón\, Dénia\, VC\, 03700\, Spain
CATEGORIES:Concierto,Festival,Música
ATTACH;FMTTYPE=image/png:https://disfruta-denia.com/wp-content/uploads/2024/09/1-PIANO-DIA-3.png
ORGANIZER;CN="Denia Cultura":MAILTO:cultura@ayto-denia.es
END:VEVENT
BEGIN:VEVENT
DTSTART;TZID=Europe/Madrid:20241031T200000
DTEND;TZID=Europe/Madrid:20241031T200000
DTSTAMP:20260421T171254
CREATED:20240924T121218Z
LAST-MODIFIED:20240924T121218Z
UID:10019617-1730404800-1730404800@disfruta-denia.com
SUMMARY:DÉNIA INTERNATIONAL PIANO FESTIVAL 2024: Prodigios
DESCRIPTION:Dia 31 \nProdigios. \nPianistas prodigios de Francia y España + Miriam Székely\, danza contemporánea \n  \nEntrada: 15 €.  Abonament als 5 concerts / Abono a los 5 conciertos: 50 €  en https://www.notikumi.com  \nEn taquilla: dos hores abans/dos horas antes. \nOrganitza/organiza: Asociación Arts Alta – Ajuntament de Dénia.   + INFO.: https://www.arsaltacultural.com 
URL:https://disfruta-denia.com/evento/denia-international-piano-festival-2024-prodigios/
LOCATION:Teatro Auditorio Centro Social\, 4 Carrer Calderón\, Dénia\, VC\, 03700\, Spain
CATEGORIES:Concierto,Festival,Música
ATTACH;FMTTYPE=image/png:https://disfruta-denia.com/wp-content/uploads/2024/09/12-PIANO-DIA-31-e1727179928267.png
END:VEVENT
END:VCALENDAR