BEGIN:VCALENDAR
VERSION:2.0
PRODID:-//Disfruta Denia - ECPv6.15.20//NONSGML v1.0//EN
CALSCALE:GREGORIAN
METHOD:PUBLISH
X-ORIGINAL-URL:https://disfruta-denia.com
X-WR-CALDESC:Eventos para Disfruta Denia
REFRESH-INTERVAL;VALUE=DURATION:PT1H
X-Robots-Tag:noindex
X-PUBLISHED-TTL:PT1H
BEGIN:VTIMEZONE
TZID:Europe/Madrid
BEGIN:DAYLIGHT
TZOFFSETFROM:+0100
TZOFFSETTO:+0200
TZNAME:CEST
DTSTART:20230326T010000
END:DAYLIGHT
BEGIN:STANDARD
TZOFFSETFROM:+0200
TZOFFSETTO:+0100
TZNAME:CET
DTSTART:20231029T010000
END:STANDARD
BEGIN:DAYLIGHT
TZOFFSETFROM:+0100
TZOFFSETTO:+0200
TZNAME:CEST
DTSTART:20240331T010000
END:DAYLIGHT
BEGIN:STANDARD
TZOFFSETFROM:+0200
TZOFFSETTO:+0100
TZNAME:CET
DTSTART:20241027T010000
END:STANDARD
BEGIN:DAYLIGHT
TZOFFSETFROM:+0100
TZOFFSETTO:+0200
TZNAME:CEST
DTSTART:20250330T010000
END:DAYLIGHT
BEGIN:STANDARD
TZOFFSETFROM:+0200
TZOFFSETTO:+0100
TZNAME:CET
DTSTART:20251026T010000
END:STANDARD
END:VTIMEZONE
BEGIN:VEVENT
DTSTART;TZID=Europe/Madrid:20241116T100000
DTEND;TZID=Europe/Madrid:20241116T233000
DTSTAMP:20260421T151253
CREATED:20241112T183921Z
LAST-MODIFIED:20241112T183951Z
UID:10020282-1731751200-1731799800@disfruta-denia.com
SUMMARY:JoaFest festival 2024
DESCRIPTION:De 10 a 0.00 horas\, en el espacio de Juventud\, se han organizado juegos de rol y de mesa\, escape rooms\, una exhibición de K-pop\, feria de juegos y una ludoteca familiar\nEl festival de ocio alternativo y saludable JoaFest celebra su segunda edición el próximo sábado\, 16 de noviembre\, en las instalaciones de Juventud (Ronda Muralles\, 42)\, a partir de las 10 de la mañana. El festival está impulsado\, creado y organizado por el grupo Embajadores Jóvenes de Dénia\, un grupo de jóvenes de 18 a 30 años que participan muy activamente con la Concejalía de Juventud\, a la que informan de las necesidades de la juventud de la ciudad que recogen en los diferentes espacios de los jóvenes y\, a la vez\, informan a la juventud local de las actividades\, becas\, talleres o acciones formativas que organiza el Ajuntament de Dénia. \n  \nEsta mañana el concejal de Juventud\, Valentí Alcalà\, ha presentado el II JoaFest acompañado por Luis Terrades\, representante de los Embajadores Jóvenes de Dénia y por Pau Ferrer\, presidente de Tablero\, la asociación de juegos de mesa de la Marina Alta. \n  \nSerá precisamente voluntariado de Tablero el encargado de organizar una de las iniciativas nuevas de este año: una ludoteca infantil y familiar para que las niñas y niños de 6 a 12 años compartan juegos de mesa con sus familiares durante toda la jornada. \n  \nOtra de las novedades de esta segunda edición es la duración\, que se alarga hasta la medianoche a petición de los participantes del año pasado. \n  \nLa participación es gratuita y solo hay que inscribirse a los talleres y actividades donde se quiere participar en el punto de información que se instalará ese día. \n  \n¿Y qué encontraremos en el JoaFest? \n  \nEl concejal de Juventud ha explicado que el espacio de Juventud se dividirá en 8 áreas donde se repartirán las actividades: juegos de rol\, juegos de mesa\, escape rooms\, una feria de juegos\, la ludoteca familiar y una exhibición de K-pop. Quien quiera participar en esta última actividad\, puede inscribirse ya por correo electrónico a karnivaldance@gmail.com\, indicando nombre y apellidos y el nombre del tema que quiere interpretar\, adjuntando una pista de audio. \n  \nValentí Alcalà ha destacado que el JoaFest “es el resultado del compromiso y dedicación de los jóvenes de la ciudad\, que han diseñado el proyecto”\, una iniciativa “de ocio saludable que fomenta de la creatividad\, la diversión y la convivencia\, a la que estamos muy orgullosos de apoyar”. Asimismo\, ha agradecido la colaboración a las empresas y asociaciones que han apoyado la iniciativa.
URL:https://disfruta-denia.com/evento/joafest-festival-2024/
LOCATION:Edificio Joventut\, Ronda Muralles\, Dénia\, 03700\, España
CATEGORIES:Festival
ATTACH;FMTTYPE=image/jpeg:https://disfruta-denia.com/wp-content/uploads/2024/11/7186f2.jpg
END:VEVENT
END:VCALENDAR