BEGIN:VCALENDAR
VERSION:2.0
PRODID:-//Disfruta Denia - ECPv6.15.20//NONSGML v1.0//EN
CALSCALE:GREGORIAN
METHOD:PUBLISH
X-WR-CALNAME:Disfruta Denia
X-ORIGINAL-URL:https://disfruta-denia.com
X-WR-CALDESC:Eventos para Disfruta Denia
REFRESH-INTERVAL;VALUE=DURATION:PT1H
X-Robots-Tag:noindex
X-PUBLISHED-TTL:PT1H
BEGIN:VTIMEZONE
TZID:Europe/Madrid
BEGIN:DAYLIGHT
TZOFFSETFROM:+0100
TZOFFSETTO:+0200
TZNAME:CEST
DTSTART:20240331T010000
END:DAYLIGHT
BEGIN:STANDARD
TZOFFSETFROM:+0200
TZOFFSETTO:+0100
TZNAME:CET
DTSTART:20241027T010000
END:STANDARD
BEGIN:DAYLIGHT
TZOFFSETFROM:+0100
TZOFFSETTO:+0200
TZNAME:CEST
DTSTART:20250330T010000
END:DAYLIGHT
BEGIN:STANDARD
TZOFFSETFROM:+0200
TZOFFSETTO:+0100
TZNAME:CET
DTSTART:20251026T010000
END:STANDARD
BEGIN:DAYLIGHT
TZOFFSETFROM:+0100
TZOFFSETTO:+0200
TZNAME:CEST
DTSTART:20260329T010000
END:DAYLIGHT
BEGIN:STANDARD
TZOFFSETFROM:+0200
TZOFFSETTO:+0100
TZNAME:CET
DTSTART:20261025T010000
END:STANDARD
END:VTIMEZONE
BEGIN:VEVENT
DTSTART;TZID=Europe/Madrid:20250801T223000
DTEND;TZID=Europe/Madrid:20250801T223000
DTSTAMP:20260420T230528
CREATED:20250702T091334Z
LAST-MODIFIED:20250729T101727Z
UID:10021968-1754087400-1754087400@disfruta-denia.com
SUMMARY:XI Festival Jazz Denia - Pia Tedesco Quintet
DESCRIPTION:🎙️ El viernes\, 1 de agosto\, el concierto inaugural de esta undécima edición con Pía Tedesco Quintet\, que presentará en los 🌳 jardines de Torrecremada su proyecto «Las pioneras del swing en España».\nUn homenaje a grandes artistas\, avanzadas a su tiempo\, que rompieron moldes a ritmo de jazz. \n🕥 A las 22.30 h. \n🎫 https://www.notikumi.com/2025/8/1/xi-festival-jazz-denia-pia-tedesco-quintet
URL:https://disfruta-denia.com/evento/xi-festival-jazz-denia-pia-tedesco-quintet/
LOCATION:Parque de Torrecremada\, Carrer Germans Maristes\, Denia\, Alicante\, 03700\, España
CATEGORIES:Concierto,Festival,Música
ATTACH;FMTTYPE=image/png:https://disfruta-denia.com/wp-content/uploads/2025/07/jazz-dia-1.png
END:VEVENT
BEGIN:VEVENT
DTSTART;TZID=Europe/Madrid:20250807T223000
DTEND;TZID=Europe/Madrid:20250807T223000
DTSTAMP:20260420T230528
CREATED:20250702T091516Z
LAST-MODIFIED:20250702T091516Z
UID:10021969-1754605800-1754605800@disfruta-denia.com
SUMMARY:XI Festival Jazz Denia - David Hermlin Trio
DESCRIPTION:
URL:https://disfruta-denia.com/evento/xi-festival-jazz-denia-david-hermlin-trio/
LOCATION:Parque de Torrecremada\, Carrer Germans Maristes\, Denia\, Alicante\, 03700\, España
CATEGORIES:Concierto,Festival,Jazz,Música
ATTACH;FMTTYPE=image/png:https://disfruta-denia.com/wp-content/uploads/2025/07/2025-8-7-xi-festival-jazz-denia-david-hermlin-trio.png
END:VEVENT
BEGIN:VEVENT
DTSTART;TZID=Europe/Madrid:20250814T223000
DTEND;TZID=Europe/Madrid:20250814T223000
DTSTAMP:20260420T230528
CREATED:20250702T091651Z
LAST-MODIFIED:20250702T091651Z
UID:10021970-1755210600-1755210600@disfruta-denia.com
SUMMARY:XI Festival Jazz Denia - International Jazz Meeting: A night with Cole Porter
DESCRIPTION:
URL:https://disfruta-denia.com/evento/xi-festival-jazz-denia-international-jazz-meeting-a-night-with-cole-porter/
LOCATION:Parque de Torrecremada\, Carrer Germans Maristes\, Denia\, Alicante\, 03700\, España
CATEGORIES:Concierto,Festival,Jazz,Música
ATTACH;FMTTYPE=image/png:https://disfruta-denia.com/wp-content/uploads/2025/07/2025-8-14-xi-festival-jazz-denia-international-jazz-meeting-a-night-with-cole-porter.png
END:VEVENT
BEGIN:VEVENT
DTSTART;TZID=Europe/Madrid:20250821T223000
DTEND;TZID=Europe/Madrid:20250821T223000
DTSTAMP:20260420T230528
CREATED:20250702T091759Z
LAST-MODIFIED:20250702T091759Z
UID:10021971-1755815400-1755815400@disfruta-denia.com
SUMMARY:XI Festival Jazz Denia - Ronald Baker Quartet
DESCRIPTION:
URL:https://disfruta-denia.com/evento/xi-festival-jazz-denia-ronald-baker-quartet/
LOCATION:Parque de Torrecremada\, Carrer Germans Maristes\, Denia\, Alicante\, 03700\, España
CATEGORIES:Concierto,Festival,Jazz,Música
ATTACH;FMTTYPE=image/png:https://disfruta-denia.com/wp-content/uploads/2025/07/2025-8-21-xi-festival-jazz-denia-ronald-baker-quartet.png
END:VEVENT
END:VCALENDAR