BEGIN:VCALENDAR
VERSION:2.0
PRODID:-//Disfruta Denia - ECPv6.15.20//NONSGML v1.0//EN
CALSCALE:GREGORIAN
METHOD:PUBLISH
X-ORIGINAL-URL:https://disfruta-denia.com
X-WR-CALDESC:Eventos para Disfruta Denia
REFRESH-INTERVAL;VALUE=DURATION:PT1H
X-Robots-Tag:noindex
X-PUBLISHED-TTL:PT1H
BEGIN:VTIMEZONE
TZID:Europe/Madrid
BEGIN:DAYLIGHT
TZOFFSETFROM:+0100
TZOFFSETTO:+0200
TZNAME:CEST
DTSTART:20230326T010000
END:DAYLIGHT
BEGIN:STANDARD
TZOFFSETFROM:+0200
TZOFFSETTO:+0100
TZNAME:CET
DTSTART:20231029T010000
END:STANDARD
BEGIN:DAYLIGHT
TZOFFSETFROM:+0100
TZOFFSETTO:+0200
TZNAME:CEST
DTSTART:20240331T010000
END:DAYLIGHT
BEGIN:STANDARD
TZOFFSETFROM:+0200
TZOFFSETTO:+0100
TZNAME:CET
DTSTART:20241027T010000
END:STANDARD
BEGIN:DAYLIGHT
TZOFFSETFROM:+0100
TZOFFSETTO:+0200
TZNAME:CEST
DTSTART:20250330T010000
END:DAYLIGHT
BEGIN:STANDARD
TZOFFSETFROM:+0200
TZOFFSETTO:+0100
TZNAME:CET
DTSTART:20251026T010000
END:STANDARD
END:VTIMEZONE
BEGIN:VEVENT
DTSTART;TZID=Europe/Madrid:20240429T180000
DTEND;TZID=Europe/Madrid:20240501T233000
DTSTAMP:20260424T090032
CREATED:20240424T170259Z
LAST-MODIFIED:20240424T170259Z
UID:10018211-1714413600-1714606200@disfruta-denia.com
SUMMARY:5to aniversario Magazinos
DESCRIPTION:¡Cumplimos nuestro primer lustro y esto hay que celebrarlo! Del 29 de abril al 1 de mayo hemos programado conciertos\, mercado de productos artesanales\, una muestra con carteles ilustrados para nosotros por Paco Roca\, Carla Fuentes\, África Pitarch o Lawerta\, desfile con los chicos de APROSDECO y\, ¡mucho más! Esta ilustración maravillosa para conmemorar nuestro quinto aniversario es de @dakotahernandez.ai Te esperamos para festejar con nosotros estos 5 años y brindar per un porró d’anys més!
URL:https://disfruta-denia.com/evento/5to-aniversario-magazinos/
LOCATION:Els Magazinos\, Carrer Pont 19\, Denia\, Alicante\, 03700\, España
CATEGORIES:Fiesta,Gastronomía
ATTACH;FMTTYPE=image/jpeg:https://disfruta-denia.com/wp-content/uploads/2024/04/436305335_844058874415936_8916239103208624710_n.jpg
END:VEVENT
END:VCALENDAR