BEGIN:VCALENDAR
VERSION:2.0
PRODID:-//Disfruta Denia - ECPv6.15.20//NONSGML v1.0//EN
CALSCALE:GREGORIAN
METHOD:PUBLISH
X-WR-CALNAME:Disfruta Denia
X-ORIGINAL-URL:https://disfruta-denia.com
X-WR-CALDESC:Eventos para Disfruta Denia
REFRESH-INTERVAL;VALUE=DURATION:PT1H
X-Robots-Tag:noindex
X-PUBLISHED-TTL:PT1H
BEGIN:VTIMEZONE
TZID:Europe/Madrid
BEGIN:DAYLIGHT
TZOFFSETFROM:+0100
TZOFFSETTO:+0200
TZNAME:CEST
DTSTART:20230326T010000
END:DAYLIGHT
BEGIN:STANDARD
TZOFFSETFROM:+0200
TZOFFSETTO:+0100
TZNAME:CET
DTSTART:20231029T010000
END:STANDARD
BEGIN:DAYLIGHT
TZOFFSETFROM:+0100
TZOFFSETTO:+0200
TZNAME:CEST
DTSTART:20240331T010000
END:DAYLIGHT
BEGIN:STANDARD
TZOFFSETFROM:+0200
TZOFFSETTO:+0100
TZNAME:CET
DTSTART:20241027T010000
END:STANDARD
BEGIN:DAYLIGHT
TZOFFSETFROM:+0100
TZOFFSETTO:+0200
TZNAME:CEST
DTSTART:20250330T010000
END:DAYLIGHT
BEGIN:STANDARD
TZOFFSETFROM:+0200
TZOFFSETTO:+0100
TZNAME:CET
DTSTART:20251026T010000
END:STANDARD
END:VTIMEZONE
BEGIN:VEVENT
DTSTART;TZID=Europe/Madrid:20240608T090000
DTEND;TZID=Europe/Madrid:20240608T180000
DTSTAMP:20260424T044919
CREATED:20240514T180445Z
LAST-MODIFIED:20240514T180445Z
UID:10018596-1717837200-1717869600@disfruta-denia.com
SUMMARY:II TROBADA NACIONAL DE CAPS D'ESQUADRA
DESCRIPTION:«Arrancà de Diana» \n👉Ací vos deixem tota la informació de la II Trobada Nacional de Caps d’Esquadra «Arrancà de Diana» que organitza la @Undef\, el pròxim 📅 dissabte 8 de juny\, amb la col·laboració de la Femmicc Dénia i de la 💛💙❤️ Filà Deniers. \nℹ️ En este esdeveniment podrem gaudir de les «arrancades de Diana» dels 🪓⚔️ caps d’esquadra de poblacions festeres de tot l’àmbit nacional 🌙✝️ Comunitat Valenciana\, Múrcia\, Andalusia\, Catalunya\, Castella la Manxa… tots ells\, a ritme de 🎶🎷🎵 pasdobles dianers. \n✔️ DISSABTE 8 DE JUNY DE 2024: \n🕘 9:00 h.: Recepció de participants. 🥪 9:30 h.: Esmorzar 🕙10:00 h.: Reunió caps d’esquadra 🪓⚔️ Des de les 10:30 h. fins a 13:30 h.: Exhibició de caps d’esquadra. 🎷 13:30 h. Passacarrers pel centre de Dénia. 🥘 14.30 h.: Dinar 🎶Des de les 15.30 h. fins a 18:00 h.: Música a càrrec de la xaranga i barra. \n✳️ Preu de l’esmorzar i dinar: 💶 32 € \n📝 FORMULARI D’INSCRIPCIÓ: https://forms.gle/Uny3WeETbRJpCtUu8 📅 TERMINI MÀXIM D’INSCRIPCIÓ: Fins dimarts 4 de juny \n🙌 Vine a gaudir amb nosaltres de l’espectacle de les arrancades de Diana i de la festa de Moros i Cristians!! 🌙 ✝️
URL:https://disfruta-denia.com/evento/ii-trobada-nacional-de-caps-desquadra/
LOCATION:Denia\, Denia\, Alicante\, 03700\, España
CATEGORIES:Cultura,Desfile,Fiesta
ATTACH;FMTTYPE=image/jpeg:https://disfruta-denia.com/wp-content/uploads/2024/05/II-TROBADA-NACIONAL-DE-CAPS-DESQUADRA.jpeg
ORGANIZER;CN="Femmicc":MAILTO:SECRETARIA@FEMMICCDENIA.COM
END:VEVENT
BEGIN:VEVENT
DTSTART;TZID=Europe/Madrid:20240623T200000
DTEND;TZID=Europe/Madrid:20240623T235900
DTSTAMP:20260424T044919
CREATED:20240621T102601Z
LAST-MODIFIED:20240622T093315Z
UID:10018789-1719172800-1719187140@disfruta-denia.com
SUMMARY:Fogueres de Sant Joan
DESCRIPTION:Casa Recoleto nos ha convocado para organizar una celebración épica de las Fiestas de San Juan en Jávea. Este año\, nos lanzamos al aire libre para disfrutar en comunidad como nunca antes: ¡una peña vibrante y llena de tradición sanjuanera! Prepárate para vivir una experiencia única y memorable. ☝🏻🤟🏻
URL:https://disfruta-denia.com/evento/fogueres-de-sant-joan/
LOCATION:Casa Recoleto\, CARRER AZORÍN 4\, Jávea\, Alicante\, España
CATEGORIES:Fiesta
ATTACH;FMTTYPE=image/jpeg:https://disfruta-denia.com/wp-content/uploads/2024/06/fogueres.jpeg
END:VEVENT
END:VCALENDAR