BEGIN:VCALENDAR
VERSION:2.0
PRODID:-//Disfruta Denia - ECPv6.15.20//NONSGML v1.0//EN
CALSCALE:GREGORIAN
METHOD:PUBLISH
X-WR-CALNAME:Disfruta Denia
X-ORIGINAL-URL:https://disfruta-denia.com
X-WR-CALDESC:Eventos para Disfruta Denia
REFRESH-INTERVAL;VALUE=DURATION:PT1H
X-Robots-Tag:noindex
X-PUBLISHED-TTL:PT1H
BEGIN:VTIMEZONE
TZID:Europe/Madrid
BEGIN:DAYLIGHT
TZOFFSETFROM:+0100
TZOFFSETTO:+0200
TZNAME:CEST
DTSTART:20230326T010000
END:DAYLIGHT
BEGIN:STANDARD
TZOFFSETFROM:+0200
TZOFFSETTO:+0100
TZNAME:CET
DTSTART:20231029T010000
END:STANDARD
BEGIN:DAYLIGHT
TZOFFSETFROM:+0100
TZOFFSETTO:+0200
TZNAME:CEST
DTSTART:20240331T010000
END:DAYLIGHT
BEGIN:STANDARD
TZOFFSETFROM:+0200
TZOFFSETTO:+0100
TZNAME:CET
DTSTART:20241027T010000
END:STANDARD
BEGIN:DAYLIGHT
TZOFFSETFROM:+0100
TZOFFSETTO:+0200
TZNAME:CEST
DTSTART:20250330T010000
END:DAYLIGHT
BEGIN:STANDARD
TZOFFSETFROM:+0200
TZOFFSETTO:+0100
TZNAME:CET
DTSTART:20251026T010000
END:STANDARD
END:VTIMEZONE
BEGIN:VEVENT
DTSTART;TZID=Europe/Madrid:20241008T170000
DTEND;TZID=Europe/Madrid:20241008T190000
DTSTAMP:20260423T212314
CREATED:20241008T064006Z
LAST-MODIFIED:20241008T064006Z
UID:10019650-1728406800-1728414000@disfruta-denia.com
SUMMARY:Juegos tradicionales valencianos 9 d'octubre
DESCRIPTION:Con motivo del Día de la Comunitat Valenciana\, el Ayuntamiento de Dénia ha organizado\, esta semana\, unos eventos muy especiales. HOY podremos disfrutar de:\nA las 17.00 horas en la plaza del Consell\, conoceremos de primera mano los Juegos Tradicionales Valencianos mediante una exhibición profesional… ¡pero también con participación abierta de juegos!\nA las 19.00 horas\, se inaugurará el Museo Arqueológico en la calle Cavallers 3.\nA las 22.30h\, disfrutaremos con la música del grupo Figa Flawas en calle La Vía.
URL:https://disfruta-denia.com/evento/juegos-tradicionales-valencianos-9-doctubre/
LOCATION:Plaza del Consell\, Carrer de la Mar\, Denia\, 03700
CATEGORIES:Fiesta
ATTACH;FMTTYPE=image/jpeg:https://disfruta-denia.com/wp-content/uploads/2024/10/462143446_947263497441431_1149520784130518418_n.jpg
END:VEVENT
END:VCALENDAR