BEGIN:VCALENDAR
VERSION:2.0
PRODID:-//Disfruta Denia - ECPv6.15.20//NONSGML v1.0//EN
CALSCALE:GREGORIAN
METHOD:PUBLISH
X-WR-CALNAME:Disfruta Denia
X-ORIGINAL-URL:https://disfruta-denia.com
X-WR-CALDESC:Eventos para Disfruta Denia
REFRESH-INTERVAL;VALUE=DURATION:PT1H
X-Robots-Tag:noindex
X-PUBLISHED-TTL:PT1H
BEGIN:VTIMEZONE
TZID:Europe/Madrid
BEGIN:DAYLIGHT
TZOFFSETFROM:+0100
TZOFFSETTO:+0200
TZNAME:CEST
DTSTART:20240331T010000
END:DAYLIGHT
BEGIN:STANDARD
TZOFFSETFROM:+0200
TZOFFSETTO:+0100
TZNAME:CET
DTSTART:20241027T010000
END:STANDARD
BEGIN:DAYLIGHT
TZOFFSETFROM:+0100
TZOFFSETTO:+0200
TZNAME:CEST
DTSTART:20250330T010000
END:DAYLIGHT
BEGIN:STANDARD
TZOFFSETFROM:+0200
TZOFFSETTO:+0100
TZNAME:CET
DTSTART:20251026T010000
END:STANDARD
BEGIN:DAYLIGHT
TZOFFSETFROM:+0100
TZOFFSETTO:+0200
TZNAME:CEST
DTSTART:20260329T010000
END:DAYLIGHT
BEGIN:STANDARD
TZOFFSETFROM:+0200
TZOFFSETTO:+0100
TZNAME:CET
DTSTART:20261025T010000
END:STANDARD
END:VTIMEZONE
BEGIN:VEVENT
DTSTART;TZID=Europe/Madrid:20251108T170000
DTEND;TZID=Europe/Madrid:20251108T170000
DTSTAMP:20260420T202450
CREATED:20251008T084554Z
LAST-MODIFIED:20251008T084554Z
UID:10022493-1762621200-1762621200@disfruta-denia.com
SUMMARY:Fira de fires Ondara
DESCRIPTION:La Fira de Fires d’Ondara 2025 arriba carregada de música i festa!\n\n\nNo et perdes el concertàs del dissabte 8 de novembre a la Plaça de Bous! \n\n\n Actuacions en directe de:\n RAMONETS\n ABRIL\n LA FÚMIGA\n\n\n A partir de les 17.00h\n Plaça de Bous d’Ondara\n\n\n\n Venda d’entrades:\nPreferent empadronats: 6\, 7 i 8 d’octubre (Casa de Cultura\, 16.30–20.30h)\nGeneral web: des del 9 d’octubre a les 10.00h\n\n\n Preus:\n7 € empadronats (+12 anys)\n10 € general web (+12 anys)*\n5 € xiquets/es (+5 anys)\n0 € menors de 5 anys (amb entrada)\n Si tenies entrada per al Festacarrer 2024\, rebràs un codi descompte per correu!\n\n\n Accessos: Arena o Grada segons aforament. No es podrà canviar de zona.\n\n\n Comparteix-ho\, etiqueta als amics i prepara’t per a una nit inoblidable!
URL:https://disfruta-denia.com/evento/fira-de-fires-ondara/
LOCATION:Plaça de bous\, Ondara\, Plaza de toros\, Ondara\, 03760\, España
CATEGORIES:Concierto,Fiesta,Música
ATTACH;FMTTYPE=image/jpeg:https://disfruta-denia.com/wp-content/uploads/2025/10/560541926_17997504401827522_9204256476334535225_n.jpg
END:VEVENT
END:VCALENDAR