BEGIN:VCALENDAR
VERSION:2.0
PRODID:-//Disfruta Denia - ECPv6.15.20//NONSGML v1.0//EN
CALSCALE:GREGORIAN
METHOD:PUBLISH
X-WR-CALNAME:Disfruta Denia
X-ORIGINAL-URL:https://disfruta-denia.com
X-WR-CALDESC:Eventos para Disfruta Denia
REFRESH-INTERVAL;VALUE=DURATION:PT1H
X-Robots-Tag:noindex
X-PUBLISHED-TTL:PT1H
BEGIN:VTIMEZONE
TZID:Europe/Madrid
BEGIN:DAYLIGHT
TZOFFSETFROM:+0100
TZOFFSETTO:+0200
TZNAME:CEST
DTSTART:20220327T010000
END:DAYLIGHT
BEGIN:STANDARD
TZOFFSETFROM:+0200
TZOFFSETTO:+0100
TZNAME:CET
DTSTART:20221030T010000
END:STANDARD
BEGIN:DAYLIGHT
TZOFFSETFROM:+0100
TZOFFSETTO:+0200
TZNAME:CEST
DTSTART:20230326T010000
END:DAYLIGHT
BEGIN:STANDARD
TZOFFSETFROM:+0200
TZOFFSETTO:+0100
TZNAME:CET
DTSTART:20231029T010000
END:STANDARD
BEGIN:DAYLIGHT
TZOFFSETFROM:+0100
TZOFFSETTO:+0200
TZNAME:CEST
DTSTART:20240331T010000
END:DAYLIGHT
BEGIN:STANDARD
TZOFFSETFROM:+0200
TZOFFSETTO:+0100
TZNAME:CET
DTSTART:20241027T010000
END:STANDARD
END:VTIMEZONE
BEGIN:VEVENT
DTSTART;TZID=Europe/Madrid:20230211T113000
DTEND;TZID=Europe/Madrid:20230211T113000
DTSTAMP:20260425T044228
CREATED:20230112T140004Z
LAST-MODIFIED:20230112T140004Z
UID:10009829-1676115000-1676115000@disfruta-denia.com
SUMMARY:Cata abierta en La Abadía
DESCRIPTION:Por fin 🤩\nVuelven las catas abiertas en La Abadía\nPuedes venir sol@ o con más personas\, lo pasarás igual de bien 👌🏽\nVisita guiada al obrador artesanal y cata de 4 cervezas maridadas\nDura 90 minutos y cuesta 12€\nHay opciones vegetarianas\, sin gluten e incluso sin alcohol 😳\nReserva en ☎️
URL:https://disfruta-denia.com/evento/cata-abierta-en-la-abadia/
LOCATION:La Abadia\, calle Colón\, 7\, Denia\, Alicante\, 03700\, España
CATEGORIES:Cata,Gastronomía
ATTACH;FMTTYPE=image/png:https://disfruta-denia.com/wp-content/uploads/2023/01/Capture.png
END:VEVENT
BEGIN:VEVENT
DTSTART;TZID=Europe/Madrid:20230214T203000
DTEND;TZID=Europe/Madrid:20230214T203000
DTSTAMP:20260425T044228
CREATED:20230208T151533Z
LAST-MODIFIED:20230208T151533Z
UID:10009868-1676406600-1676406600@disfruta-denia.com
SUMMARY:Cena a ciegas San Valentín
DESCRIPTION:¿Buscas un plan diferente y divertido para San Valentín? En el Speak te proponemos CENAR A CIEGAS. Este año celebramos la III edición de la cena con más amor del año  La vista juega un papel fundamental en nuestra forma de disfrutar la comida. Descubre qué pasa cuando nos tapamos los ojos y el gusto\, el olfato y el tacto entran en acción. Elige tu menú\, que serà secreto \, ponte el antifaz antes de cada plato y juega a adivinar de qué se trata… El equipo Speak te guiará en todo momento. Indicanos en la reserva si tienes alguna alergia  Experiencia disponible en Dénia y Javea. Aforo limitado. Reserva tu mesa y sorprende a tu pareja\, ligue\, compi o amig@. Y que viva el amor en todas sus formas
URL:https://disfruta-denia.com/evento/cena-a-ciegas-san-valentin-2/
LOCATION:The Speak Denia\, Carrer del Pont\, 19\, Denia\, Alicante\, 03700\, España
CATEGORIES:Gastronomía
ATTACH;FMTTYPE=image/jpeg:https://disfruta-denia.com/wp-content/uploads/2023/02/329183069_2067507533440470_5026145061834079986_n.jpg
END:VEVENT
BEGIN:VEVENT
DTSTART;VALUE=DATE:20230217
DTEND;VALUE=DATE:20230314
DTSTAMP:20260425T044228
CREATED:20230120T094522Z
LAST-MODIFIED:20230216T092455Z
UID:10009834-1676606400-1678679999@disfruta-denia.com
SUMMARY:XXI Ruta de la tapa Denia
DESCRIPTION:La 21 edición de la Ruta de Tapas de Dénia que organiza GuiaME Comunicació con la colaboración de Turisme Dénia y la Asociación de Empresarios de Hostelería y Turismo de la Marina Alta (AEHTMA) se celebra del 17 de febrero al 12 de marzo con un total de 40 bares y restaurantes participantes. \n  \nEl precio de la tapa más bebida (caña\, vino\, vermú o Carnot) en los establecimientos participantes es de 4 euros. \n  \nEl concurso premia tanto a los locales concursantes como a los ruteros que prueben y valoren un mínimo de 15 tapas. \n  \nEn este enlace puedes consultar los locales que participan y la tapa que elaboran.
URL:https://disfruta-denia.com/evento/xxi-ruta-de-la-tapa-denia/
LOCATION:Denia\, Denia\, Alicante\, 03700\, España
CATEGORIES:Gastronomía
ATTACH;FMTTYPE=image/jpeg:https://disfruta-denia.com/wp-content/uploads/2023/01/326218444_1639996603088592_6086251610229279569_n.jpg
END:VEVENT
BEGIN:VEVENT
DTSTART;TZID=Europe/Madrid:20230217T193000
DTEND;TZID=Europe/Madrid:20230217T193000
DTSTAMP:20260425T044228
CREATED:20230208T125611Z
LAST-MODIFIED:20230216T084013Z
UID:10009865-1676662200-1676662200@disfruta-denia.com
SUMMARY:Cata Carnot de Denia & música en directo
DESCRIPTION:Este viernes a las 20:00 no puedes perderte la cata de Carnot\, a cargo de Toni Fornés\, y la música en vivo de Lluís el Sifoner .⁣\n⁣\n𝗖𝗔𝗥𝗡𝗢𝗧: 𝗘𝗹 𝘁𝗿𝗮𝗱𝗶𝗰𝗶𝗼𝗻𝗮𝗹 𝗮𝗽𝗲𝗿𝗶𝘁𝗶𝘃𝗼 𝗱𝗲 𝗗𝗲́𝗻𝗶𝗮; ¡𝗱𝗲 𝗮𝗵𝗼𝗿𝗮 𝘆 𝘀𝗶𝗲𝗺𝗽𝗿𝗲!. ⁣\nYa sabes…¿𝗖𝗹𝗮𝘀𝗶𝗰𝗼𝘁 𝗼́ 𝗠𝗼𝗱𝗲𝗿𝗻𝗼𝘁 ?⁣\n¡¡¡ Salud !!! ⁣
URL:https://disfruta-denia.com/evento/cata-carnot-de-denia-musica-en-directo/
LOCATION:Les Tramoies\, C/ de Patricio Ferrándiz\, 88\, Denia\, Alicante\, 03700\, España
CATEGORIES:Cata,Gastronomía,Música
ATTACH;FMTTYPE=image/png:https://disfruta-denia.com/wp-content/uploads/2023/02/Cata-Carnot.png
END:VEVENT
BEGIN:VEVENT
DTSTART;TZID=Europe/Madrid:20230228T100000
DTEND;TZID=Europe/Madrid:20230228T150000
DTSTAMP:20260425T044228
CREATED:20230220T135833Z
LAST-MODIFIED:20230220T141008Z
UID:10009932-1677578400-1677596400@disfruta-denia.com
SUMMARY:XI Concurso Internacional de Cocina Creativa de la Gamba Roja de Dénia
DESCRIPTION:Marcad en el calendario esta fecha… MARTES 28 FEBRERO!\n\n\nVen al mercado municipal de Dénia y disfruta con nosotros del especial ambiente que hay en el Concurso Internacional de Cocina Creativa de la Gamba Roja de Dénia.\n¡Un jurado de excepción que estará con la mirada atenta y el paladar dispuesto a degustar las creaciones de los 8 participantes!\n\n\nMás info  https://gambarojadedenia.com
URL:https://disfruta-denia.com/evento/xi-concurso-internacional-de-cocina-creativa-de-la-gamba-roja-de-denia/
LOCATION:Mercado Municipal de Dénia\, Carrer Magallanes\, 16\, Denia\, Alicante\, 03700\, España
CATEGORIES:Gastronomía
ATTACH;FMTTYPE=image/jpeg:https://disfruta-denia.com/wp-content/uploads/2023/02/327896300_527532969235336_8193736264098245856_n.jpg
END:VEVENT
END:VCALENDAR