BEGIN:VCALENDAR
VERSION:2.0
PRODID:-//Disfruta Denia - ECPv6.15.20//NONSGML v1.0//EN
CALSCALE:GREGORIAN
METHOD:PUBLISH
X-WR-CALNAME:Disfruta Denia
X-ORIGINAL-URL:https://disfruta-denia.com
X-WR-CALDESC:Eventos para Disfruta Denia
REFRESH-INTERVAL;VALUE=DURATION:PT1H
X-Robots-Tag:noindex
X-PUBLISHED-TTL:PT1H
BEGIN:VTIMEZONE
TZID:Europe/Madrid
BEGIN:DAYLIGHT
TZOFFSETFROM:+0100
TZOFFSETTO:+0200
TZNAME:CEST
DTSTART:20220327T010000
END:DAYLIGHT
BEGIN:STANDARD
TZOFFSETFROM:+0200
TZOFFSETTO:+0100
TZNAME:CET
DTSTART:20221030T010000
END:STANDARD
BEGIN:DAYLIGHT
TZOFFSETFROM:+0100
TZOFFSETTO:+0200
TZNAME:CEST
DTSTART:20230326T010000
END:DAYLIGHT
BEGIN:STANDARD
TZOFFSETFROM:+0200
TZOFFSETTO:+0100
TZNAME:CET
DTSTART:20231029T010000
END:STANDARD
BEGIN:DAYLIGHT
TZOFFSETFROM:+0100
TZOFFSETTO:+0200
TZNAME:CEST
DTSTART:20240331T010000
END:DAYLIGHT
BEGIN:STANDARD
TZOFFSETFROM:+0200
TZOFFSETTO:+0100
TZNAME:CET
DTSTART:20241027T010000
END:STANDARD
END:VTIMEZONE
BEGIN:VEVENT
DTSTART;TZID=Europe/Madrid:20230708T180000
DTEND;TZID=Europe/Madrid:20230708T180000
DTSTAMP:20260424T193537
CREATED:20230620T081038Z
LAST-MODIFIED:20230620T081038Z
UID:10011664-1688839200-1688839200@disfruta-denia.com
SUMMARY:X Festa del Batre i la 2ª Fira de la Coca
DESCRIPTION:Falten pocs dies per a celebrar el 10è aniversari del Mercat del Riurau. Ho farem el dissabte 8 de juliol\, amb la X Festa del Batre i la 2ª Fira de la Coca. Vos convidem a compartir amb nosaltres una vesprada de música\, gastronomia i harmonia. \n#MercatdelRiurau; #jesuspobre
URL:https://disfruta-denia.com/evento/x-festa-del-batre-i-la-2a-fira-de-la-coca/
LOCATION:Mercado Riurau Jesus Pobre\, Jesus Pobre\, Alicante\, 03749\, España
CATEGORIES:Fiesta,Gastronomía
ATTACH;FMTTYPE=image/jpeg:https://disfruta-denia.com/wp-content/uploads/2023/06/354538576_744822214107036_5534599260901593141_n-1.jpg
END:VEVENT
BEGIN:VEVENT
DTSTART;TZID=Europe/Madrid:20230711T140000
DTEND;TZID=Europe/Madrid:20230711T140000
DTSTAMP:20260424T193537
CREATED:20230627T140410Z
LAST-MODIFIED:20230627T140410Z
UID:10012158-1689084000-1689084000@disfruta-denia.com
SUMMARY:Fideuà solidària a benefici d’ADAHMA
DESCRIPTION:El pròxim dia del Faller\,  de juliol. La Junta Local Fallera de Dénia organitza una  fideuà solidària a benefici d’ADAHMA\, associació TDAH de la Marina Alta.
URL:https://disfruta-denia.com/evento/fideua-solidaria-a-benefici-dadahma/
LOCATION:Carrer del Marqués de Campo\, Carrer del Marqués de Campo\, Denia\, Alicante\, 03700\, España
CATEGORIES:Gastronomía
ATTACH;FMTTYPE=image/jpeg:https://disfruta-denia.com/wp-content/uploads/2023/06/355678461_6723340217678867_8726154322684418544_n.jpg
END:VEVENT
BEGIN:VEVENT
DTSTART;TZID=Europe/Madrid:20230728T180000
DTEND;TZID=Europe/Madrid:20230728T180000
DTSTAMP:20260424T193537
CREATED:20230728T080942Z
LAST-MODIFIED:20230728T080942Z
UID:10012612-1690567200-1690567200@disfruta-denia.com
SUMMARY:Cata degustación
DESCRIPTION:🍷¡Hoy tenemos una cata-degustación ALMA ATLÁNTICA\, a partir de las 18:00 horas! \n¡Y a las 21:00 no te pierdas el concierto de Brujas & Vampiros! 😎 \n  \n#rebeldiabluesdenia #denia #música #abiertotodoslosdias #entradagratuita
URL:https://disfruta-denia.com/evento/cata-degustacion/
LOCATION:Rebeldia Blues\, Carr. de Dénia A Xábia\, 3G\, Denia\, Alicante\, 03700\, España
CATEGORIES:Cata,Gastronomía
ATTACH;FMTTYPE=image/jpeg:https://disfruta-denia.com/wp-content/uploads/2023/07/FB_IMG_1690531558344.jpg
END:VEVENT
BEGIN:VEVENT
DTSTART;VALUE=DATE:20230730
DTEND;VALUE=DATE:20230801
DTSTAMP:20260424T193537
CREATED:20230630T134654Z
LAST-MODIFIED:20230709T190340Z
UID:10012295-1690689600-1690775999@disfruta-denia.com
SUMMARY:La Millor Tomaca de La Marina
DESCRIPTION:¡Vuelve La Millor Tomaca a Els Magazinos de la mano de @cervezaturia!  \nEs el mes del tomate y en nuestro mercado queremos rendir homenaje a esta maravilla de producto. \nEl día 30 de julio buscaremos el mejor tomate de productores locales en diferentes categorías. \nGracias a la artista e ilustradora valenciana Carla Fuentes por el cartel tan chulo que ha creado. \nEn los próximos días daremos las indicaciones para inscribirse. ¡Productores del tomate os esperamos
URL:https://disfruta-denia.com/evento/la-millor-tomaca-de-la-marina/
LOCATION:Els Magazinos\, Carrer Pont 19\, Denia\, Alicante\, 03700\, España
CATEGORIES:Feria,Gastronomía
ATTACH;FMTTYPE=image/jpeg:https://disfruta-denia.com/wp-content/uploads/2023/06/357455017_666145555540603_5600789033736317336_n.jpg
END:VEVENT
END:VCALENDAR