BEGIN:VCALENDAR
VERSION:2.0
PRODID:-//Disfruta Denia - ECPv6.15.20//NONSGML v1.0//EN
CALSCALE:GREGORIAN
METHOD:PUBLISH
X-WR-CALNAME:Disfruta Denia
X-ORIGINAL-URL:https://disfruta-denia.com
X-WR-CALDESC:Eventos para Disfruta Denia
REFRESH-INTERVAL;VALUE=DURATION:PT1H
X-Robots-Tag:noindex
X-PUBLISHED-TTL:PT1H
BEGIN:VTIMEZONE
TZID:Europe/Madrid
BEGIN:DAYLIGHT
TZOFFSETFROM:+0100
TZOFFSETTO:+0200
TZNAME:CEST
DTSTART:20220327T010000
END:DAYLIGHT
BEGIN:STANDARD
TZOFFSETFROM:+0200
TZOFFSETTO:+0100
TZNAME:CET
DTSTART:20221030T010000
END:STANDARD
BEGIN:DAYLIGHT
TZOFFSETFROM:+0100
TZOFFSETTO:+0200
TZNAME:CEST
DTSTART:20230326T010000
END:DAYLIGHT
BEGIN:STANDARD
TZOFFSETFROM:+0200
TZOFFSETTO:+0100
TZNAME:CET
DTSTART:20231029T010000
END:STANDARD
BEGIN:DAYLIGHT
TZOFFSETFROM:+0100
TZOFFSETTO:+0200
TZNAME:CEST
DTSTART:20240331T010000
END:DAYLIGHT
BEGIN:STANDARD
TZOFFSETFROM:+0200
TZOFFSETTO:+0100
TZNAME:CET
DTSTART:20241027T010000
END:STANDARD
END:VTIMEZONE
BEGIN:VEVENT
DTSTART;TZID=Europe/Madrid:20230820T180000
DTEND;TZID=Europe/Madrid:20230820T230000
DTSTAMP:20260424T175248
CREATED:20230819T130719Z
LAST-MODIFIED:20230819T130722Z
UID:10010759-1692554400-1692572400@disfruta-denia.com
SUMMARY:Mercat del Riurau en Jesus Pobre
DESCRIPTION:El próximo domingo 20 de agosto a las 20.30h Veronicka Leik presenta “The promis land” un recital de tecnopoesia. Dialogo entre las palabras y la música electrónica. https://youtu.be/wpwmXiqnmtY\n\n\n¡No te lo pierdas!
URL:https://disfruta-denia.com/evento/mercat-del-riurau-en-jesus-pobre-2-2-5-5/
LOCATION:Mercado Riurau Jesus Pobre\, Jesus Pobre\, Alicante\, 03749\, España
CATEGORIES:Concierto,Gastronomía,Mercado,Música
ATTACH;FMTTYPE=image/jpeg:https://disfruta-denia.com/wp-content/uploads/2023/06/366086211_666240522205982_6581235605012607951_n.jpg
END:VEVENT
END:VCALENDAR