BEGIN:VCALENDAR
VERSION:2.0
PRODID:-//Disfruta Denia - ECPv6.15.20//NONSGML v1.0//EN
CALSCALE:GREGORIAN
METHOD:PUBLISH
X-ORIGINAL-URL:https://disfruta-denia.com
X-WR-CALDESC:Eventos para Disfruta Denia
REFRESH-INTERVAL;VALUE=DURATION:PT1H
X-Robots-Tag:noindex
X-PUBLISHED-TTL:PT1H
BEGIN:VTIMEZONE
TZID:Europe/Madrid
BEGIN:DAYLIGHT
TZOFFSETFROM:+0100
TZOFFSETTO:+0200
TZNAME:CEST
DTSTART:20220327T010000
END:DAYLIGHT
BEGIN:STANDARD
TZOFFSETFROM:+0200
TZOFFSETTO:+0100
TZNAME:CET
DTSTART:20221030T010000
END:STANDARD
BEGIN:DAYLIGHT
TZOFFSETFROM:+0100
TZOFFSETTO:+0200
TZNAME:CEST
DTSTART:20230326T010000
END:DAYLIGHT
BEGIN:STANDARD
TZOFFSETFROM:+0200
TZOFFSETTO:+0100
TZNAME:CET
DTSTART:20231029T010000
END:STANDARD
BEGIN:DAYLIGHT
TZOFFSETFROM:+0100
TZOFFSETTO:+0200
TZNAME:CEST
DTSTART:20240331T010000
END:DAYLIGHT
BEGIN:STANDARD
TZOFFSETFROM:+0200
TZOFFSETTO:+0100
TZNAME:CET
DTSTART:20241027T010000
END:STANDARD
END:VTIMEZONE
BEGIN:VEVENT
DTSTART;TZID=Europe/Madrid:20230930T120000
DTEND;TZID=Europe/Madrid:20231001T203000
DTSTAMP:20260424T141057
CREATED:20230926T105020Z
LAST-MODIFIED:20230927T192724Z
UID:10013732-1696075200-1696192200@disfruta-denia.com
SUMMARY:DNA Festival Denia 2023 todo el programa
DESCRIPTION:Programa oficial 2023.DESCARGA EL PDF\nLa inscripción a los talleres se podrá realizar en la web a partir de mañana\, martes 26\, a partir de las 12:00 h.\n\n\n¿Qué taller os hace más ilusión?\nTALLERES:\n\n\n\n\n			\n				\n			\n			\n				\n			\n			\n				\n			\n			\n				\n			\n		\n\n\n\n			\n				\n			\n			\n				\n			\n			\n				\n			\n			\n				\n			\n		\n\n\nLa sexta edición del D*na Festival Gastrónomico\, que se celebrará los días 29 de septiembre y 1 de octubre\, reunirá de nuevo a los mejores chefs de nuestro país en el paseo de la Marineta Cassiana de Dénia\, para rendir un homenaje al mar como elemento imprescindible de nuestra gastronomía. \n  \nDurante este fin de semana\, en una impresionante mesa de más de 700 metros frente al mar se expondrá la gastronomía marinera en estado puro. Desde la cocina tradicional y autóctona\, hasta las técnicas más vanguardistas\, esta nueva edición del D*na tiene como objetivo compartir las riquezas al mar\, y poner en valor la gastronomía de la región\, rindiendo un tributo a la gente del mar\, pescadores y productores. \n  \nCon el mar como eje principal\, y los productos y la cocina marinera como protagonistas\, el D*na 2023 regresa a un escenario al aire libre\, abierto a todo el público\, y que ampliará su recorrido para albergar una amplia variedad de temáticas y ponentes. Diferentes perspectivas que actuarán como un faro para la gastronomía del futuro\, sobre todo la relacionada con el mar. \n  \nEl escenario principal – el Escenario del Mar- albergará las ponencias y showcookings de grandes chefs de toda la Península Ibérica bañadas por nuestros mares. El 30 de septiembre\, reputados cocineros como Angel León\, José Avillez\, Carolina Álvarez\, Sergio Bastard o Pablo González mostrarán lo mejor de la cocina marinera de todas estas regiones. Las charlas continuarán el 1 de octubre\, de la mano de grandes chefs como Nacho Manzano\, Josean Alija\, Sergio Torres\, Lucía Freitas y\, que acompañarán al tres estrellas Michelin Quique Dacosta\, comisario gastronómico del D*na. \n  \nEn el escenario L’Exquisit Mediterrani se hablará de cocina\, de mar y de vinos\, a través de las elaboraciones en directo y maridajes de destacados cocineros y enólogos de la Comunidad Valenciana. \n  \nUna de las actividades con más éxito de ediciones anteriores del D*na\, los talleres de cocina\, ampliará su programación para ofrecer un mayor número de talleres\, que permitirán al público aprender sobre productos y elaboraciones locales directamente con los cocineros. Para esta actividad es necesaria la inscripción previa en la web www.dnafestivaldenia.com. \n  \nLa sexta edición de D*na Festival Gastronómico Dénia cederá el protagonismo también a los productores y restauradores locales\, embajadores de excepción de la gastronomía mediterránea. A través de sus puestos de venta y degustación dispuestos en una plaza central\, todos ellos ofrecerán a los visitantes los productos gastronómicos más representativos de la Comunitat Valenciana junto a las creaciones de destacados chefs locales. \n  \nD*NA Festival Dénia \nOrganizado por la Fundación Dénia Ciudad Creativa de la Gastronomía de la Comunidad Valenciana -integrada por el Ajuntament de Dénia\, la Asociación de Empresarios de Hostelería y Turismo de la Marina Alta (AEHTMA)\, el Cercle Empresarial de la Marina Alta (CEDMA) y la naviera Baleària como patronos-\, D*NA Festival Dénia se reafirma como la cita por excelencia de la gastronomía mediterránea. Un encuentro exclusivo que reúne a los mejores profesionales del sector de la gastronomía y la restauración de la Comunitat Valenciana\, con el objetivo de poner en valor la cultura gastronómica y la excelencia de los productos y proyectos gastronómicos de esta región\, promoviendo la interacción del público con la gastronomía. \n\nD*na Festival reunirá a los mejores chefs en su 6ta edición
URL:https://disfruta-denia.com/evento/dna-festival-denia-2023/
LOCATION:Marineta Casiana\, Playa de la Marineta Casiana\, Dénia\, 03700\, España
CATEGORIES:Cata,Gastronomía
ATTACH;FMTTYPE=image/png:https://disfruta-denia.com/wp-content/uploads/2023/09/programa_dna_2023.png
END:VEVENT
BEGIN:VEVENT
DTSTART;TZID=Europe/Madrid:20231001T090000
DTEND;TZID=Europe/Madrid:20231001T140000
DTSTAMP:20260424T141057
CREATED:20230908T110450Z
LAST-MODIFIED:20230908T110450Z
UID:10013349-1696150800-1696168800@disfruta-denia.com
SUMMARY:Mercat del Riurau Jesus Pobre
DESCRIPTION:Mercat del Riurau Jesus Pobre
URL:https://disfruta-denia.com/evento/mercat-del-riurau-jesus-pobre-2/2023-10-01/
LOCATION:Mercado Riurau Jesus Pobre\, Jesus Pobre\, Alicante\, 03749\, España
CATEGORIES:Concierto,Gastronomía,Mercado
ATTACH;FMTTYPE=image/jpeg:https://disfruta-denia.com/wp-content/uploads/2023/09/374833926_676262521203782_8518398986853285692_n.jpg
END:VEVENT
BEGIN:VEVENT
DTSTART;TZID=Europe/Madrid:20231006T200000
DTEND;TZID=Europe/Madrid:20231006T200000
DTSTAMP:20260424T141057
CREATED:20231005T175351Z
LAST-MODIFIED:20231005T175351Z
UID:10014619-1696622400-1696622400@disfruta-denia.com
SUMMARY:Noche latina en The Speak
DESCRIPTION:Viernes Latinos\, Viernes Clandestinos.\nViaja a Sudamérica sin moverte de tu mesa \nCocktails\, platos y mucho más. Te esperamos. Todos los viernes a las 20h. Reservas con premio 
URL:https://disfruta-denia.com/evento/noche-latina-en-the-speak/2023-10-06/
LOCATION:The Speak Denia\, Carrer del Pont\, 19\, Denia\, Alicante\, 03700\, España
CATEGORIES:Gastronomía,Música,Ocio nocturno
ATTACH;FMTTYPE=image/jpeg:https://disfruta-denia.com/wp-content/uploads/2023/10/385053988_1038253774129707_5734031369083007463_n.jpg
END:VEVENT
BEGIN:VEVENT
DTSTART;VALUE=DATE:20231007
DTEND;VALUE=DATE:20231010
DTSTAMP:20260424T141057
CREATED:20231004T121743Z
LAST-MODIFIED:20231004T121743Z
UID:10014033-1696651200-1696823999@disfruta-denia.com
SUMMARY:Porró Fest 2023 en Els Magazinos
DESCRIPTION:¿Aún no tienes apuntado en tu agenda lo que ocurrirá en Els Magazinos este fin de semana? ¡Ven al Porró Fest! Nuestra versión más tradicional y de proximidad del Oktoberfest \n\n\n¿Qué va a ocurrir del 7 al 9 de octubre en Els Magazinos?\n\n\nAquellas personas que visiten Els Magazinos durante el fin de semana\, podrán darse el gusto en “La Calle de los Sabores “ con las delicias gastronómicas de los más de 20 puestos que componen el mercado con una oferta especial Porrón de @cervezaturia + plato para picotear 4 personas por 15 €\n\n\n Paellas populares\n 9 de octubre: Paella de calamar y sobrasada de @cacurro_gata en @alafrescadenia\n8 y 9 de octubre: Arròs Mariner en @lalola.denia\n\n\n Los visitantes disfrutarán de una ración de arroz y\, por supuesto\, -como se trata de una fiesta de la cerveza- podrán acompañarla de un Porrón de @cervezaturia\n\n\n Ven este puente a celebrar el Porró Fest a Els Magazinos y disfruta de las costumbres más nuestras
URL:https://disfruta-denia.com/evento/porro-fest-2023-en-els-magazinos/
LOCATION:Els Magazinos\, Carrer Pont 19\, Denia\, Alicante\, 03700\, España
CATEGORIES:Fiesta,Gastronomía
ATTACH;FMTTYPE=image/png:https://disfruta-denia.com/wp-content/uploads/2023/10/Els-Magazinos-elsmagazinos-•-Photos-et-videos-Instagram.png
END:VEVENT
BEGIN:VEVENT
DTSTART;TZID=Europe/Madrid:20231008T090000
DTEND;TZID=Europe/Madrid:20231008T140000
DTSTAMP:20260424T141057
CREATED:20231006T073740Z
LAST-MODIFIED:20231006T073741Z
UID:10013350-1696755600-1696773600@disfruta-denia.com
SUMMARY:Mercat del Riurau Jesus Pobre
DESCRIPTION:Mercat del Riurau Jesus Pobre
URL:https://disfruta-denia.com/evento/mercat-del-riurau-jesus-pobre-2-4/
LOCATION:Mercado Riurau Jesus Pobre\, Jesus Pobre\, Alicante\, 03749\, España
CATEGORIES:Concierto,Gastronomía,Mercado
ATTACH;FMTTYPE=image/png:https://disfruta-denia.com/wp-content/uploads/2023/09/Instagram.png
END:VEVENT
BEGIN:VEVENT
DTSTART;TZID=Europe/Madrid:20231013T200000
DTEND;TZID=Europe/Madrid:20231013T200000
DTSTAMP:20260424T141057
CREATED:20231005T175351Z
LAST-MODIFIED:20231005T175351Z
UID:10014620-1697227200-1697227200@disfruta-denia.com
SUMMARY:Noche latina en The Speak
DESCRIPTION:Viernes Latinos\, Viernes Clandestinos.\nViaja a Sudamérica sin moverte de tu mesa \nCocktails\, platos y mucho más. Te esperamos. Todos los viernes a las 20h. Reservas con premio 
URL:https://disfruta-denia.com/evento/noche-latina-en-the-speak/2023-10-13/
LOCATION:The Speak Denia\, Carrer del Pont\, 19\, Denia\, Alicante\, 03700\, España
CATEGORIES:Gastronomía,Música,Ocio nocturno
ATTACH;FMTTYPE=image/jpeg:https://disfruta-denia.com/wp-content/uploads/2023/10/385053988_1038253774129707_5734031369083007463_n.jpg
END:VEVENT
BEGIN:VEVENT
DTSTART;TZID=Europe/Madrid:20231015T090000
DTEND;TZID=Europe/Madrid:20231015T140000
DTSTAMP:20260424T141057
CREATED:20231013T100632Z
LAST-MODIFIED:20231013T100633Z
UID:10013351-1697360400-1697378400@disfruta-denia.com
SUMMARY:Mercat del Riurau Jesus Pobre
DESCRIPTION:¡Atención! El próximo domingo 15 de octubre el Mercat del Riurau se realizará en la Plaza de Jesús Pobre por coincidir con el evento “Cross Baix el Montgo”.\nEstaremos como siempre de 9h a 14h. ¡Te esperamos!
URL:https://disfruta-denia.com/evento/mercat-del-riurau-jesus-pobre-2-5/
LOCATION:Mercado Riurau Jesus Pobre\, Jesus Pobre\, Alicante\, 03749\, España
CATEGORIES:Concierto,Gastronomía,Mercado
ATTACH;FMTTYPE=image/jpeg:https://disfruta-denia.com/wp-content/uploads/2023/09/387788807_696274329202601_941031976558401023_n.jpg
END:VEVENT
BEGIN:VEVENT
DTSTART;VALUE=DATE:20231019
DTEND;VALUE=DATE:20231114
DTSTAMP:20260424T141057
CREATED:20231003T075647Z
LAST-MODIFIED:20231003T075647Z
UID:10013752-1697688000-1699847999@disfruta-denia.com
SUMMARY:XXII Ruta de la tapa de Dénia 2023
DESCRIPTION:XXII Ruta de la tapa de Dénia \n+ info soon
URL:https://disfruta-denia.com/evento/xxii-ruta-de-la-tapa-de-denia-2023/
LOCATION:Denia\, Denia\, Alicante\, 03700\, España
CATEGORIES:Gastronomía
ATTACH;FMTTYPE=image/jpeg:https://disfruta-denia.com/wp-content/uploads/2023/10/385758140_806289078165068_2394959406686682612_n.jpg
END:VEVENT
BEGIN:VEVENT
DTSTART;TZID=Europe/Madrid:20231020T200000
DTEND;TZID=Europe/Madrid:20231020T200000
DTSTAMP:20260424T141057
CREATED:20231005T175351Z
LAST-MODIFIED:20231005T175351Z
UID:10014621-1697832000-1697832000@disfruta-denia.com
SUMMARY:Noche latina en The Speak
DESCRIPTION:Viernes Latinos\, Viernes Clandestinos.\nViaja a Sudamérica sin moverte de tu mesa \nCocktails\, platos y mucho más. Te esperamos. Todos los viernes a las 20h. Reservas con premio 
URL:https://disfruta-denia.com/evento/noche-latina-en-the-speak/2023-10-20/
LOCATION:The Speak Denia\, Carrer del Pont\, 19\, Denia\, Alicante\, 03700\, España
CATEGORIES:Gastronomía,Música,Ocio nocturno
ATTACH;FMTTYPE=image/jpeg:https://disfruta-denia.com/wp-content/uploads/2023/10/385053988_1038253774129707_5734031369083007463_n.jpg
END:VEVENT
BEGIN:VEVENT
DTSTART;TZID=Europe/Madrid:20231022T090000
DTEND;TZID=Europe/Madrid:20231022T140000
DTSTAMP:20260424T141057
CREATED:20231020T154722Z
LAST-MODIFIED:20231020T154723Z
UID:10013352-1697965200-1697983200@disfruta-denia.com
SUMMARY:Mercat del Riurau Jesus Pobre
DESCRIPTION:¡El próximo domingo 22 de octubre ven al Mercat del Riurau!\nA las 10h presentación del libro “ELS GANYANS” de Manel Arcos y a las 12h presentación del nuevo cd de Pol Alcaide.
URL:https://disfruta-denia.com/evento/mercat-del-riurau-jesus-pobre-2-6/
LOCATION:Mercado Riurau Jesus Pobre\, Jesus Pobre\, Alicante\, 03749\, España
CATEGORIES:Concierto,Gastronomía,Mercado
ATTACH;FMTTYPE=image/jpeg:https://disfruta-denia.com/wp-content/uploads/2023/09/393471818_700569828773051_4572800349328904685_n.jpg
END:VEVENT
BEGIN:VEVENT
DTSTART;TZID=Europe/Madrid:20231026T210000
DTEND;TZID=Europe/Madrid:20231026T210000
DTSTAMP:20260424T141057
CREATED:20231024T074347Z
LAST-MODIFIED:20231024T074347Z
UID:10014764-1698354000-1698354000@disfruta-denia.com
SUMMARY:Cata de vinos
DESCRIPTION:Cata de vinos
URL:https://disfruta-denia.com/evento/cata-de-vinos-2/
LOCATION:Restaurante Bona Platja\, C/ les Marines\, km 3\, Dénia\, 03700\, España
CATEGORIES:Cata,Gastronomía
ATTACH;FMTTYPE=image/jpeg:https://disfruta-denia.com/wp-content/uploads/2023/10/394548551_10229057836381920_5174683437995157626_n.jpg
END:VEVENT
BEGIN:VEVENT
DTSTART;TZID=Europe/Madrid:20231027T200000
DTEND;TZID=Europe/Madrid:20231027T200000
DTSTAMP:20260424T141057
CREATED:20231005T175351Z
LAST-MODIFIED:20231005T175351Z
UID:10014622-1698436800-1698436800@disfruta-denia.com
SUMMARY:Noche latina en The Speak
DESCRIPTION:Viernes Latinos\, Viernes Clandestinos.\nViaja a Sudamérica sin moverte de tu mesa \nCocktails\, platos y mucho más. Te esperamos. Todos los viernes a las 20h. Reservas con premio 
URL:https://disfruta-denia.com/evento/noche-latina-en-the-speak/2023-10-27/
LOCATION:The Speak Denia\, Carrer del Pont\, 19\, Denia\, Alicante\, 03700\, España
CATEGORIES:Gastronomía,Música,Ocio nocturno
ATTACH;FMTTYPE=image/jpeg:https://disfruta-denia.com/wp-content/uploads/2023/10/385053988_1038253774129707_5734031369083007463_n.jpg
END:VEVENT
BEGIN:VEVENT
DTSTART;TZID=Europe/Madrid:20231029T090000
DTEND;TZID=Europe/Madrid:20231029T140000
DTSTAMP:20260424T141057
CREATED:20231027T075019Z
LAST-MODIFIED:20231027T075020Z
UID:10013353-1698570000-1698588000@disfruta-denia.com
SUMMARY:Mercat del Riurau Jesus Pobre
DESCRIPTION:El próximo domingo 29 de octubre en el Mercat del Riurau tendremos música en directo a partir de las 12h con Los Diablos\, un trio de guitarra\, voz y armónica. Música de estilo pop-rock melódico.\n¡No te lo pierdas!
URL:https://disfruta-denia.com/evento/mercat-del-riurau-jesus-pobre-2-7/
LOCATION:Mercado Riurau Jesus Pobre\, Jesus Pobre\, Alicante\, 03749\, España
CATEGORIES:Concierto,Gastronomía,Mercado
ATTACH;FMTTYPE=image/jpeg:https://disfruta-denia.com/wp-content/uploads/2023/09/394767057_704646201698747_4371625979484024211_n.jpg
END:VEVENT
BEGIN:VEVENT
DTSTART;TZID=Europe/Madrid:20231029T110000
DTEND;TZID=Europe/Madrid:20231029T190000
DTSTAMP:20260424T141057
CREATED:20231025T131909Z
LAST-MODIFIED:20231025T133744Z
UID:10014771-1698577200-1698606000@disfruta-denia.com
SUMMARY:Denia está como un queso
DESCRIPTION:¡Celebramos juntos la pasión por el Queso! \nÚnete a la III Feria y Mercado de Artesanos del Queso de la Comunidad Valenciana. Els Magazinos\, el mercado gastronómico y cultural de Dénia\, pretende potenciar la relevancia de los productos artesanos de proximidad\, así como apostar por la producción cercana visibilizando a los productores que se encuentran detrás de los mismos. \nEste año contará con la participación de cuatro queserías artesanales de la provincia de Alicante y dos queserías invitadas de fuera de nuestra región: una nacional y una internacional. \nProgramación \n• 11h. a 12:30h. Mesa redonda con cata de 6 quesos\, uno de cada quesería\, guiada por José Bas\, “aficionador de quesos”\, y Cerveza Turia. Aforo limitado a 30 personas\, necesaria inscripción previa en la web de Els Magazinos. Ubicación: Les Cuinetes. \n• 12h.-14.30h. y 16h.-19h. Mercado de quesos artesanos en la plaza de Els Magazinos.
URL:https://disfruta-denia.com/evento/denia-esta-como-un-queso/
LOCATION:Els Magazinos\, Carrer Pont 19\, Denia\, Alicante\, 03700\, España
CATEGORIES:Cata,Gastronomía,Mercado
ATTACH;FMTTYPE=image/jpeg:https://disfruta-denia.com/wp-content/uploads/2023/10/queso.jpg
END:VEVENT
BEGIN:VEVENT
DTSTART;VALUE=DATE:20231031
DTEND;VALUE=DATE:20231103
DTSTAMP:20260424T141057
CREATED:20231027T070119Z
LAST-MODIFIED:20231027T070119Z
UID:10014774-1698724800-1698897599@disfruta-denia.com
SUMMARY:Halloween en Els Magazinos
DESCRIPTION:Un día de miedo en #ElsMagazinos!\n\n\n¡Si pasas Halloween en Els Magazinos\, comerás unas tapas de muerte! Ven a la Calle de los Sabores y descubre todas nuestras elaboraciones con calabaza para celebrar esta terrorífica festividad con una @cervezaturia en la mano\n\n\nTambién tendremos un maquillaje con el que asustarás a todos a partir de las 6 de la tarde. ¡No olvides pasarte por nuestro photocall y compartir una foto tuya pasándotelo de miedo en Els Magazinos!
URL:https://disfruta-denia.com/evento/halloween-en-els-magazinos/
LOCATION:Els Magazinos\, Carrer Pont 19\, Denia\, Alicante\, 03700\, España
CATEGORIES:Fiesta,Gastronomía
ATTACH;FMTTYPE=image/jpeg:https://disfruta-denia.com/wp-content/uploads/2023/10/396714292_733763008778857_7882509420498010042_n.jpg
END:VEVENT
BEGIN:VEVENT
DTSTART;TZID=Europe/Madrid:20231031T200000
DTEND;TZID=Europe/Madrid:20231031T200000
DTSTAMP:20260424T141057
CREATED:20231023T105910Z
LAST-MODIFIED:20231023T105910Z
UID:10014751-1698782400-1698782400@disfruta-denia.com
SUMMARY:Vino & Arte: feria gastronómica
DESCRIPTION:Un evento muy grande se está madurando…Vino & Arte\, feria gastronómica que celebraremos en nuestro restaurante\, con entrada y consumiciones totalmente gratis. 31 de octubre. ¡No te lo pierdas!
URL:https://disfruta-denia.com/evento/vino-arte-feria-gastronomica/
LOCATION:Casa Pepa Restaurante\, Partida Pamis\, 7-30\, Ondara
CATEGORIES:Cata,Gastronomía
ATTACH;FMTTYPE=image/jpeg:https://disfruta-denia.com/wp-content/uploads/2023/10/391751025_887662386214584_7390994605890279391_n-1.jpg
END:VEVENT
END:VCALENDAR