BEGIN:VCALENDAR
VERSION:2.0
PRODID:-//Disfruta Denia - ECPv6.15.20//NONSGML v1.0//EN
CALSCALE:GREGORIAN
METHOD:PUBLISH
X-WR-CALNAME:Disfruta Denia
X-ORIGINAL-URL:https://disfruta-denia.com
X-WR-CALDESC:Eventos para Disfruta Denia
REFRESH-INTERVAL;VALUE=DURATION:PT1H
X-Robots-Tag:noindex
X-PUBLISHED-TTL:PT1H
BEGIN:VTIMEZONE
TZID:Europe/Madrid
BEGIN:DAYLIGHT
TZOFFSETFROM:+0100
TZOFFSETTO:+0200
TZNAME:CEST
DTSTART:20220327T010000
END:DAYLIGHT
BEGIN:STANDARD
TZOFFSETFROM:+0200
TZOFFSETTO:+0100
TZNAME:CET
DTSTART:20221030T010000
END:STANDARD
BEGIN:DAYLIGHT
TZOFFSETFROM:+0100
TZOFFSETTO:+0200
TZNAME:CEST
DTSTART:20230326T010000
END:DAYLIGHT
BEGIN:STANDARD
TZOFFSETFROM:+0200
TZOFFSETTO:+0100
TZNAME:CET
DTSTART:20231029T010000
END:STANDARD
BEGIN:DAYLIGHT
TZOFFSETFROM:+0100
TZOFFSETTO:+0200
TZNAME:CEST
DTSTART:20240331T010000
END:DAYLIGHT
BEGIN:STANDARD
TZOFFSETFROM:+0200
TZOFFSETTO:+0100
TZNAME:CET
DTSTART:20241027T010000
END:STANDARD
END:VTIMEZONE
BEGIN:VEVENT
DTSTART;VALUE=DATE:20231019
DTEND;VALUE=DATE:20231114
DTSTAMP:20260424T122700
CREATED:20231003T075647Z
LAST-MODIFIED:20231003T075647Z
UID:10013752-1697688000-1699847999@disfruta-denia.com
SUMMARY:XXII Ruta de la tapa de Dénia 2023
DESCRIPTION:XXII Ruta de la tapa de Dénia \n+ info soon
URL:https://disfruta-denia.com/evento/xxii-ruta-de-la-tapa-de-denia-2023/
LOCATION:Denia\, Denia\, Alicante\, 03700\, España
CATEGORIES:Gastronomía
ATTACH;FMTTYPE=image/jpeg:https://disfruta-denia.com/wp-content/uploads/2023/10/385758140_806289078165068_2394959406686682612_n.jpg
END:VEVENT
BEGIN:VEVENT
DTSTART;VALUE=DATE:20231031
DTEND;VALUE=DATE:20231103
DTSTAMP:20260424T122700
CREATED:20231027T070119Z
LAST-MODIFIED:20231027T070119Z
UID:10014774-1698724800-1698897599@disfruta-denia.com
SUMMARY:Halloween en Els Magazinos
DESCRIPTION:Un día de miedo en #ElsMagazinos!\n\n\n¡Si pasas Halloween en Els Magazinos\, comerás unas tapas de muerte! Ven a la Calle de los Sabores y descubre todas nuestras elaboraciones con calabaza para celebrar esta terrorífica festividad con una @cervezaturia en la mano\n\n\nTambién tendremos un maquillaje con el que asustarás a todos a partir de las 6 de la tarde. ¡No olvides pasarte por nuestro photocall y compartir una foto tuya pasándotelo de miedo en Els Magazinos!
URL:https://disfruta-denia.com/evento/halloween-en-els-magazinos/
LOCATION:Els Magazinos\, Carrer Pont 19\, Denia\, Alicante\, 03700\, España
CATEGORIES:Fiesta,Gastronomía
ATTACH;FMTTYPE=image/jpeg:https://disfruta-denia.com/wp-content/uploads/2023/10/396714292_733763008778857_7882509420498010042_n.jpg
END:VEVENT
BEGIN:VEVENT
DTSTART;TZID=Europe/Madrid:20231103T200000
DTEND;TZID=Europe/Madrid:20231103T200000
DTSTAMP:20260424T122700
CREATED:20231005T175351Z
LAST-MODIFIED:20231005T175351Z
UID:10014623-1699041600-1699041600@disfruta-denia.com
SUMMARY:Noche latina en The Speak
DESCRIPTION:Viernes Latinos\, Viernes Clandestinos.\nViaja a Sudamérica sin moverte de tu mesa \nCocktails\, platos y mucho más. Te esperamos. Todos los viernes a las 20h. Reservas con premio 
URL:https://disfruta-denia.com/evento/noche-latina-en-the-speak/2023-11-03/
LOCATION:The Speak Denia\, Carrer del Pont\, 19\, Denia\, Alicante\, 03700\, España
CATEGORIES:Gastronomía,Música,Ocio nocturno
ATTACH;FMTTYPE=image/jpeg:https://disfruta-denia.com/wp-content/uploads/2023/10/385053988_1038253774129707_5734031369083007463_n.jpg
END:VEVENT
BEGIN:VEVENT
DTSTART;TZID=Europe/Madrid:20231105T090000
DTEND;TZID=Europe/Madrid:20231105T140000
DTSTAMP:20260424T122700
CREATED:20230908T110450Z
LAST-MODIFIED:20230908T110450Z
UID:10013354-1699174800-1699192800@disfruta-denia.com
SUMMARY:Mercat del Riurau Jesus Pobre
DESCRIPTION:Mercat del Riurau Jesus Pobre
URL:https://disfruta-denia.com/evento/mercat-del-riurau-jesus-pobre-2/2023-11-05/
LOCATION:Mercado Riurau Jesus Pobre\, Jesus Pobre\, Alicante\, 03749\, España
CATEGORIES:Concierto,Gastronomía,Mercado
ATTACH;FMTTYPE=image/jpeg:https://disfruta-denia.com/wp-content/uploads/2023/09/374833926_676262521203782_8518398986853285692_n.jpg
END:VEVENT
BEGIN:VEVENT
DTSTART;TZID=Europe/Madrid:20231110T200000
DTEND;TZID=Europe/Madrid:20231110T200000
DTSTAMP:20260424T122700
CREATED:20231005T175351Z
LAST-MODIFIED:20231005T175351Z
UID:10014624-1699646400-1699646400@disfruta-denia.com
SUMMARY:Noche latina en The Speak
DESCRIPTION:Viernes Latinos\, Viernes Clandestinos.\nViaja a Sudamérica sin moverte de tu mesa \nCocktails\, platos y mucho más. Te esperamos. Todos los viernes a las 20h. Reservas con premio 
URL:https://disfruta-denia.com/evento/noche-latina-en-the-speak/2023-11-10/
LOCATION:The Speak Denia\, Carrer del Pont\, 19\, Denia\, Alicante\, 03700\, España
CATEGORIES:Gastronomía,Música,Ocio nocturno
ATTACH;FMTTYPE=image/jpeg:https://disfruta-denia.com/wp-content/uploads/2023/10/385053988_1038253774129707_5734031369083007463_n.jpg
END:VEVENT
BEGIN:VEVENT
DTSTART;TZID=Europe/Madrid:20231112T090000
DTEND;TZID=Europe/Madrid:20231112T140000
DTSTAMP:20260424T122700
CREATED:20231110T130833Z
LAST-MODIFIED:20231110T130834Z
UID:10013355-1699779600-1699797600@disfruta-denia.com
SUMMARY:Mercat del Riurau Jesus Pobre
DESCRIPTION:Aquest diumenge 12 de novembre\, música en directe en el Mercat del Riurau. A partir de les 12h Ulises Libre\, guitarra i veu amb el seu propi repertori.\nNo t’ho perdes!! \nEste domingo 12 de noviembre\, música en directo en el Mercat del Riurau. A partir de las 12h Ulises Libre\, guitarra y voz con su repertorio. ¡¡No te lo pierdas!!
URL:https://disfruta-denia.com/evento/mercat-del-riurau-jesus-pobre-2-8/
LOCATION:Mercado Riurau Jesus Pobre\, Jesus Pobre\, Alicante\, 03749\, España
CATEGORIES:Concierto,Gastronomía,Mercado
ATTACH;FMTTYPE=image/jpeg:https://disfruta-denia.com/wp-content/uploads/2023/09/400152154_712297870933580_3496161484891959296_n.jpg
END:VEVENT
BEGIN:VEVENT
DTSTART;TZID=Europe/Madrid:20231117T200000
DTEND;TZID=Europe/Madrid:20231117T200000
DTSTAMP:20260424T122700
CREATED:20231005T175351Z
LAST-MODIFIED:20231005T175351Z
UID:10014625-1700251200-1700251200@disfruta-denia.com
SUMMARY:Noche latina en The Speak
DESCRIPTION:Viernes Latinos\, Viernes Clandestinos.\nViaja a Sudamérica sin moverte de tu mesa \nCocktails\, platos y mucho más. Te esperamos. Todos los viernes a las 20h. Reservas con premio 
URL:https://disfruta-denia.com/evento/noche-latina-en-the-speak/2023-11-17/
LOCATION:The Speak Denia\, Carrer del Pont\, 19\, Denia\, Alicante\, 03700\, España
CATEGORIES:Gastronomía,Música,Ocio nocturno
ATTACH;FMTTYPE=image/jpeg:https://disfruta-denia.com/wp-content/uploads/2023/10/385053988_1038253774129707_5734031369083007463_n.jpg
END:VEVENT
BEGIN:VEVENT
DTSTART;TZID=Europe/Madrid:20231118T110000
DTEND;TZID=Europe/Madrid:20231118T110000
DTSTAMP:20260424T122700
CREATED:20231108T182644Z
LAST-MODIFIED:20231108T182644Z
UID:10014804-1700305200-1700305200@disfruta-denia.com
SUMMARY:Mar y gastronomía
DESCRIPTION:¡Ven a disfrutar de unas tapas y unas bebidas originales y autóctonas de Dénia en el marco de la Ruta de Tapas! Navega por la hermosa costa de la Reserva Marina y descubre de qué está hecho el Carnot\nReserva hoy en  mundomarino.es 
URL:https://disfruta-denia.com/evento/mar-y-gastronomia/
LOCATION:Muelle Mundo Marino\, Esplanada Cervantes\, 23\, Denia\, Alicante\, 03700\, España
CATEGORIES:Deporte,Excursión,Gastronomía
ATTACH;FMTTYPE=image/jpeg:https://disfruta-denia.com/wp-content/uploads/2023/11/399937037_18393811153063120_3442609523438883443_n-1.jpg
END:VEVENT
BEGIN:VEVENT
DTSTART;TZID=Europe/Madrid:20231118T120000
DTEND;TZID=Europe/Madrid:20231118T120000
DTSTAMP:20260424T122700
CREATED:20231005T084043Z
LAST-MODIFIED:20231005T084043Z
UID:10014036-1700308800-1700308800@disfruta-denia.com
SUMMARY:El Putxero dels Capitans
DESCRIPTION:El proper dia 18 de Novembre les Capitaníes del 2024 Abencerrajes i Pirates del Girona\, organitzem el “Putxero dels Capitans”!!\nAcí us deixem el cartell on teniu els horaris\, “Planning”i ubicacions.\nEl preu\, de 27 €\, inclou:\n-Pallorfà a la plaça de l’Ajuntament per cortesia de les Capitaníes.\n-Menú*\n• Papes\, olives i tramussos\n• Beguda (cervessa\, ví\, aigua i refrescs)\n• El putxero\n• Postre\n*Hi haurà servei de cambrers\, que ens serviràn el dinar\, hi haurà vaixella de porcelana i vidre i coberteria d’acer inoxidable.\n-Txaranga (amenitzarà la pallorfà\, el previ del dinar a la barra de la Fàbrica de Sabó i el dinar)\n-Discomòbil\, que començarà després del dinar.\nPodeu apuntar-se directament fent un ingrés al compte corrent de les Capitaníes \, o acudint a qualsevol dels comerços col.laboradors.\nPer a més info contacteu per privat o cridant als contactes del cartell.\nUs esperem a tots!!!
URL:https://disfruta-denia.com/evento/el-putxero-dels-capitans/
LOCATION:Fàbrica de Sabó\, Centre Cultural\, Carrer Sant Antoni\, 2\, El Verger\, 03770\, España
CATEGORIES:Fiesta,Gastronomía
ATTACH;FMTTYPE=image/png:https://disfruta-denia.com/wp-content/uploads/2023/10/Fila-Abencerrajes-El-Verger-filamoraabencerrajes-•-Photos-et-videos-Instagram.png
END:VEVENT
BEGIN:VEVENT
DTSTART;TZID=Europe/Madrid:20231119T090000
DTEND;TZID=Europe/Madrid:20231119T140000
DTSTAMP:20260424T122700
CREATED:20231117T170000Z
LAST-MODIFIED:20231117T170001Z
UID:10013356-1700384400-1700402400@disfruta-denia.com
SUMMARY:Mercat del Riurau Jesus Pobre
DESCRIPTION:No te pierdas el concierto de este domingo 19 de noviembre\,\na partir de las 12.00h con Mosatr3s de @jean jass.\n¡Además de nuestros productos de territorio\, música y entretenimiento para pasar el domingo de la mejor manera!
URL:https://disfruta-denia.com/evento/mercat-del-riurau-jesus-pobre-2-9/
LOCATION:Mercado Riurau Jesus Pobre\, Jesus Pobre\, Alicante\, 03749\, España
CATEGORIES:Concierto,Gastronomía,Mercado
ATTACH;FMTTYPE=image/jpeg:https://disfruta-denia.com/wp-content/uploads/2023/09/402653885_717126373784063_2853177188051272408_n.jpg
END:VEVENT
BEGIN:VEVENT
DTSTART;TZID=Europe/Madrid:20231124T200000
DTEND;TZID=Europe/Madrid:20231124T200000
DTSTAMP:20260424T122700
CREATED:20231005T175351Z
LAST-MODIFIED:20231005T175351Z
UID:10014626-1700856000-1700856000@disfruta-denia.com
SUMMARY:Noche latina en The Speak
DESCRIPTION:Viernes Latinos\, Viernes Clandestinos.\nViaja a Sudamérica sin moverte de tu mesa \nCocktails\, platos y mucho más. Te esperamos. Todos los viernes a las 20h. Reservas con premio 
URL:https://disfruta-denia.com/evento/noche-latina-en-the-speak/2023-11-24/
LOCATION:The Speak Denia\, Carrer del Pont\, 19\, Denia\, Alicante\, 03700\, España
CATEGORIES:Gastronomía,Música,Ocio nocturno
ATTACH;FMTTYPE=image/jpeg:https://disfruta-denia.com/wp-content/uploads/2023/10/385053988_1038253774129707_5734031369083007463_n.jpg
END:VEVENT
BEGIN:VEVENT
DTSTART;TZID=Europe/Madrid:20231126T090000
DTEND;TZID=Europe/Madrid:20231126T140000
DTSTAMP:20260424T122700
CREATED:20231123T220337Z
LAST-MODIFIED:20231123T220338Z
UID:10013357-1700989200-1701007200@disfruta-denia.com
SUMMARY:Mercat del Riurau Jesus Pobre
DESCRIPTION:Este diumenge a partir de las 12h tindrem el #MercatdelRiurau amenitzat amb la música en directe de Hugo Cortés. Una raó més per a que vos passeu.\nEstarem de 9 a 14 hores al Riurau del Senyoret de #JesúsPobre. Vos esperem! \nEste domingo a partir de las 12h tendremos el #MercatdelRiurau ambientado con la música en directo de Hugo Cortés. Una razón más para que os pasáis.\nEstaremos de 9h a 14h en el Riurau de Senyoret de #JesusPobre. Os esperamos!
URL:https://disfruta-denia.com/evento/mercat-del-riurau-jesus-pobre-2-10/
LOCATION:Mercado Riurau Jesus Pobre\, Jesus Pobre\, Alicante\, 03749\, España
CATEGORIES:Concierto,Gastronomía,Mercado
ATTACH;FMTTYPE=image/jpeg:https://disfruta-denia.com/wp-content/uploads/2023/09/405076122_720930053403695_297837473732253052_n.jpg
END:VEVENT
END:VCALENDAR