BEGIN:VCALENDAR
VERSION:2.0
PRODID:-//Disfruta Denia - ECPv6.15.20//NONSGML v1.0//EN
CALSCALE:GREGORIAN
METHOD:PUBLISH
X-ORIGINAL-URL:https://disfruta-denia.com
X-WR-CALDESC:Eventos para Disfruta Denia
REFRESH-INTERVAL;VALUE=DURATION:PT1H
X-Robots-Tag:noindex
X-PUBLISHED-TTL:PT1H
BEGIN:VTIMEZONE
TZID:Europe/Madrid
BEGIN:DAYLIGHT
TZOFFSETFROM:+0100
TZOFFSETTO:+0200
TZNAME:CEST
DTSTART:20230326T010000
END:DAYLIGHT
BEGIN:STANDARD
TZOFFSETFROM:+0200
TZOFFSETTO:+0100
TZNAME:CET
DTSTART:20231029T010000
END:STANDARD
BEGIN:DAYLIGHT
TZOFFSETFROM:+0100
TZOFFSETTO:+0200
TZNAME:CEST
DTSTART:20240331T010000
END:DAYLIGHT
BEGIN:STANDARD
TZOFFSETFROM:+0200
TZOFFSETTO:+0100
TZNAME:CET
DTSTART:20241027T010000
END:STANDARD
BEGIN:DAYLIGHT
TZOFFSETFROM:+0100
TZOFFSETTO:+0200
TZNAME:CEST
DTSTART:20250330T010000
END:DAYLIGHT
BEGIN:STANDARD
TZOFFSETFROM:+0200
TZOFFSETTO:+0100
TZNAME:CET
DTSTART:20251026T010000
END:STANDARD
END:VTIMEZONE
BEGIN:VEVENT
DTSTART;TZID=Europe/Madrid:20240707T180000
DTEND;TZID=Europe/Madrid:20240707T230000
DTSTAMP:20260423T212852
CREATED:20240621T074430Z
LAST-MODIFIED:20240717T133607Z
UID:10018832-1720375200-1720393200@disfruta-denia.com
SUMMARY:Mercat del Riurau Jesus Pobre
DESCRIPTION:¡Este domingo 23 de junio\, celebra San Juan con nosotros en el Mercat del Riurau! Tendremos una «hoguera» especial\, y Juan Riera nos deleitará con su acordeón\, recreando la música tradicional como se hacía antaño.Colgaremos los deseos recogidos durante las anteriores semanas y esperamos a todo el mundo para compartir este momento mágico. ¿Dónde? En Jesús Pobre ¿Cuándo? El domingo 23 de junio\, de 18:00 a 23:00¡Ven y celebra San Juan con nosotros en el Mercat del Riurau! 
URL:https://disfruta-denia.com/evento/mercat-del-riurau-jesus-pobre-2-25-3-2/2024-07-07/
LOCATION:Mercado Riurau Jesus Pobre\, Jesus Pobre\, Alicante\, 03749\, España
CATEGORIES:Concierto,Gastronomía,Mercado
ATTACH;FMTTYPE=image/jpeg:https://disfruta-denia.com/wp-content/uploads/2024/06/448754435_846387224191310_5448200267090576166_n.jpg
END:VEVENT
BEGIN:VEVENT
DTSTART;TZID=Europe/Madrid:20240714T180000
DTEND;TZID=Europe/Madrid:20240714T230000
DTSTAMP:20260423T212852
CREATED:20240621T074430Z
LAST-MODIFIED:20240717T133607Z
UID:10018833-1720980000-1720998000@disfruta-denia.com
SUMMARY:Mercat del Riurau Jesus Pobre
DESCRIPTION:¡Este domingo 23 de junio\, celebra San Juan con nosotros en el Mercat del Riurau! Tendremos una «hoguera» especial\, y Juan Riera nos deleitará con su acordeón\, recreando la música tradicional como se hacía antaño.Colgaremos los deseos recogidos durante las anteriores semanas y esperamos a todo el mundo para compartir este momento mágico. ¿Dónde? En Jesús Pobre ¿Cuándo? El domingo 23 de junio\, de 18:00 a 23:00¡Ven y celebra San Juan con nosotros en el Mercat del Riurau! 
URL:https://disfruta-denia.com/evento/mercat-del-riurau-jesus-pobre-2-25-3-2/2024-07-14/
LOCATION:Mercado Riurau Jesus Pobre\, Jesus Pobre\, Alicante\, 03749\, España
CATEGORIES:Concierto,Gastronomía,Mercado
ATTACH;FMTTYPE=image/jpeg:https://disfruta-denia.com/wp-content/uploads/2024/06/448754435_846387224191310_5448200267090576166_n.jpg
END:VEVENT
BEGIN:VEVENT
DTSTART;TZID=Europe/Madrid:20240721T180000
DTEND;TZID=Europe/Madrid:20240721T230000
DTSTAMP:20260423T212852
CREATED:20240718T160926Z
LAST-MODIFIED:20240718T160927Z
UID:10018834-1721584800-1721602800@disfruta-denia.com
SUMMARY:Mercat del Riurau Jesus Pobre
DESCRIPTION:¡Este domingo 21 de julio\, ven al Mercat del Riurau y disfruta de música en directo! \n\n\nAbrimos de 18:00 a 23:00\, y a partir de las 20:00\, tendremos la actuación de Pixiestix\, que nos deleitarán con su increíble talento y energéticas melodías.\n\n\nÚnete a nosotros para una tarde llena de buena música\, productos locales\, artesanía y delicias frescas.\n\n\n ¿Dónde? En Jesús Pobre\n\n\n ¿Cuándo? El domingo 21 de julio\, de 18:00 a 23:00\n\n\n¡Te esperamos este domingo en el Mercat del Riurau!
URL:https://disfruta-denia.com/evento/mercat-del-riurau-jesus-pobre-2-25-3-2-2/2024-07-21/
LOCATION:Mercado Riurau Jesus Pobre\, Jesus Pobre\, Alicante\, 03749\, España
CATEGORIES:Concierto,Gastronomía,Mercado
ATTACH;FMTTYPE=image/jpeg:https://disfruta-denia.com/wp-content/uploads/2024/06/451546111_864034015759964_3923602328096875256_n.jpg
END:VEVENT
BEGIN:VEVENT
DTSTART;TZID=Europe/Madrid:20240728T180000
DTEND;TZID=Europe/Madrid:20240728T230000
DTSTAMP:20260423T212852
CREATED:20240727T080233Z
LAST-MODIFIED:20240727T080234Z
UID:10018835-1722189600-1722207600@disfruta-denia.com
SUMMARY:Mercat del Riurau Jesus Pobre
DESCRIPTION:Este domingo 28 de julio\, ven al Mercat del Riurau y disfruta de música en directo! Abrimos de 18:00 a 23:00\, y a partir de las 20:00\, tendremos la actuación de Looping Greis. Esta talentosa artista utiliza una loop station para crear increíbles canciones en vivo. ¡No te lo pierdas!Únete a nosotros para una tarde llena de buena música\, productos locales\, artesanía y delicias frescas. ¿Dónde? En Jesús Pobre ¿Cuándo? El domingo 28 de julio\, de 18:00 a 23:00¡Te esperamos este domingo en el Mercat del Riurau! 
URL:https://disfruta-denia.com/evento/mercat-del-riurau-jesus-pobre-2-25-3-2-2-2/
LOCATION:Mercado Riurau Jesus Pobre\, Jesus Pobre\, Alicante\, 03749\, España
CATEGORIES:Concierto,Gastronomía,Mercado
ATTACH;FMTTYPE=image/jpeg:https://disfruta-denia.com/wp-content/uploads/2024/07/452950973_868853568611342_2739347617295763292_n.jpg
END:VEVENT
END:VCALENDAR