BEGIN:VCALENDAR
VERSION:2.0
PRODID:-//Disfruta Denia - ECPv6.15.20//NONSGML v1.0//EN
CALSCALE:GREGORIAN
METHOD:PUBLISH
X-WR-CALNAME:Disfruta Denia
X-ORIGINAL-URL:https://disfruta-denia.com
X-WR-CALDESC:Eventos para Disfruta Denia
REFRESH-INTERVAL;VALUE=DURATION:PT1H
X-Robots-Tag:noindex
X-PUBLISHED-TTL:PT1H
BEGIN:VTIMEZONE
TZID:Europe/Madrid
BEGIN:DAYLIGHT
TZOFFSETFROM:+0100
TZOFFSETTO:+0200
TZNAME:CEST
DTSTART:20230326T010000
END:DAYLIGHT
BEGIN:STANDARD
TZOFFSETFROM:+0200
TZOFFSETTO:+0100
TZNAME:CET
DTSTART:20231029T010000
END:STANDARD
BEGIN:DAYLIGHT
TZOFFSETFROM:+0100
TZOFFSETTO:+0200
TZNAME:CEST
DTSTART:20240331T010000
END:DAYLIGHT
BEGIN:STANDARD
TZOFFSETFROM:+0200
TZOFFSETTO:+0100
TZNAME:CET
DTSTART:20241027T010000
END:STANDARD
BEGIN:DAYLIGHT
TZOFFSETFROM:+0100
TZOFFSETTO:+0200
TZNAME:CEST
DTSTART:20250330T010000
END:DAYLIGHT
BEGIN:STANDARD
TZOFFSETFROM:+0200
TZOFFSETTO:+0100
TZNAME:CET
DTSTART:20251026T010000
END:STANDARD
END:VTIMEZONE
BEGIN:VEVENT
DTSTART;TZID=Europe/Madrid:20240901T180000
DTEND;TZID=Europe/Madrid:20240901T230000
DTSTAMP:20260423T181925
CREATED:20240829T163614Z
LAST-MODIFIED:20240829T163615Z
UID:10018840-1725213600-1725231600@disfruta-denia.com
SUMMARY:Mercat del Riurau Jesus Pobre
DESCRIPTION:¡Este domingo 1 de septiembre\, ven al Mercat del Riurau y disfruta de un concierto muy especial! \n\n\nA partir de las 20:00\, tendremos la actuación de los «Voluntarios Europeos»\, un grupo de músicos que viajan por Europa compartiendo su música y alegría. ¡No te pierdas esta ocasión única!\n\n\nEl Mercat del Riurau estará abierto de 18:00 a 23:00\, con los mejores productos locales\, artesanía y comida fresca.\n\n\n ¿Dónde? En Jesús Pobre\n\n\n ¿Cuándo? Domingo 1 de septiembre\, de 18:00 a 23:00\n\n\n¡Te esperamos para pasar una tarde llena de música y buen ambiente!
URL:https://disfruta-denia.com/evento/mercat-del-riurau-jesus-pobre-2-25-3-2-2-6/
LOCATION:Mercado Riurau Jesus Pobre\, Jesus Pobre\, Alicante\, 03749\, España
CATEGORIES:Concierto,Gastronomía,Mercado
ATTACH;FMTTYPE=image/jpeg:https://disfruta-denia.com/wp-content/uploads/2024/07/457457465_890725586424140_7988640079169216681_n-e1724949367971.jpg
END:VEVENT
BEGIN:VEVENT
DTSTART;TZID=Europe/Madrid:20240908T180000
DTEND;TZID=Europe/Madrid:20240908T230000
DTSTAMP:20260423T181925
CREATED:20240905T154639Z
LAST-MODIFIED:20240905T154640Z
UID:10018841-1725818400-1725836400@disfruta-denia.com
SUMMARY:Mercat del Riurau Jesus Pobre
DESCRIPTION:Este domingo 8 de septiembre\, ven al Mercat del Riurau y disfruta de la música en directo de «Camacrua» a partir de las 20:00! El mercado estará abierto de 18:00 a 23:00\, como siempre con los mejores productos locales\, artesanía y alimentos frescos. ¿Dónde? En Jesús Pobre ¿Cuándo? Domingo 8 de septiembre\, de 18:00 a 23:00¡Te esperamos para una tarde llena de música y buen ambiente! 
URL:https://disfruta-denia.com/evento/mercat-del-riurau-jesus-pobre-2-25-3-2-2-7/
LOCATION:Mercado Riurau Jesus Pobre\, Jesus Pobre\, Alicante\, 03749\, España
CATEGORIES:Concierto,Gastronomía,Mercado
ATTACH;FMTTYPE=image/jpeg:https://disfruta-denia.com/wp-content/uploads/2024/07/458427625_895291459300886_8149387869572531421_n-e1725551190706.jpg
END:VEVENT
BEGIN:VEVENT
DTSTART;TZID=Europe/Madrid:20240915T180000
DTEND;TZID=Europe/Madrid:20240915T230000
DTSTAMP:20260423T181925
CREATED:20240915T113330Z
LAST-MODIFIED:20240915T113331Z
UID:10018842-1726423200-1726441200@disfruta-denia.com
SUMMARY:Mercat del Riurau Jesus Pobre
DESCRIPTION: Este domingo 15 de septiembre\, no te pierdas el último Mercat del Riurau de la temporada por la tarde! Para despedirnos del horario de verano\, tendremos música en directo a cargo de Rivenants\, un dúo que nos ofrecerá versiones a partir de las 20:00.El mercado estará abierto de 18:00 a 23:00\, como siempre con los mejores productos locales\, artesanía y alimentos frescos. ¿Dónde? En Jesús Pobre ¿Cuándo? Domingo 15 de septiembre\, de 18:00 a 23:00¡Te esperamos para disfrutar de la última tarde llena de música y buen ambiente! A partir de la próxima semana\, nos despedimos de nuestro horario de tarde\, pero continuaremos con horario de mañana\, de 9:00 a 14:00. 
URL:https://disfruta-denia.com/evento/mercat-del-riurau-jesus-pobre-2-25-3-2-2-8/
LOCATION:Mercado Riurau Jesus Pobre\, Jesus Pobre\, Alicante\, 03749\, España
CATEGORIES:Concierto,Gastronomía,Mercado
ATTACH;FMTTYPE=image/jpeg:https://disfruta-denia.com/wp-content/uploads/2024/07/459508786_900095502153815_9119419760844841782_n.jpg
END:VEVENT
BEGIN:VEVENT
DTSTART;TZID=Europe/Madrid:20240922T090000
DTEND;TZID=Europe/Madrid:20240922T140000
DTSTAMP:20260423T181925
CREATED:20240921T134206Z
LAST-MODIFIED:20240921T134207Z
UID:10018843-1726995600-1727013600@disfruta-denia.com
SUMMARY:Mercat del Riurau Jesus Pobre
DESCRIPTION:Este domingo 22 de septiembre cambiamos a horario de mañana! El Mercat del Riurau abrirá de 9:00 a 14:00. Además\, a las 12:30 disfrutaremos de un taller participativo de danzas del mundo. ¡Ven a bailar con nosotros y a descubrir culturas a través de la música y la danza!  ¿Dónde? En Jesús Pobre ¿Cuándo? Domingo 22 de septiembre\, de 9:00 a 14:00¡No te lo pierdas\, te esperamos
URL:https://disfruta-denia.com/evento/mercat-del-riurau-jesus-pobre-3/
LOCATION:Mercado Riurau Jesus Pobre\, Jesus Pobre\, Alicante\, 03749\, España
CATEGORIES:Concierto,Gastronomía,Mercado
ATTACH;FMTTYPE=image/jpeg:https://disfruta-denia.com/wp-content/uploads/2024/09/460637341_905750331588332_1491482061837647719_n.jpg
END:VEVENT
BEGIN:VEVENT
DTSTART;TZID=Europe/Madrid:20240922T123000
DTEND;TZID=Europe/Madrid:20240922T143000
DTSTAMP:20260423T181925
CREATED:20240831T102958Z
LAST-MODIFIED:20240831T103121Z
UID:10019271-1727008200-1727015400@disfruta-denia.com
SUMMARY:Fusión de sentidos - degustación a bordo
DESCRIPTION:Navega con una degustación de tapas a bordo\, concierto de música en vivo y la magia de un artista creando pinturas del mar en directo!\nA continuación\, exposición de pinturas en el restaurante Místico del 22 septiembre al 22 de octubre en la plaza del Convent\, 6\, 03700\, Denia.\n• Música: Altea Bues Proyect\n• Restaurante: Místico Restaurante\n• Pintor: Hans Petter Fjugstad
URL:https://disfruta-denia.com/evento/fusion-de-sentidos-degustacion-a-bordo/2024-09-22/
LOCATION:Muelle Mundo Marino\, Esplanada Cervantes\, 23\, Denia\, Alicante\, 03700\, España
CATEGORIES:Cata,Cultura,Excursión,Exposiciones,Gastronomía
ATTACH;FMTTYPE=image/jpeg:https://disfruta-denia.com/wp-content/uploads/2024/08/457361108_1064261152368457_851324482060992919_n.jpg
END:VEVENT
BEGIN:VEVENT
DTSTART;TZID=Europe/Madrid:20240922T123000
DTEND;TZID=Europe/Madrid:20240922T170000
DTSTAMP:20260423T181925
CREATED:20240902T132547Z
LAST-MODIFIED:20240911T133207Z
UID:10019281-1727008200-1727024400@disfruta-denia.com
SUMMARY:Viu l'Arròs Mariner
DESCRIPTION:Els Magazinos homenajeará a los pescadores y al arroz marinero en una jornada festiva el domingo 22 de septiembre\n  \n\n\n\n\nEl próximo domingo 22 de septiembre\, todo girará en torno al arroz marinero en Els Magazinos\, que celebrará por tercer año consecutivo una jornada cultural y gastronómica abierta al público. Dentro de la programación de Viu l´arròs mariner\, también se organizará un concurso popular para elegir la mejor receta de este plato que los pescadores cocinaban antiguamente a bordo para la tripulación. Con esta iniciativa\, enmarcada dentro del proyecto Cuina de Territori\, Els Magazinos en colaboración con Cerveza Turia pretende recuperar y poner en valor las tradiciones de La Marina Alta a través de los productos de temporada y los productores locales. En esta ocasión\, el cartel es una creación de Bonavista Taller\, tras el que se encuentran las diseñadoras castellonenses Júlia Badia y Glòria Esteve\, con un estilo lleno de color\, frescura y naturalidad mediterráneas. \nViu l´arròs mariner\, que se celebra este 2024 por tercer año consecutivo\, recoge el relevo de las Jornadas de Arròs Mariner\, de las que ya se celebraron cuatro ediciones desde 2006\, con Diana y Federico Cervera como impulsores. \n\n\n\n\n\n\n\n\nProgramación Viu l´Arròs Mariner – domingo 22 de septiembre \n10:30 a 11:30h. Mesa redonda “El arroz marinero\, cultura del mar e historia de nuestra cocina”. Participarán Edu Torres\, cuarta generación de la marca familiar de arroces Molino Roca; Marc Ros\, patrón de la barca Cap Prim Segón de Xàbia; Francisco Ferrándiz Mariguindas\, pescador de trasmallo de la Cofradía de Dénia y propietario del Bar Al Vermutet; Juandi Noguera\, pescador de trasmallo de Teulada-Moraira; Rafael Margós del restaurante familiar Las Bairetas (Chiva\, Valencia) y fundador de El Paeller; Carmina Crespo Hervás del Restaurante L´Alter (Picassent\, Valencia)\, cuya paella ha sido recomendada por The New York Times como la mejor de Valencia; José Orihuel\, productor y agricultor de arroz de Pego y presidente de la sectorial de arroz de Alicante y Javier Calvo\, Doctor en Historia. \nUbicación: Restaurante Les Cuinetes. \n\n\n\n\n\n\n\n\n\n\n\nMesa redonda “El arroz marinero\, cultura del mar e historia de nuestra cocina”\n\n\n\n\n\n\n\n\n\n\n\n11:30 a 14:00h. CÓRNER + TALLERES en la zona de paellas. \n\n\nARROZ D.O. Valencia de la variedad bomba proveniente de los campos de Pego. \n\n\nEL PAELLER\, rincón con caldos y preparados de arroces. \n\n\nArroces MOLINO ROCA. \n\n\n12 a 14h. PAELLA POPULAR realizada por El Paeller con su caldo de pescado hecho a leña y pescado del Pòsit de Dénia. En esa misma franja horaria\, se podrá disfrutar también de una RUTA DE TAPAS con productos de temporada + CERVEZA TURIA por 10€ en la Calle de los Sabores de Els Magazinos. \n12 a 14h. III CONCURSO DE ARROCES VIU L´ARRÒS MARINER elaborados con arroz bomba\, D.O. Valencia\, cultivado en los campos de Pego. \n15h. ENTREGA DE PREMIOS. \n\n\n\n\n\n\n\n\n\n\n\n\n\n\n\n\nIII Concurso Viu l´Arròs Mariner \nEn el III Concurso Viu l´Arròs Mariner podrán participar todas aquellas personas\, cocineros o cocinillas\, que sean grandes maestros arroceros en sus restaurantes\, casas o barcas. Los interesados pueden presentarse hasta el 15 de septiembre enviando un e-mail a hola@elsmagazinos.com o un WhatsApp al teléfono 609939607 con su receta de arròs mariner para 10 personas\, explicando cómo realiza el fondo de pescado y qué pescados de nuestras lonjas y arroz utiliza para su elaboración. La organización elegirá a 8 finalistas que competirán el domingo 22 de septiembre en Els Magazinos. \nEl jurado estará formado por Edu Torres de Molino Roca; Juandi Noguera\, pescador de Teulada-Moraira; Rafael Margós de El Paeller; Carmina Crespo Hervás del Restaurante L´Alter (Picassent\, Valencia); José Orihuel\, productor y agricultor de arroz de Pego y presidente de la sectorial de arroz de Alicante; Pepe Vidal\, experto en gastronomía mediterránea y director del CdT de Dénia durante 25 años; Alfons Padilla\, redactor corresponsal en La Marina Alta del periódico Levante EMV y Josep Martí de Cerveza Turia. Ellos serán los encargados de puntuar el caldo\, el sabor\, el aspecto visual y el color\, el punto del arroz\, la elección de productos o el socarrat. \nEste año habrá tres premios: el Premio al Mejor Arroz Marinero tradicional\, que será de 400€; el Premio al Mejor Arroz Marinero creativo\, también de 400€\, así como un tercer premio que recibirá 100€. Este concurso es posible gracias a Cerveza Turia y a la colaboración de Hostelbe.
URL:https://disfruta-denia.com/evento/viu-larros-mariner/
LOCATION:Els Magazinos\, Carrer Pont 19\, Denia\, Alicante\, 03700\, España
CATEGORIES:Gastronomía
ATTACH;FMTTYPE=image/jpeg:https://disfruta-denia.com/wp-content/uploads/2024/09/458070587_933364545485368_5914981094370398781_n-e1726061029163.jpg
END:VEVENT
BEGIN:VEVENT
DTSTART;TZID=Europe/Madrid:20240927T183000
DTEND;TZID=Europe/Madrid:20240927T200000
DTSTAMP:20260423T181925
CREATED:20240905T130602Z
LAST-MODIFIED:20240905T130602Z
UID:10019287-1727461800-1727467200@disfruta-denia.com
SUMMARY:Paseo en barco gastronómico en el festival D*NA
DESCRIPTION:Paseo en barco gastronómico en el festival D*NA\n\n¡Embárcate con Mundomarino y disfruta de una experiencia única que fusiona navegación y gastronomía en el espectacular Festival D*NA de Denia! \nÚnete a nosotros en un exclusivo paseo en catamarán hacia el Festival D*NA\, un evento que celebra la rica tradición culinaria de la región. Durante esta travesía\, tendrás la oportunidad de saborear una degustación especial de productos frescos y ecológicos de la huerta de Denia\, mientras disfrutas de las vistas impresionantes de la costa. \nLa actividad incluye una selección de productos locales como las deliciosas cocas\, pasas artesanales\, y el refrescante zumo de granada ecológico\, todo ello cortesía de nuestros colaboradores en la huerta de Denia: Carnot\, M de Alejandría\, y Mercat. \nEste evento no solo es una celebración de la gastronomía local\, sino también una ocasión para conectar con la naturaleza y la cultura de la Marina Alta. ¡No te pierdas esta oportunidad de vivir una experiencia culinaria y marítima única!
URL:https://disfruta-denia.com/evento/paseo-en-barco-gastronomico-en-el-festival-dna/
LOCATION:Muelle Mundo Marino\, Esplanada Cervantes\, 23\, Denia\, Alicante\, 03700\, España
CATEGORIES:Excursión,Gastronomía
ATTACH;FMTTYPE=image/jpeg:https://disfruta-denia.com/wp-content/uploads/2024/09/FESTIVAL-DNA-PASEO-1.jpg
END:VEVENT
BEGIN:VEVENT
DTSTART;TZID=Europe/Madrid:20240929T090000
DTEND;TZID=Europe/Madrid:20240929T140000
DTSTAMP:20260423T181925
CREATED:20240919T074240Z
LAST-MODIFIED:20240919T074241Z
UID:10019342-1727600400-1727618400@disfruta-denia.com
SUMMARY:Mercat del Riurau Jesus Pobre
DESCRIPTION: Este domingo 15 de septiembre\, no te pierdas el último Mercat del Riurau de la temporada por la tarde! Para despedirnos del horario de verano\, tendremos música en directo a cargo de Rivenants\, un dúo que nos ofrecerá versiones a partir de las 20:00.El mercado estará abierto de 18:00 a 23:00\, como siempre con los mejores productos locales\, artesanía y alimentos frescos. ¿Dónde? En Jesús Pobre ¿Cuándo? Domingo 15 de septiembre\, de 18:00 a 23:00¡Te esperamos para disfrutar de la última tarde llena de música y buen ambiente! A partir de la próxima semana\, nos despedimos de nuestro horario de tarde\, pero continuaremos con horario de mañana\, de 9:00 a 14:00. 
URL:https://disfruta-denia.com/evento/mercat-del-riurau-jesus-pobre-2-25-3-2-2-8-2/2024-09-29/
LOCATION:Mercado Riurau Jesus Pobre\, Jesus Pobre\, Alicante\, 03749\, España
CATEGORIES:Concierto,Gastronomía,Mercado
ATTACH;FMTTYPE=image/jpeg:https://disfruta-denia.com/wp-content/uploads/2024/09/386235539_692426246254076_5666731372830658096_n.jpg
END:VEVENT
END:VCALENDAR