BEGIN:VCALENDAR
VERSION:2.0
PRODID:-//Disfruta Denia - ECPv6.15.20//NONSGML v1.0//EN
CALSCALE:GREGORIAN
METHOD:PUBLISH
X-ORIGINAL-URL:https://disfruta-denia.com
X-WR-CALDESC:Eventos para Disfruta Denia
REFRESH-INTERVAL;VALUE=DURATION:PT1H
X-Robots-Tag:noindex
X-PUBLISHED-TTL:PT1H
BEGIN:VTIMEZONE
TZID:Europe/Madrid
BEGIN:DAYLIGHT
TZOFFSETFROM:+0100
TZOFFSETTO:+0200
TZNAME:CEST
DTSTART:20230326T010000
END:DAYLIGHT
BEGIN:STANDARD
TZOFFSETFROM:+0200
TZOFFSETTO:+0100
TZNAME:CET
DTSTART:20231029T010000
END:STANDARD
BEGIN:DAYLIGHT
TZOFFSETFROM:+0100
TZOFFSETTO:+0200
TZNAME:CEST
DTSTART:20240331T010000
END:DAYLIGHT
BEGIN:STANDARD
TZOFFSETFROM:+0200
TZOFFSETTO:+0100
TZNAME:CET
DTSTART:20241027T010000
END:STANDARD
BEGIN:DAYLIGHT
TZOFFSETFROM:+0100
TZOFFSETTO:+0200
TZNAME:CEST
DTSTART:20250330T010000
END:DAYLIGHT
BEGIN:STANDARD
TZOFFSETFROM:+0200
TZOFFSETTO:+0100
TZNAME:CET
DTSTART:20251026T010000
END:STANDARD
END:VTIMEZONE
BEGIN:VEVENT
DTSTART;TZID=Europe/Madrid:20241006T090000
DTEND;TZID=Europe/Madrid:20241006T140000
DTSTAMP:20260423T163939
CREATED:20240919T074240Z
LAST-MODIFIED:20240919T074241Z
UID:10019343-1728205200-1728223200@disfruta-denia.com
SUMMARY:Mercat del Riurau Jesus Pobre
DESCRIPTION: Este domingo 15 de septiembre\, no te pierdas el último Mercat del Riurau de la temporada por la tarde! Para despedirnos del horario de verano\, tendremos música en directo a cargo de Rivenants\, un dúo que nos ofrecerá versiones a partir de las 20:00.El mercado estará abierto de 18:00 a 23:00\, como siempre con los mejores productos locales\, artesanía y alimentos frescos. ¿Dónde? En Jesús Pobre ¿Cuándo? Domingo 15 de septiembre\, de 18:00 a 23:00¡Te esperamos para disfrutar de la última tarde llena de música y buen ambiente! A partir de la próxima semana\, nos despedimos de nuestro horario de tarde\, pero continuaremos con horario de mañana\, de 9:00 a 14:00. 
URL:https://disfruta-denia.com/evento/mercat-del-riurau-jesus-pobre-2-25-3-2-2-8-2/2024-10-06/
LOCATION:Mercado Riurau Jesus Pobre\, Jesus Pobre\, Alicante\, 03749\, España
CATEGORIES:Concierto,Gastronomía,Mercado
ATTACH;FMTTYPE=image/jpeg:https://disfruta-denia.com/wp-content/uploads/2024/09/386235539_692426246254076_5666731372830658096_n.jpg
END:VEVENT
BEGIN:VEVENT
DTSTART;TZID=Europe/Madrid:20241013T090000
DTEND;TZID=Europe/Madrid:20241013T140000
DTSTAMP:20260423T163939
CREATED:20241012T155820Z
LAST-MODIFIED:20241012T155821Z
UID:10019344-1728810000-1728828000@disfruta-denia.com
SUMMARY:Mercat del Riurau Jesus Pobre
DESCRIPTION: Este domingo 15 de septiembre\, no te pierdas el último Mercat del Riurau de la temporada por la tarde! Para despedirnos del horario de verano\, tendremos música en directo a cargo de Rivenants\, un dúo que nos ofrecerá versiones a partir de las 20:00.El mercado estará abierto de 18:00 a 23:00\, como siempre con los mejores productos locales\, artesanía y alimentos frescos. ¿Dónde? En Jesús Pobre ¿Cuándo? Domingo 15 de septiembre\, de 18:00 a 23:00¡Te esperamos para disfrutar de la última tarde llena de música y buen ambiente! A partir de la próxima semana\, nos despedimos de nuestro horario de tarde\, pero continuaremos con horario de mañana\, de 9:00 a 14:00. 
URL:https://disfruta-denia.com/evento/mercat-del-riurau-jesus-pobre-2-25-3-2-2-8-2-2/
LOCATION:Mercado Riurau Jesus Pobre\, Jesus Pobre\, Alicante\, 03749\, España
CATEGORIES:Concierto,Gastronomía,Mercado
ATTACH;FMTTYPE=image/jpeg:https://disfruta-denia.com/wp-content/uploads/2024/09/386235539_692426246254076_5666731372830658096_n.jpg
END:VEVENT
BEGIN:VEVENT
DTSTART;TZID=Europe/Madrid:20241014T130000
DTEND;TZID=Europe/Madrid:20241201T160000
DTSTAMP:20260423T163939
CREATED:20241008T070020Z
LAST-MODIFIED:20241008T070039Z
UID:10019651-1728910800-1733068800@disfruta-denia.com
SUMMARY:X edición Jornadas de cuchara de Dénia
DESCRIPTION:
URL:https://disfruta-denia.com/evento/x-edicion-jornadas-de-cuchara-de-denia/
LOCATION:Denia\, Denia\, Alicante\, 03700\, España
CATEGORIES:Gastronomía
ATTACH;FMTTYPE=image/jpeg:https://disfruta-denia.com/wp-content/uploads/2024/10/461955968_10230729518248837_1620869099120418087_n.jpg
END:VEVENT
BEGIN:VEVENT
DTSTART;TZID=Europe/Madrid:20241020T090000
DTEND;TZID=Europe/Madrid:20241020T140000
DTSTAMP:20260423T163939
CREATED:20241018T075646Z
LAST-MODIFIED:20241018T075649Z
UID:10019345-1729414800-1729432800@disfruta-denia.com
SUMMARY:Mercat del Riurau Jesus Pobre
DESCRIPTION:Este domingo volvemos más fuertes que nunca después de dos semanas de descanso! Tenemos Mercat d’Artistes con una zona especial reservada para pintores\, escultores y muchos más creadores que vendrán a compartir sus obras con todos vosotros. ¡No te lo pierdas! ¿Dónde? En Jesús Pobre
URL:https://disfruta-denia.com/evento/mercat-del-riurau-jesus-pobre-2-25-3-2-2-8-2-3/
LOCATION:Mercado Riurau Jesus Pobre\, Jesus Pobre\, Alicante\, 03749\, España
CATEGORIES:Concierto,Gastronomía,Mercado
ATTACH;FMTTYPE=image/jpeg:https://disfruta-denia.com/wp-content/uploads/2024/09/463771578_926413586188673_2802188798513452499_n.jpg
END:VEVENT
BEGIN:VEVENT
DTSTART;TZID=Europe/Madrid:20241020T110000
DTEND;TZID=Europe/Madrid:20241020T190000
DTSTAMP:20260423T163939
CREATED:20241019T135547Z
LAST-MODIFIED:20241019T135602Z
UID:10019668-1729422000-1729450800@disfruta-denia.com
SUMMARY:Feria del queso en Magazinos
DESCRIPTION:¡Celebramos juntos la pasión por el Queso! \nÚnete a la IV Feria y Mercado de Artesanos del Queso de la Comunidad Valenciana. Els Magazinos\, el mercado gastronómico y cultural de Dénia\, pretende potenciar la relevancia de los productos artesanos de proximidad\, así como apostar por la producción cercana visibilizando a los productores que se encuentran detrás de los mismos. \nEste año contará con la participación de cuatro queserías artesanales de la provincia de Alicante y dos queserías invitadas de fuera de nuestra región: una nacional y una internacional. \n\n\n\n\n\n\n\n\n\n\n\n\n\n\n\n\n\n\n\n\n\n\n\n\n\n\n\n\n\n\n\n\n\n\n\nProgramación• 11h. a 12:30h. Mesa redonda con cata de 6 quesos\, uno de cada quesería\, guiada por José Bas\, “aficionador de quesos”\, y Cerveza Turia. Aforo limitado a 30 personas\, necesaria inscripción previa en la web de Els Magazinos. Ubicación: Les Cuinetes. \n• 12h.-14.30h. y 16h.-19h. Mercado de quesos artesanos en la plaza de Els Magazinos.
URL:https://disfruta-denia.com/evento/feria-del-queso-en-magazinos/
LOCATION:Els Magazinos\, Carrer Pont 19\, Denia\, Alicante\, 03700\, España
CATEGORIES:Gastronomía
ATTACH;FMTTYPE=image/jpeg:https://disfruta-denia.com/wp-content/uploads/2024/10/unnamed.jpg
END:VEVENT
BEGIN:VEVENT
DTSTART;VALUE=DATE:20241024
DTEND;VALUE=DATE:20241119
DTSTAMP:20260423T163939
CREATED:20241019T080248Z
LAST-MODIFIED:20241021T174643Z
UID:10019667-1729742400-1731902399@disfruta-denia.com
SUMMARY:XXIV Ruta de Tapas Dénia 2024
DESCRIPTION:esperando detalles
URL:https://disfruta-denia.com/evento/xxiv-ruta-de-tapas-denia-2024/
LOCATION:Denia\, Denia\, Alicante\, 03700\, España
CATEGORIES:Gastronomía
ATTACH;FMTTYPE=image/jpeg:https://disfruta-denia.com/wp-content/uploads/2024/10/463619142_10230848547864503_1603112267228653196_n-e1729532798838.jpg
END:VEVENT
BEGIN:VEVENT
DTSTART;TZID=Europe/Madrid:20241027T090000
DTEND;TZID=Europe/Madrid:20241027T140000
DTSTAMP:20260423T163939
CREATED:20240919T074240Z
LAST-MODIFIED:20240919T074241Z
UID:10019346-1730019600-1730037600@disfruta-denia.com
SUMMARY:Mercat del Riurau Jesus Pobre
DESCRIPTION: Este domingo 15 de septiembre\, no te pierdas el último Mercat del Riurau de la temporada por la tarde! Para despedirnos del horario de verano\, tendremos música en directo a cargo de Rivenants\, un dúo que nos ofrecerá versiones a partir de las 20:00.El mercado estará abierto de 18:00 a 23:00\, como siempre con los mejores productos locales\, artesanía y alimentos frescos. ¿Dónde? En Jesús Pobre ¿Cuándo? Domingo 15 de septiembre\, de 18:00 a 23:00¡Te esperamos para disfrutar de la última tarde llena de música y buen ambiente! A partir de la próxima semana\, nos despedimos de nuestro horario de tarde\, pero continuaremos con horario de mañana\, de 9:00 a 14:00. 
URL:https://disfruta-denia.com/evento/mercat-del-riurau-jesus-pobre-2-25-3-2-2-8-2/2024-10-27/
LOCATION:Mercado Riurau Jesus Pobre\, Jesus Pobre\, Alicante\, 03749\, España
CATEGORIES:Concierto,Gastronomía,Mercado
ATTACH;FMTTYPE=image/jpeg:https://disfruta-denia.com/wp-content/uploads/2024/09/386235539_692426246254076_5666731372830658096_n.jpg
END:VEVENT
END:VCALENDAR