BEGIN:VCALENDAR
VERSION:2.0
PRODID:-//Disfruta Denia - ECPv6.15.20//NONSGML v1.0//EN
CALSCALE:GREGORIAN
METHOD:PUBLISH
X-WR-CALNAME:Disfruta Denia
X-ORIGINAL-URL:https://disfruta-denia.com
X-WR-CALDESC:Eventos para Disfruta Denia
REFRESH-INTERVAL;VALUE=DURATION:PT1H
X-Robots-Tag:noindex
X-PUBLISHED-TTL:PT1H
BEGIN:VTIMEZONE
TZID:Europe/Madrid
BEGIN:DAYLIGHT
TZOFFSETFROM:+0100
TZOFFSETTO:+0200
TZNAME:CEST
DTSTART:20230326T010000
END:DAYLIGHT
BEGIN:STANDARD
TZOFFSETFROM:+0200
TZOFFSETTO:+0100
TZNAME:CET
DTSTART:20231029T010000
END:STANDARD
BEGIN:DAYLIGHT
TZOFFSETFROM:+0100
TZOFFSETTO:+0200
TZNAME:CEST
DTSTART:20240331T010000
END:DAYLIGHT
BEGIN:STANDARD
TZOFFSETFROM:+0200
TZOFFSETTO:+0100
TZNAME:CET
DTSTART:20241027T010000
END:STANDARD
BEGIN:DAYLIGHT
TZOFFSETFROM:+0100
TZOFFSETTO:+0200
TZNAME:CEST
DTSTART:20250330T010000
END:DAYLIGHT
BEGIN:STANDARD
TZOFFSETFROM:+0200
TZOFFSETTO:+0100
TZNAME:CET
DTSTART:20251026T010000
END:STANDARD
END:VTIMEZONE
BEGIN:VEVENT
DTSTART;TZID=Europe/Madrid:20241014T130000
DTEND;TZID=Europe/Madrid:20241201T160000
DTSTAMP:20260423T143214
CREATED:20241008T070020Z
LAST-MODIFIED:20241008T070039Z
UID:10019651-1728910800-1733068800@disfruta-denia.com
SUMMARY:X edición Jornadas de cuchara de Dénia
DESCRIPTION:
URL:https://disfruta-denia.com/evento/x-edicion-jornadas-de-cuchara-de-denia/
LOCATION:Denia\, Denia\, Alicante\, 03700\, España
CATEGORIES:Gastronomía
ATTACH;FMTTYPE=image/jpeg:https://disfruta-denia.com/wp-content/uploads/2024/10/461955968_10230729518248837_1620869099120418087_n.jpg
END:VEVENT
BEGIN:VEVENT
DTSTART;VALUE=DATE:20241024
DTEND;VALUE=DATE:20241119
DTSTAMP:20260423T143214
CREATED:20241019T080248Z
LAST-MODIFIED:20241021T174643Z
UID:10019667-1729742400-1731902399@disfruta-denia.com
SUMMARY:XXIV Ruta de Tapas Dénia 2024
DESCRIPTION:esperando detalles
URL:https://disfruta-denia.com/evento/xxiv-ruta-de-tapas-denia-2024/
LOCATION:Denia\, Denia\, Alicante\, 03700\, España
CATEGORIES:Gastronomía
ATTACH;FMTTYPE=image/jpeg:https://disfruta-denia.com/wp-content/uploads/2024/10/463619142_10230848547864503_1603112267228653196_n-e1729532798838.jpg
END:VEVENT
BEGIN:VEVENT
DTSTART;TZID=Europe/Madrid:20241102T123000
DTEND;TZID=Europe/Madrid:20241102T143000
DTSTAMP:20260423T143214
CREATED:20240831T102958Z
LAST-MODIFIED:20240831T103121Z
UID:10019272-1730550600-1730557800@disfruta-denia.com
SUMMARY:Fusión de sentidos - degustación a bordo
DESCRIPTION:Navega con una degustación de tapas a bordo\, concierto de música en vivo y la magia de un artista creando pinturas del mar en directo!\nA continuación\, exposición de pinturas en el restaurante Místico del 22 septiembre al 22 de octubre en la plaza del Convent\, 6\, 03700\, Denia.\n• Música: Altea Bues Proyect\n• Restaurante: Místico Restaurante\n• Pintor: Hans Petter Fjugstad
URL:https://disfruta-denia.com/evento/fusion-de-sentidos-degustacion-a-bordo/2024-11-02/
LOCATION:Muelle Mundo Marino\, Esplanada Cervantes\, 23\, Denia\, Alicante\, 03700\, España
CATEGORIES:Cata,Cultura,Excursión,Exposiciones,Gastronomía
ATTACH;FMTTYPE=image/jpeg:https://disfruta-denia.com/wp-content/uploads/2024/08/457361108_1064261152368457_851324482060992919_n.jpg
END:VEVENT
BEGIN:VEVENT
DTSTART;TZID=Europe/Madrid:20241103T090000
DTEND;TZID=Europe/Madrid:20241103T140000
DTSTAMP:20260423T143215
CREATED:20240919T074240Z
LAST-MODIFIED:20240919T074241Z
UID:10019347-1730624400-1730642400@disfruta-denia.com
SUMMARY:Mercat del Riurau Jesus Pobre
DESCRIPTION: Este domingo 15 de septiembre\, no te pierdas el último Mercat del Riurau de la temporada por la tarde! Para despedirnos del horario de verano\, tendremos música en directo a cargo de Rivenants\, un dúo que nos ofrecerá versiones a partir de las 20:00.El mercado estará abierto de 18:00 a 23:00\, como siempre con los mejores productos locales\, artesanía y alimentos frescos. ¿Dónde? En Jesús Pobre ¿Cuándo? Domingo 15 de septiembre\, de 18:00 a 23:00¡Te esperamos para disfrutar de la última tarde llena de música y buen ambiente! A partir de la próxima semana\, nos despedimos de nuestro horario de tarde\, pero continuaremos con horario de mañana\, de 9:00 a 14:00. 
URL:https://disfruta-denia.com/evento/mercat-del-riurau-jesus-pobre-2-25-3-2-2-8-2/2024-11-03/
LOCATION:Mercado Riurau Jesus Pobre\, Jesus Pobre\, Alicante\, 03749\, España
CATEGORIES:Concierto,Gastronomía,Mercado
ATTACH;FMTTYPE=image/jpeg:https://disfruta-denia.com/wp-content/uploads/2024/09/386235539_692426246254076_5666731372830658096_n.jpg
END:VEVENT
BEGIN:VEVENT
DTSTART;TZID=Europe/Madrid:20241110T090000
DTEND;TZID=Europe/Madrid:20241110T140000
DTSTAMP:20260423T143215
CREATED:20241110T081933Z
LAST-MODIFIED:20241110T081934Z
UID:10019348-1731229200-1731247200@disfruta-denia.com
SUMMARY:Mercat del Riurau Jesus Pobre
DESCRIPTION:Este Domingo: Concierto en el Mercat del Riurau  Fecha: Domingo\, 10 de noviembre Mercat: 9:00h a 14:00h Concierto de Moatr3s: 12:00h Lugar: Mercat del Riurau\, Jesús PobreEste domingo\, disfruta de una mañana especial en el Mercat del Riurau\, donde encontrarás productos locales\, sabores únicos y un ambiente increíble. Y a las 12:00h\, no te pierdas el concierto de Moatr3s para añadir aún más emoción a la jornada.¡Nos vemos para compartir buena música y vivir un domingo inolvidable en el Mercat del Riurau!
URL:https://disfruta-denia.com/evento/mercat-del-riurau-jesus-pobre-2-25-3-2-2-8-2-4/2024-11-10/
LOCATION:Mercado Riurau Jesus Pobre\, Jesus Pobre\, Alicante\, 03749\, España
CATEGORIES:Concierto,Gastronomía,Mercado
ATTACH;FMTTYPE=image/jpeg:https://disfruta-denia.com/wp-content/uploads/2024/09/465972936_942357884594243_5331458508094725501_n.jpg
END:VEVENT
BEGIN:VEVENT
DTSTART;TZID=Europe/Madrid:20241110T113000
DTEND;TZID=Europe/Madrid:20241110T113000
DTSTAMP:20260423T143215
CREATED:20241024T094253Z
LAST-MODIFIED:20241024T094437Z
UID:10020206-1731238200-1731238200@disfruta-denia.com
SUMMARY:Tast - maridatge de cervesa i formatge
DESCRIPTION:Després del tast de cerveses i pinsa\, farem un nou dedicat al maridatge de cervesa i formatge \nTastarem cinc cerveses i cinc formarges i parlarem sobre els millors i pitjors maridatges \nUna experiencia gastronomica molt divertida! \nPer asistir es precis reservar. Places limitades
URL:https://disfruta-denia.com/evento/tast-maridatge-de-cervesa-i-formatge/
LOCATION:Villa San José\, Dénia\, 03700\, España
CATEGORIES:Cata,Gastronomía
ATTACH;FMTTYPE=image/png:https://disfruta-denia.com/wp-content/uploads/2024/10/Villa-San-Jose-villa_sanjose_1952-•-Instagram-photos-and-videos-10-24-2024_11_36_AM-e1729763014973.png
END:VEVENT
BEGIN:VEVENT
DTSTART;TZID=Europe/Madrid:20241116T170000
DTEND;TZID=Europe/Madrid:20241116T190000
DTSTAMP:20260423T143215
CREATED:20241110T084001Z
LAST-MODIFIED:20241110T092115Z
UID:10020236-1731776400-1731783600@disfruta-denia.com
SUMMARY:Cata de vinos franceses
DESCRIPTION:¡Descubre el sabor de Francia en cada copa! \n\n\nTe invitamos a una experiencia única de degustación de vinos franceses\, donde podrás explorar los sabores y aromas que han hecho de estos vinos un símbolo mundial de elegancia y tradición.\n\nLlama para reservar
URL:https://disfruta-denia.com/evento/cata-de-vinos-franceses/
LOCATION:L’atelier du petit Français en Marquesado\, Avenida de marquesado\, 19-A\, Dénia\, 03700\, España
CATEGORIES:Cata,Gastronomía
ATTACH;FMTTYPE=image/jpeg:https://disfruta-denia.com/wp-content/uploads/2024/11/465861828_587698280450633_5954034247874793467_n.jpg
END:VEVENT
BEGIN:VEVENT
DTSTART;TZID=Europe/Madrid:20241117T090000
DTEND;TZID=Europe/Madrid:20241117T140000
DTSTAMP:20260423T143215
CREATED:20241115T204106Z
LAST-MODIFIED:20241115T204106Z
UID:10019349-1731834000-1731852000@disfruta-denia.com
SUMMARY:Mercat del Riurau Jesus Pobre
DESCRIPTION:Disfruta de una mañana en nuestro mercado artesanal y de proximidad con productos locales\, artesanía y buen ambiente.  Actuación en directo de Ona Nua a las 12:00 hVive la magia de su música en un entorno único.
URL:https://disfruta-denia.com/evento/mercat-del-riurau-jesus-pobre-2-25-3-2-2-8-2-4-2/
LOCATION:Mercado Riurau Jesus Pobre\, Jesus Pobre\, Alicante\, 03749\, España
CATEGORIES:Concierto,Gastronomía,Mercado
ATTACH;FMTTYPE=image/jpeg:https://disfruta-denia.com/wp-content/uploads/2024/11/466793582_947411780755520_5272657882702214649_n.jpg
END:VEVENT
BEGIN:VEVENT
DTSTART;TZID=Europe/Madrid:20241124T090000
DTEND;TZID=Europe/Madrid:20241124T140000
DTSTAMP:20260423T143215
CREATED:20241110T081933Z
LAST-MODIFIED:20241110T081934Z
UID:10019350-1732438800-1732456800@disfruta-denia.com
SUMMARY:Mercat del Riurau Jesus Pobre
DESCRIPTION:Este Domingo: Concierto en el Mercat del Riurau  Fecha: Domingo\, 10 de noviembre Mercat: 9:00h a 14:00h Concierto de Moatr3s: 12:00h Lugar: Mercat del Riurau\, Jesús PobreEste domingo\, disfruta de una mañana especial en el Mercat del Riurau\, donde encontrarás productos locales\, sabores únicos y un ambiente increíble. Y a las 12:00h\, no te pierdas el concierto de Moatr3s para añadir aún más emoción a la jornada.¡Nos vemos para compartir buena música y vivir un domingo inolvidable en el Mercat del Riurau!
URL:https://disfruta-denia.com/evento/mercat-del-riurau-jesus-pobre-2-25-3-2-2-8-2-4/2024-11-24/
LOCATION:Mercado Riurau Jesus Pobre\, Jesus Pobre\, Alicante\, 03749\, España
CATEGORIES:Concierto,Gastronomía,Mercado
ATTACH;FMTTYPE=image/jpeg:https://disfruta-denia.com/wp-content/uploads/2024/09/465972936_942357884594243_5331458508094725501_n.jpg
END:VEVENT
END:VCALENDAR