BEGIN:VCALENDAR
VERSION:2.0
PRODID:-//Disfruta Denia - ECPv6.15.20//NONSGML v1.0//EN
CALSCALE:GREGORIAN
METHOD:PUBLISH
X-WR-CALNAME:Disfruta Denia
X-ORIGINAL-URL:https://disfruta-denia.com
X-WR-CALDESC:Eventos para Disfruta Denia
REFRESH-INTERVAL;VALUE=DURATION:PT1H
X-Robots-Tag:noindex
X-PUBLISHED-TTL:PT1H
BEGIN:VTIMEZONE
TZID:Europe/Madrid
BEGIN:DAYLIGHT
TZOFFSETFROM:+0100
TZOFFSETTO:+0200
TZNAME:CEST
DTSTART:20240331T010000
END:DAYLIGHT
BEGIN:STANDARD
TZOFFSETFROM:+0200
TZOFFSETTO:+0100
TZNAME:CET
DTSTART:20241027T010000
END:STANDARD
BEGIN:DAYLIGHT
TZOFFSETFROM:+0100
TZOFFSETTO:+0200
TZNAME:CEST
DTSTART:20250330T010000
END:DAYLIGHT
BEGIN:STANDARD
TZOFFSETFROM:+0200
TZOFFSETTO:+0100
TZNAME:CET
DTSTART:20251026T010000
END:STANDARD
BEGIN:DAYLIGHT
TZOFFSETFROM:+0100
TZOFFSETTO:+0200
TZNAME:CEST
DTSTART:20260329T010000
END:DAYLIGHT
BEGIN:STANDARD
TZOFFSETFROM:+0200
TZOFFSETTO:+0100
TZNAME:CET
DTSTART:20261025T010000
END:STANDARD
END:VTIMEZONE
BEGIN:VEVENT
DTSTART;TZID=Europe/Madrid:20251005T180000
DTEND;TZID=Europe/Madrid:20251005T230000
DTSTAMP:20260422T192147
CREATED:20250913T155908Z
LAST-MODIFIED:20250913T155909Z
UID:10021648-1759687200-1759705200@disfruta-denia.com
SUMMARY:Mercat del Riurau Jesus Pobre
DESCRIPTION:MERCAT DEL RIURAU\n📍 Jesús Pobre\n📅 Domingo 14 de septiembre\n🕘 De 18:00 a 23:00 \nEste domingo vuelve el Mercat con toda su esencia: 🍅🍞 productos de proximidad\, artesanía hecha con cariño\, 🍯 dulces\, quesos\, verdura recién cogida y mucho más. \n☕ Podrás merendar al aire libre bajo los árboles del Riurau\, en un ambiente tranquilo y acogedor 🌿 \n🎶 ¡Y a las 20:00 h… concierto en directo con Rumbados para despedir el verano y para darle ritmo y alegría a la tarde! \nVen\, pasea\, compra y disfruta de todo lo que hace especial este rincón de los domingos 💚
URL:https://disfruta-denia.com/evento/mercat-del-riurau-jesus-pobre-2-25-3-2-2-8-2-4-3-6-2-2-2/2025-10-05/
LOCATION:Mercado Riurau Jesus Pobre\, Jesus Pobre\, Alicante\, 03749\, España
CATEGORIES:Concierto,Gastronomía,Mercado
ATTACH;FMTTYPE=image/jpeg:https://disfruta-denia.com/wp-content/uploads/2025/09/IMG_9866.jpg
END:VEVENT
BEGIN:VEVENT
DTSTART;TZID=Europe/Madrid:20251009T120000
DTEND;TZID=Europe/Madrid:20251012T120000
DTSTAMP:20260422T192147
CREATED:20251001T065059Z
LAST-MODIFIED:20251001T065059Z
UID:10022452-1760011200-1760270400@disfruta-denia.com
SUMMARY:Porró fest
DESCRIPTION:Del 9 al 12 de octubre el mercado gastronómico y cultural de Dénia celebra el Porró Fest\, un homenaje al tradicional recipiente valenciano\, el porró\, con motivo de la famosa fiesta alemana de la cerveza.\n–Els Magazinos ha hecho suyo el Oktoberfest y lo lleva al terreno de las tradiciones valencianas celebrando la segunda edición del Porró Fest. Una ocasión particular para celebrar el territorio en unas jornadas en torno a la cerveza y la gastronomía local\, coincidiendo además con la celebración del 9 d’octubre\, Día de la Comunitat Valenciana. \nEl evento se organiza junto a Cerveza Turia\, colaboradores habituales de Els Magazinos para estos eventos que reivindican el territorio\, y el cartel de esta edición lo ha realizado la ilustradora Maria The Koi. \n\n\n\n\n\n\n\n\n\n\n\n\n\n\n\n\n\n\n\n\n\n\n\n\n\n\n\n\n\n\n\n\n\n\n\n\n\n\n\n\n\n\n\n\n\n\n\n\n\n\n\nRuta de tapas por la Calle de los Sabores\ny paellas populares\n\n\n\n\n\n\n\n\n\n\n\n\n\n\n\n\n\n\n\n\n\nDurante los 4 días de celebración de este Oktoberfest de la Marina\, todas las personas que visiten Els Magazinos podrán darse el gusto en ‘La Calle de los Sabores’ con las delicias gastronómicas de los más de 20 locales que forman parte del mercado. Dispondrán de una oferta especial de Cerveza Turia + plato para picotear 4 personas por 16€. Todas estas propuestas gastronómicas girarán en torno a productos de proximidad de La Marina y la Comunidad Valenciana. \nAdemás\, el día 9 de octubre\, coincidiendo con el Día de la Comunitat Valenciana\, algunos locales de Els Magazinos elaborarán paellas populares. A la Fresca realizará en la plaza Dénia es Vida una paella de “la abuela”\, la croquetería Qmcomo y +QCoqueta cocinará una paella de figatells y sobrasada con cebolla caramelizada y Manzo Italian Burguer realizará una Paella Carbonara al estilo italiano y La Lola\, que realizará un arroz a Banda \nTodos los visitantes podrán disfrutar de una ración y podrán acompañarla de un porrón de Cerveza Túria por 16 €\n \n\n\n\n\n\n\n\n\n\n\n\n\n\n\n\n\n\n\n\n\n\n\n\n\n\n\n\n\n\n\n\n\n\n\n\n\n\n\n\n\n\n\n\n\n\n\n\n\n\n\n\nCONOCE LOS LOCALES PARTICIPANTES Y SU OFERTA GASTRONÓMICA DURANTE EL PORRÓ FEST: \n–\n\nLa pinchoteca: Bravas Pinchoteca (patatas bravas\, chorizo sidra y pimientos de padrón)\nTapa Loca y Atelier du Petit Français: 4 montaditos de burrata con trufa\nManzo Italian Burguer: 2 mini hamburguesas carbonara con patatas y boniato\nOstrarium: Ensaladilla rusa\nA la Fresca: Ensaladilla\, montadito de sobrasada\, queso y miel y papas aliñadas y olivas\nLa Lola: Torreznos y berenjenas\nQmcomo y +QCoqueta: croquetas de pulpo a la gallega\, coca de espinacas y embutido de la Marina\nBar Cebolla: Ropa Vieja\nFayiz Lebanon: Shawarma de ternera y papas\nAllora y Patagonia: Choripán y dos empanadas\nKamin Thai: Pad Thai\nBluefish: Sushi Dénia Crus\nFreiduría Rincón del Mar: Chopitos\nFogata Grill: Tacos de cochinita\nSan Vito: Pizza Lepanto (crema de calabaza\, fior di latte \, champiñones\, longaniza\, coppa nostrana y burrata de búfala)\nEl Baret de Robert: Atún curado de la almadraba con papas\n\n\n\n\n\n\n\n\n\n\n\n\n\n\n\n\n\n\n\n\n\n\n\n\n\n\n\n\n\n\n\n\n\n\n\n\n\n\n\nUna ocasión para revivir y celebrar\nlas tradiciones valencianas\n\n\n\n\n\n\n\n\n\n\n\n\n\n\n\n\n\n\n\n\n\nEl Porró Fest se inspira en una de las tradiciones valencianas más antiguas de conservar y beber bebidas alcohólicas\, como la cerveza: el porrón. Los orígenes de este recipiente se encuentran en Cataluña\, Comunidad Valenciana y Aragón\, donde se encuentran antecedentes del porrón desde la antigüedad. Se cree que el porró se inventó inicialmente como una forma higiénica de beber de manera colectiva. Hoy en día es una herramienta ideal para compartir bebidas con varias personas. “Beure a galet” o “gallet” es uno de los actos más tradicionales de los valencianos y cada vez que se usa un porró es una ocasión de festividad y buen ambiente. \nCompartir gastronomía\, tradición y amistad es uno de los propósitos principales de esta festividad de Els Magazinos.\n\n\n\n\n\n\n\n\n\n\n\n\n\n\n\n\nMÁS INFORMACIÓN
URL:https://disfruta-denia.com/evento/porro-fest/
LOCATION:Els Magazinos\, Carrer Pont 19\, Denia\, Alicante\, 03700\, España
CATEGORIES:Fiesta,Gastronomía
ATTACH;FMTTYPE=image/jpeg:https://disfruta-denia.com/wp-content/uploads/2025/10/unnamed-1.jpg
END:VEVENT
BEGIN:VEVENT
DTSTART;TZID=Europe/Madrid:20251012T143000
DTEND;TZID=Europe/Madrid:20251012T190000
DTSTAMP:20260422T192147
CREATED:20250929T083702Z
LAST-MODIFIED:20250929T083702Z
UID:10022446-1760279400-1760295600@disfruta-denia.com
SUMMARY:Fashion Show en Republic
DESCRIPTION:
URL:https://disfruta-denia.com/evento/fashion-show-en-republic/
LOCATION:Republic Denia\, S N\, Lugar Puerto De Denia\, 0\, Denia\, 03700\, España
CATEGORIES:Desfile,Feria,Gastronomía
ATTACH;FMTTYPE=image/jpeg:https://disfruta-denia.com/wp-content/uploads/2025/09/12756016-449d-42fe-a386-3d0e29d9f4b8-1-scaled.jpeg
END:VEVENT
BEGIN:VEVENT
DTSTART;TZID=Europe/Madrid:20251012T180000
DTEND;TZID=Europe/Madrid:20251012T230000
DTSTAMP:20260422T192147
CREATED:20250913T155908Z
LAST-MODIFIED:20250913T155909Z
UID:10021649-1760292000-1760310000@disfruta-denia.com
SUMMARY:Mercat del Riurau Jesus Pobre
DESCRIPTION:MERCAT DEL RIURAU\n📍 Jesús Pobre\n📅 Domingo 14 de septiembre\n🕘 De 18:00 a 23:00 \nEste domingo vuelve el Mercat con toda su esencia: 🍅🍞 productos de proximidad\, artesanía hecha con cariño\, 🍯 dulces\, quesos\, verdura recién cogida y mucho más. \n☕ Podrás merendar al aire libre bajo los árboles del Riurau\, en un ambiente tranquilo y acogedor 🌿 \n🎶 ¡Y a las 20:00 h… concierto en directo con Rumbados para despedir el verano y para darle ritmo y alegría a la tarde! \nVen\, pasea\, compra y disfruta de todo lo que hace especial este rincón de los domingos 💚
URL:https://disfruta-denia.com/evento/mercat-del-riurau-jesus-pobre-2-25-3-2-2-8-2-4-3-6-2-2-2/2025-10-12/
LOCATION:Mercado Riurau Jesus Pobre\, Jesus Pobre\, Alicante\, 03749\, España
CATEGORIES:Concierto,Gastronomía,Mercado
ATTACH;FMTTYPE=image/jpeg:https://disfruta-denia.com/wp-content/uploads/2025/09/IMG_9866.jpg
END:VEVENT
BEGIN:VEVENT
DTSTART;TZID=Europe/Madrid:20251019T090000
DTEND;TZID=Europe/Madrid:20251019T140000
DTSTAMP:20260422T192147
CREATED:20251018T085320Z
LAST-MODIFIED:20251018T103235Z
UID:10022519-1760864400-1760882400@disfruta-denia.com
SUMMARY:Mercat del Riurau Jesus Pobre
DESCRIPTION:🌿✨ Aquest diumenge ens espera un matí ple de gastronomia\, artesania\, música i bon rotllo! ✨🌿 \n🥁 A partir de les 11.00h podrem gaudir d’una batucada de l’escola Sambamanía\, amb qui podreu ballar i passar-ho d’allò més bé. \n🎸 I a partir de les 12.00 h\, Ulises Libre ens acompanyarà amb la seua guitarra per posar el toc final i alegre al matí. \nJesús Pobre t’acull amb ganes! Ens veiem al mercat! 🧺✨ \n—— \n🌿✨ ¡Este domingo nos espera una mañana llena de gastronomía\, artesanía\, música y buen ambiente! ✨🌿 \n🥁 A partir de las 11:00h podremos disfrutar de una batucada a cargo de la escuela Sambamanía\, con la que todos podréis bailar y pasarlo en grande. \n🎸 Y desde las 12:00 h\, Ulises Libre nos acompañará con su guitarra para poner el toque final y alegre a la mañana. \n¡Jesús Pobre te recibe con ganas! ¡Nos vemos en el mercado! 🧺✨
URL:https://disfruta-denia.com/evento/mercat-del-riurau-jesus-pobre-2-25-3-2-2-8-2-4-3-6-2-2-2-2/2025-10-19/
LOCATION:Mercado Riurau Jesus Pobre\, Jesus Pobre\, Alicante\, 03749\, España
CATEGORIES:Concierto,Gastronomía,Mercado
ATTACH;FMTTYPE=image/jpeg:https://disfruta-denia.com/wp-content/uploads/2025/09/IMG_0588.jpeg
END:VEVENT
BEGIN:VEVENT
DTSTART;TZID=Europe/Madrid:20251026T090000
DTEND;TZID=Europe/Madrid:20251026T140000
DTSTAMP:20260422T192147
CREATED:20251018T085320Z
LAST-MODIFIED:20251018T103235Z
UID:10022520-1761469200-1761487200@disfruta-denia.com
SUMMARY:Mercat del Riurau Jesus Pobre
DESCRIPTION:🌿✨ Aquest diumenge ens espera un matí ple de gastronomia\, artesania\, música i bon rotllo! ✨🌿 \n🥁 A partir de les 11.00h podrem gaudir d’una batucada de l’escola Sambamanía\, amb qui podreu ballar i passar-ho d’allò més bé. \n🎸 I a partir de les 12.00 h\, Ulises Libre ens acompanyarà amb la seua guitarra per posar el toc final i alegre al matí. \nJesús Pobre t’acull amb ganes! Ens veiem al mercat! 🧺✨ \n—— \n🌿✨ ¡Este domingo nos espera una mañana llena de gastronomía\, artesanía\, música y buen ambiente! ✨🌿 \n🥁 A partir de las 11:00h podremos disfrutar de una batucada a cargo de la escuela Sambamanía\, con la que todos podréis bailar y pasarlo en grande. \n🎸 Y desde las 12:00 h\, Ulises Libre nos acompañará con su guitarra para poner el toque final y alegre a la mañana. \n¡Jesús Pobre te recibe con ganas! ¡Nos vemos en el mercado! 🧺✨
URL:https://disfruta-denia.com/evento/mercat-del-riurau-jesus-pobre-2-25-3-2-2-8-2-4-3-6-2-2-2-2/2025-10-26/
LOCATION:Mercado Riurau Jesus Pobre\, Jesus Pobre\, Alicante\, 03749\, España
CATEGORIES:Concierto,Gastronomía,Mercado
ATTACH;FMTTYPE=image/jpeg:https://disfruta-denia.com/wp-content/uploads/2025/09/IMG_0588.jpeg
END:VEVENT
BEGIN:VEVENT
DTSTART;TZID=Europe/Madrid:20251031T170000
DTEND;TZID=Europe/Madrid:20251031T200000
DTSTAMP:20260422T192147
CREATED:20251029T092002Z
LAST-MODIFIED:20251029T092002Z
UID:10023074-1761930000-1761940800@disfruta-denia.com
SUMMARY:UN FIN DE SEMANA DE MIEDO en Els Magazinos
DESCRIPTION:UN FIN DE SEMANA DE MIEDO | 31 DE OCTUBRE – 2 DE NOVIEMBRE \n\n\nDentro de unos días vuelve un fin de semana de miedo a Els Magazinos\, el mercado de un mundo mejor .\n\n\n Sacad el disfraz y vuestro lado más terrorífico para disfrutar de «Un fin de semana de miedo»\, 3 días ambientados en Halloween\, de la mano de @cervezaturia  y con la participación de @aprosdeco\, que decorarán un altar de muertos para que os sintáis como en vuestras películas de miedo favoritas.\n\n\n No olvidéis subir a stories vuestra foto más terrorífica en el altar… ¡Estamos deseando veros! \n\n\nEl viernes 31 de 17 a 21 horas podrás pedir tu tapa preferida junto a una Cerveza Turia y te maquillaremos para hacerte sentir todavía más parte del evento .\n\n\n Durante los tres días\, los locales de la Calle de los Sabores elaborarán tapas con calabaza como protagonista\, el producto estrella de la spooky season:\n– @lalola.denia: Coca de cebolla caramelizada y queso de cabra y nueces\n– @lapinchoteca.denia: Chips de boniato con guacamole\n– @croqueteria_qmcomo: Pulpo frito de la bahía sobre crema de calabaza asada\n– @mes_q_coqueta: Coca con cremoso de calabaza con pastrami ahumado y mostaza de cerveza\n– @ostrariumbar: Mil hojas de cheese cake de calabaza y Helado de chocolate\n– @latelierdupetitfrancais y @tapaloca2023: Hamburguesa con carne vegetal de calabaza\n– @patagonia.magazinos: Bondiola con mermelada de calabaza de Patagonia\n– @alloramagazinos: Empanadas de verduras asadas con calabaza\n– @fogata.denia: Taco de cochinita con boniato\n– @bluefish.denia: Taco de atún con boniato\n– @barcebolladenia: Coca de calabaza y queso azul\n– @baretderobert: Coca de rape con crema de calabaza\n– @sanvitodenia: Pizza lepanto (crema de calabaza\, fior di latte\, champiñones\, longaniza\, coppa nostrana y burrata)\n– @alafrescadenia:\nPan de muerto con crema de calabaza\nEnsalada de burrata\, con calabaza asada\, pesto tomate seco\nCanelón de calabaza\, con pesto de salvia\, y queso de rueda valmesano\n\n\n Te esperamos del 31 octubre al 2 noviembre para vivir con tu familia y amigos una de las mejores citas del año en Els Magazinos.
URL:https://disfruta-denia.com/evento/un-fin-de-semana-de-miedo-en-els-magazinos/
LOCATION:Els Magazinos\, Carrer Pont 19\, Denia\, Alicante\, 03700\, España
CATEGORIES:Gastronomía
ATTACH;FMTTYPE=image/jpeg:https://disfruta-denia.com/wp-content/uploads/2025/10/571456807_18179278822350179_2426489069772237554_n.jpeg
END:VEVENT
END:VCALENDAR