BEGIN:VCALENDAR
VERSION:2.0
PRODID:-//Disfruta Denia - ECPv6.15.20//NONSGML v1.0//EN
CALSCALE:GREGORIAN
METHOD:PUBLISH
X-ORIGINAL-URL:https://disfruta-denia.com
X-WR-CALDESC:Eventos para Disfruta Denia
REFRESH-INTERVAL;VALUE=DURATION:PT1H
X-Robots-Tag:noindex
X-PUBLISHED-TTL:PT1H
BEGIN:VTIMEZONE
TZID:Europe/Madrid
BEGIN:DAYLIGHT
TZOFFSETFROM:+0100
TZOFFSETTO:+0200
TZNAME:CEST
DTSTART:20240331T010000
END:DAYLIGHT
BEGIN:STANDARD
TZOFFSETFROM:+0200
TZOFFSETTO:+0100
TZNAME:CET
DTSTART:20241027T010000
END:STANDARD
BEGIN:DAYLIGHT
TZOFFSETFROM:+0100
TZOFFSETTO:+0200
TZNAME:CEST
DTSTART:20250330T010000
END:DAYLIGHT
BEGIN:STANDARD
TZOFFSETFROM:+0200
TZOFFSETTO:+0100
TZNAME:CET
DTSTART:20251026T010000
END:STANDARD
BEGIN:DAYLIGHT
TZOFFSETFROM:+0100
TZOFFSETTO:+0200
TZNAME:CEST
DTSTART:20260329T010000
END:DAYLIGHT
BEGIN:STANDARD
TZOFFSETFROM:+0200
TZOFFSETTO:+0100
TZNAME:CET
DTSTART:20261025T010000
END:STANDARD
END:VTIMEZONE
BEGIN:VEVENT
DTSTART;TZID=Europe/Madrid:20251102T090000
DTEND;TZID=Europe/Madrid:20251102T140000
DTSTAMP:20260422T192510
CREATED:20251018T085320Z
LAST-MODIFIED:20251018T103235Z
UID:10022521-1762074000-1762092000@disfruta-denia.com
SUMMARY:Mercat del Riurau Jesus Pobre
DESCRIPTION:🌿✨ Aquest diumenge ens espera un matí ple de gastronomia\, artesania\, música i bon rotllo! ✨🌿 \n🥁 A partir de les 11.00h podrem gaudir d’una batucada de l’escola Sambamanía\, amb qui podreu ballar i passar-ho d’allò més bé. \n🎸 I a partir de les 12.00 h\, Ulises Libre ens acompanyarà amb la seua guitarra per posar el toc final i alegre al matí. \nJesús Pobre t’acull amb ganes! Ens veiem al mercat! 🧺✨ \n—— \n🌿✨ ¡Este domingo nos espera una mañana llena de gastronomía\, artesanía\, música y buen ambiente! ✨🌿 \n🥁 A partir de las 11:00h podremos disfrutar de una batucada a cargo de la escuela Sambamanía\, con la que todos podréis bailar y pasarlo en grande. \n🎸 Y desde las 12:00 h\, Ulises Libre nos acompañará con su guitarra para poner el toque final y alegre a la mañana. \n¡Jesús Pobre te recibe con ganas! ¡Nos vemos en el mercado! 🧺✨
URL:https://disfruta-denia.com/evento/mercat-del-riurau-jesus-pobre-2-25-3-2-2-8-2-4-3-6-2-2-2-2/2025-11-02/
LOCATION:Mercado Riurau Jesus Pobre\, Jesus Pobre\, Alicante\, 03749\, España
CATEGORIES:Concierto,Gastronomía,Mercado
ATTACH;FMTTYPE=image/jpeg:https://disfruta-denia.com/wp-content/uploads/2025/09/IMG_0588.jpeg
END:VEVENT
BEGIN:VEVENT
DTSTART;TZID=Europe/Madrid:20251102T093000
DTEND;TZID=Europe/Madrid:20251102T140000
DTSTAMP:20260422T192510
CREATED:20251030T103633Z
LAST-MODIFIED:20251030T103633Z
UID:10023086-1762075800-1762092000@disfruta-denia.com
SUMMARY:Mercat del Autocine
DESCRIPTION: We’re finally reopening! After having to reschedule because of the rain … this time it’s really happening! Sunday\, November 2nd – Market of the Drive In Cinema in Dénia is back!  Enjoy the best international rock covers with THE KC EXPERIENCE (duo)!Don’t miss the amazing voice of Kelly and the guitar of Carlos Bou\, both members of Black Glitter  WHAT’S ON: Live concert: THE KC EXPERIENCE – International Pop/Rock from 11:30 AM Figatells de Pego tasting – only €5  Try 3 varieties (classic\, sobrasada\, and foie) served with a Turia beer or a glass of wine  Pumpkin decorating contest – bring your pumpkin\, decorate it with your family\, and join the fun! > Inscription recommended. Kids zone – workshops\, crafts\, and festive face painting  Opening hours: 9:30 AM – 2:30 PM Location: Autocine Drive In Dénia (end of Carretera de Les Marines) Free entry & free parking (unsupervised) Sundays are shining again at Drive In Dénia! Don’t miss it! 
URL:https://disfruta-denia.com/evento/mercat-del-autocine/
LOCATION:Autociné Denia\, Partida Deveses D\, 27\, Denia\, Alicante\, 03700\, España
CATEGORIES:Concierto,Gastronomía,Mercado,Música
ATTACH;FMTTYPE=image/jpeg:https://disfruta-denia.com/wp-content/uploads/2025/10/574086937_1336268028291104_147728323871229177_n.jpg
END:VEVENT
BEGIN:VEVENT
DTSTART;TZID=Europe/Madrid:20251109T090000
DTEND;TZID=Europe/Madrid:20251109T140000
DTSTAMP:20260422T192510
CREATED:20251109T084459Z
LAST-MODIFIED:20251109T084459Z
UID:10022522-1762678800-1762696800@disfruta-denia.com
SUMMARY:Mercat del Riurau Jesus Pobre
DESCRIPTION: ¡Momentos únicos en el Mercado del Riurau! Este domingo disfrutaremos de una jornada llena de buenos productos\, artesanía hecha a mano y mucha vida en el mercado. ¡Os esperamos a todos y todas en el Riurau!  A partir de las 12:00 h\, disfrutaremos de la música tradicional valenciana con Terrafort y el maestro Pera\, para poner el toque final y alegre a la mañana. Ven a disfrutar de un buen almuerzo al solecito\, música y la autenticidad de los productos locales.Jesús Pobre te acoge con ganas y buen ambiente… ¡nos vemos en el mercado!
URL:https://disfruta-denia.com/evento/mercat-del-riurau-jesus-pobre-26/
LOCATION:Mercado Riurau Jesus Pobre\, Jesus Pobre\, Alicante\, 03749\, España
CATEGORIES:Concierto,Gastronomía,Mercado
ATTACH;FMTTYPE=image/jpeg:https://disfruta-denia.com/wp-content/uploads/2025/10/574243708_18074377844242809_8534617154731948304_n.jpg
END:VEVENT
BEGIN:VEVENT
DTSTART;TZID=Europe/Madrid:20251109T093000
DTEND;TZID=Europe/Madrid:20251109T140000
DTSTAMP:20260422T192510
CREATED:20251108T075757Z
LAST-MODIFIED:20251108T075758Z
UID:10023087-1762680600-1762696800@disfruta-denia.com
SUMMARY:Mercat del Autocine
DESCRIPTION: We’re finally reopening! After having to reschedule because of the rain … this time it’s really happening! Sunday\, November 2nd – Market of the Drive In Cinema in Dénia is back!  Enjoy the best international rock covers with THE KC EXPERIENCE (duo)!Don’t miss the amazing voice of Kelly and the guitar of Carlos Bou\, both members of Black Glitter  WHAT’S ON: Live concert from 11:30 AM Figatells de Pego tasting – only €5  Try 3 varieties (classic\, sobrasada\, and foie) served with a Turia beer or a glass of wine  Pumpkin decorating contest – bring your pumpkin\, decorate it with your family\, and join the fun! > Inscription recommended. Kids zone – workshops\, crafts\, and festive face painting  Opening hours: 9:30 AM – 2:30 PM Location: Autocine Drive In Dénia (end of Carretera de Les Marines) Free entry & free parking (unsupervised) Sundays are shining again at Drive In Dénia! Don’t miss it! 
URL:https://disfruta-denia.com/evento/mercat-del-autocine-2/
LOCATION:Autociné Denia\, Partida Deveses D\, 27\, Denia\, Alicante\, 03700\, España
CATEGORIES:Concierto,Gastronomía,Mercado,Música
ATTACH;FMTTYPE=image/jpeg:https://disfruta-denia.com/wp-content/uploads/2025/10/577116983_1343783434206230_5929835167406669361_n.jpg
END:VEVENT
BEGIN:VEVENT
DTSTART;TZID=Europe/Madrid:20251116T090000
DTEND;TZID=Europe/Madrid:20251116T140000
DTSTAMP:20260422T192510
CREATED:20251114T074341Z
LAST-MODIFIED:20251114T074342Z
UID:10022523-1763283600-1763301600@disfruta-denia.com
SUMMARY:Mercat del Riurau Jesus Pobre
DESCRIPTION: ¡Momentos únicos en el Mercat del Riurau!  Ven a disfrutar de un buen almuerzo al solecito\, con música y la autenticidad de los productos locales. A partir de las 12:00 h\, disfrutaremos de músicos de la comarca con los @komboiants \, para poner el toque final y alegre a la mañana.Jesús Pobre te acoge con ganas y buen ambiente… ¡nos vemos en el mercado!
URL:https://disfruta-denia.com/evento/mercat-del-riurau-jesus-pobre-26-2/
LOCATION:Mercado Riurau Jesus Pobre\, Jesus Pobre\, Alicante\, 03749\, España
CATEGORIES:Concierto,Gastronomía,Mercado
ATTACH;FMTTYPE=image/jpeg:https://disfruta-denia.com/wp-content/uploads/2025/11/582970663_18074810015242809_5823937448936578528_n.jpg
END:VEVENT
BEGIN:VEVENT
DTSTART;TZID=Europe/Madrid:20251116T093000
DTEND;TZID=Europe/Madrid:20251116T140000
DTSTAMP:20260422T192510
CREATED:20251114T105209Z
LAST-MODIFIED:20251114T105209Z
UID:10023088-1763285400-1763301600@disfruta-denia.com
SUMMARY:Mercat del Autocine
DESCRIPTION:El domingo 16 en el Mercado del Autocine continuaremos disfrutando de la buena música con el debut de SIMPLY y sus versiones del mejor Pop/Indie del momento!!Todos los domingos por la mañana en el Autocine Drive In de Dénia organizamos un mercadillo diferente donde puedes encontrar: Productos locales\, quesos\, cocas y dulces caseros Artesanía y artículos de segunda mano Almuerzos y buen ambiente Música en directo Zona de juegos infantiles¡Ven a descubrir una manera diferente de disfrutar los domingos por la mañana! Zona infantil para que los más pequeños también se lo pasen en grande! Autocine Drive In Dénia – Final de la Carretera de Les Marines Abierto desde las 9:30 h Música en directo a partir de las 11:30 h Acceso libre y aparcamiento disponible
URL:https://disfruta-denia.com/evento/mercat-del-autocine-2-2/
LOCATION:Autociné Denia\, Partida Deveses D\, 27\, Denia\, Alicante\, 03700\, España
CATEGORIES:Concierto,Gastronomía,Mercado,Música
ATTACH;FMTTYPE=image/jpeg:https://disfruta-denia.com/wp-content/uploads/2025/11/580533674_1349098223674751_3375254159255617343_n.jpg
END:VEVENT
BEGIN:VEVENT
DTSTART;TZID=Europe/Madrid:20251123T090000
DTEND;TZID=Europe/Madrid:20251123T140000
DTSTAMP:20260422T192510
CREATED:20251122T165008Z
LAST-MODIFIED:20251122T165009Z
UID:10022524-1763888400-1763906400@disfruta-denia.com
SUMMARY:Mercat del Riurau Jesus Pobre
DESCRIPTION: ¡Momentos únicos en el Mercado del Riurau!  Ven a disfrutar de un buen almuerzo al solecito\, música y la autenticidad de los productos locales. A partir de las 12:00 h\, disfrutaremos de buena música para ambientar el día con “Els Kikos”.Jesús Pobre te acoge con ganas y buen ambiente… ¡nos vemos en el mercado
URL:https://disfruta-denia.com/evento/mercat-del-riurau-jesus-pobre-26-2-2/2025-11-23/
LOCATION:Mercado Riurau Jesus Pobre\, Jesus Pobre\, Alicante\, 03749\, España
CATEGORIES:Concierto,Gastronomía,Mercado
ATTACH;FMTTYPE=image/jpeg:https://disfruta-denia.com/wp-content/uploads/2025/11/584402203_18075574949242809_3473902751713740657_n.jpg
END:VEVENT
BEGIN:VEVENT
DTSTART;TZID=Europe/Madrid:20251123T093000
DTEND;TZID=Europe/Madrid:20251123T140000
DTSTAMP:20260422T192510
CREATED:20251121T150724Z
LAST-MODIFIED:20251121T150725Z
UID:10023089-1763890200-1763906400@disfruta-denia.com
SUMMARY:Mercat del Autocine
DESCRIPTION:¡ La mejor música blues estará este domingo 23 en el Autocine Drive In de Dénia con la actuación en directo de BIG HOLLERS! Si eres amante de la buena música\, el buen ambiente y los planes diferentes\, no te puedes perder el Mercat de l’Autocine. Descubre un pequeño Mercado con artesanos y productores selectos y un ambiente genial y apto para toda la familia. Zona infantil para que los más pequeños también se lo pasen en grande! Autocine Drive In Dénia – Final de la Carretera de Les Marines Abierto desde las 9:30 h Música en directo a partir de las 11:30 h Acceso libre y aparcamiento disponible ¡Ven a vivir un domingo diferente y disfruta de la vida! 
URL:https://disfruta-denia.com/evento/mercat-del-autocine-2-2-2/2025-11-23/
LOCATION:Autociné Denia\, Partida Deveses D\, 27\, Denia\, Alicante\, 03700\, España
CATEGORIES:Concierto,Gastronomía,Mercado,Música
ATTACH;FMTTYPE=image/jpeg:https://disfruta-denia.com/wp-content/uploads/2025/11/586706623_1353701539881086_447670830255832971_n.jpg
END:VEVENT
BEGIN:VEVENT
DTSTART;TZID=Europe/Madrid:20251130T090000
DTEND;TZID=Europe/Madrid:20251130T140000
DTSTAMP:20260422T192510
CREATED:20251122T165008Z
LAST-MODIFIED:20251122T165009Z
UID:10022525-1764493200-1764511200@disfruta-denia.com
SUMMARY:Mercat del Riurau Jesus Pobre
DESCRIPTION: ¡Momentos únicos en el Mercado del Riurau!  Ven a disfrutar de un buen almuerzo al solecito\, música y la autenticidad de los productos locales. A partir de las 12:00 h\, disfrutaremos de buena música para ambientar el día con “Els Kikos”.Jesús Pobre te acoge con ganas y buen ambiente… ¡nos vemos en el mercado
URL:https://disfruta-denia.com/evento/mercat-del-riurau-jesus-pobre-26-2-2/2025-11-30/
LOCATION:Mercado Riurau Jesus Pobre\, Jesus Pobre\, Alicante\, 03749\, España
CATEGORIES:Concierto,Gastronomía,Mercado
ATTACH;FMTTYPE=image/jpeg:https://disfruta-denia.com/wp-content/uploads/2025/11/584402203_18075574949242809_3473902751713740657_n.jpg
END:VEVENT
BEGIN:VEVENT
DTSTART;TZID=Europe/Madrid:20251130T093000
DTEND;TZID=Europe/Madrid:20251130T140000
DTSTAMP:20260422T192510
CREATED:20251121T150724Z
LAST-MODIFIED:20251121T150725Z
UID:10023090-1764495000-1764511200@disfruta-denia.com
SUMMARY:Mercat del Autocine
DESCRIPTION:¡ La mejor música blues estará este domingo 23 en el Autocine Drive In de Dénia con la actuación en directo de BIG HOLLERS! Si eres amante de la buena música\, el buen ambiente y los planes diferentes\, no te puedes perder el Mercat de l’Autocine. Descubre un pequeño Mercado con artesanos y productores selectos y un ambiente genial y apto para toda la familia. Zona infantil para que los más pequeños también se lo pasen en grande! Autocine Drive In Dénia – Final de la Carretera de Les Marines Abierto desde las 9:30 h Música en directo a partir de las 11:30 h Acceso libre y aparcamiento disponible ¡Ven a vivir un domingo diferente y disfruta de la vida! 
URL:https://disfruta-denia.com/evento/mercat-del-autocine-2-2-2/2025-11-30/
LOCATION:Autociné Denia\, Partida Deveses D\, 27\, Denia\, Alicante\, 03700\, España
CATEGORIES:Concierto,Gastronomía,Mercado,Música
ATTACH;FMTTYPE=image/jpeg:https://disfruta-denia.com/wp-content/uploads/2025/11/586706623_1353701539881086_447670830255832971_n.jpg
END:VEVENT
END:VCALENDAR