BEGIN:VCALENDAR
VERSION:2.0
PRODID:-//Disfruta Denia - ECPv6.15.20//NONSGML v1.0//EN
CALSCALE:GREGORIAN
METHOD:PUBLISH
X-ORIGINAL-URL:https://disfruta-denia.com
X-WR-CALDESC:Eventos para Disfruta Denia
REFRESH-INTERVAL;VALUE=DURATION:PT1H
X-Robots-Tag:noindex
X-PUBLISHED-TTL:PT1H
BEGIN:VTIMEZONE
TZID:Europe/Madrid
BEGIN:DAYLIGHT
TZOFFSETFROM:+0100
TZOFFSETTO:+0200
TZNAME:CEST
DTSTART:20230326T010000
END:DAYLIGHT
BEGIN:STANDARD
TZOFFSETFROM:+0200
TZOFFSETTO:+0100
TZNAME:CET
DTSTART:20231029T010000
END:STANDARD
BEGIN:DAYLIGHT
TZOFFSETFROM:+0100
TZOFFSETTO:+0200
TZNAME:CEST
DTSTART:20240331T010000
END:DAYLIGHT
BEGIN:STANDARD
TZOFFSETFROM:+0200
TZOFFSETTO:+0100
TZNAME:CET
DTSTART:20241027T010000
END:STANDARD
BEGIN:DAYLIGHT
TZOFFSETFROM:+0100
TZOFFSETTO:+0200
TZNAME:CEST
DTSTART:20250330T010000
END:DAYLIGHT
BEGIN:STANDARD
TZOFFSETFROM:+0200
TZOFFSETTO:+0100
TZNAME:CET
DTSTART:20251026T010000
END:STANDARD
END:VTIMEZONE
BEGIN:VEVENT
DTSTART;VALUE=DATE:20240208
DTEND;VALUE=DATE:20240312
DTSTAMP:20260424T144503
CREATED:20240207T123605Z
LAST-MODIFIED:20240209T171252Z
UID:10017185-1707364800-1710129599@disfruta-denia.com
SUMMARY:XXIII Ruta de la tapa Denia ( 2014 )
DESCRIPTION:Hasta el 10 de marzo\, la Ruta de Tapas de #Dénia celebra su edición número 23\, con la participación de  locales.\n Los ‘ruteros’ podrán degustar tapa  bebida por 4 €.\n\n\nLa Ruta de Tapas premiará a los locales concursantes y a la clientela que presente su pasaporte de ruta con un mínimo de 15 tapas valoradas y selladas.
URL:https://disfruta-denia.com/evento/xxiii-ruta-de-la-tapa-denia-2014/
LOCATION:Denia\, Denia\, Alicante\, 03700\, España
CATEGORIES:Cata,Gastronomía
ATTACH;FMTTYPE=image/jpeg:https://disfruta-denia.com/wp-content/uploads/2024/02/423224581_891564029637572_1846798066202265718_n.jpg
END:VEVENT
BEGIN:VEVENT
DTSTART;TZID=Europe/Madrid:20240216T190000
DTEND;TZID=Europe/Madrid:20240216T190000
DTSTAMP:20260424T144503
CREATED:20240124T090849Z
LAST-MODIFIED:20240124T090849Z
UID:10016578-1708110000-1708110000@disfruta-denia.com
SUMMARY:Cata de vinos a beneficio de niños con cáncer
DESCRIPTION: Marina Dénia colabora con el restaurante Caval Denia en una cata de vinos a beneficio de los valientes niños con cáncer y sus familiares\, a través de la asociación Aspanion Niños Con Cáncer\, con el apoyo del Rotary Club Dénia. \n Viernes\, 16 de febrero\n 19:00 horas\n Restaurante Caval \nDisfruta de una velada especial llena de sabores exquisitos y descubre los matices de los mejores vinos\, mientras contribuyes a una noble causa. ¡Tu participación hace la diferencia!
URL:https://disfruta-denia.com/evento/cata-de-vinos-a-beneficio-de-ninos-con-cancer/
LOCATION:Restaurante Caval\, Edif G\, MARINA DE\, Denia\, Alicante\, 03700\, España
CATEGORIES:Cata,Gastronomía
ATTACH;FMTTYPE=image/jpeg:https://disfruta-denia.com/wp-content/uploads/2024/01/420076704_755725813255984_5596342831514665285_n.jpg
END:VEVENT
END:VCALENDAR