BEGIN:VCALENDAR
VERSION:2.0
PRODID:-//Disfruta Denia - ECPv6.15.20//NONSGML v1.0//EN
CALSCALE:GREGORIAN
METHOD:PUBLISH
X-ORIGINAL-URL:https://disfruta-denia.com
X-WR-CALDESC:Eventos para Disfruta Denia
REFRESH-INTERVAL;VALUE=DURATION:PT1H
X-Robots-Tag:noindex
X-PUBLISHED-TTL:PT1H
BEGIN:VTIMEZONE
TZID:Europe/Madrid
BEGIN:DAYLIGHT
TZOFFSETFROM:+0100
TZOFFSETTO:+0200
TZNAME:CEST
DTSTART:20210328T010000
END:DAYLIGHT
BEGIN:STANDARD
TZOFFSETFROM:+0200
TZOFFSETTO:+0100
TZNAME:CET
DTSTART:20211031T010000
END:STANDARD
BEGIN:DAYLIGHT
TZOFFSETFROM:+0100
TZOFFSETTO:+0200
TZNAME:CEST
DTSTART:20220327T010000
END:DAYLIGHT
BEGIN:STANDARD
TZOFFSETFROM:+0200
TZOFFSETTO:+0100
TZNAME:CET
DTSTART:20221030T010000
END:STANDARD
BEGIN:DAYLIGHT
TZOFFSETFROM:+0100
TZOFFSETTO:+0200
TZNAME:CEST
DTSTART:20230326T010000
END:DAYLIGHT
BEGIN:STANDARD
TZOFFSETFROM:+0200
TZOFFSETTO:+0100
TZNAME:CET
DTSTART:20231029T010000
END:STANDARD
END:VTIMEZONE
BEGIN:VEVENT
DTSTART;TZID=Europe/Madrid:20221211T090000
DTEND;TZID=Europe/Madrid:20221211T140000
DTSTAMP:20260425T213328
CREATED:20221210T114325Z
LAST-MODIFIED:20221210T114326Z
UID:10006297-1670749200-1670767200@disfruta-denia.com
SUMMARY:Mercat del Riurau en Jesus Pobre
DESCRIPTION:En el #MercatdelRiurau siempre encontraras:\n\n\nArtesanos con sus creaciones hechas a mano\, desde el taller a la venta sin intermediarios. Joyería\, cerámica\, cuero\, madera y todo tipo de arte textil.
URL:https://disfruta-denia.com/evento/mercat-del-riurau-en-jesus-pobre-2-2-3/
LOCATION:Mercado Riurau Jesus Pobre\, Jesus Pobre\, Alicante\, 03749\, España
CATEGORIES:Mercado
ATTACH;FMTTYPE=image/jpeg:https://disfruta-denia.com/wp-content/uploads/2022/11/319211148_512594617570574_5308746311423268801_n.jpg
END:VEVENT
BEGIN:VEVENT
DTSTART;TZID=Europe/Madrid:20221212T080000
DTEND;TZID=Europe/Madrid:20221212T133000
DTSTAMP:20260425T213328
CREATED:20220303T082647Z
LAST-MODIFIED:20221128T104722Z
UID:10003296-1670832000-1670851800@disfruta-denia.com
SUMMARY:Mercadillo de Denia
DESCRIPTION:En 2022 el mercadillo de Denia es los lunes de 8:00 a 13:30 en la calle Hermanos Maristas. \nEs uno de los mercadillos más grandes y visitados de la Costa Blanca\, con unos 400 puestos en los que se puede comprar: bolsos\, ropa\, calzado y complementos\, bisutería\, decoración\, equipamiento del hogar\, artesanía\, cerámica\, flores y plantas\, etc. \nDurante la feria de Todos Los Santos se traslada a la Avenida Joan Fuster.
URL:https://disfruta-denia.com/evento/mercadillo-de-denia/2022-12-12/
LOCATION:Parque de Torrecremada\, Carrer Germans Maristes\, Denia\, Alicante\, 03700\, España
CATEGORIES:Mercado
ATTACH;FMTTYPE=image/jpeg:https://disfruta-denia.com/wp-content/uploads/2022/03/mercadillo-de-denia.jpg
END:VEVENT
BEGIN:VEVENT
DTSTART;TZID=Europe/Madrid:20221217T093000
DTEND;TZID=Europe/Madrid:20221217T143000
DTSTAMP:20260425T213328
CREATED:20221014T132314Z
LAST-MODIFIED:20221014T132315Z
UID:10003137-1671269400-1671287400@disfruta-denia.com
SUMMARY:Mercado del autociné
DESCRIPTION:
URL:https://disfruta-denia.com/evento/mercado-del-autocine-2/2022-12-17/
LOCATION:Autociné Denia\, Partida Deveses D\, 27\, Denia\, Alicante\, 03700\, España
CATEGORIES:Mercado
ATTACH;FMTTYPE=image/jpeg:https://disfruta-denia.com/wp-content/uploads/2022/01/311709154_2135059740000380_953935850809255296_n.jpg
END:VEVENT
BEGIN:VEVENT
DTSTART;TZID=Europe/Madrid:20221218T090000
DTEND;TZID=Europe/Madrid:20221218T140000
DTSTAMP:20260425T213328
CREATED:20221119T080759Z
LAST-MODIFIED:20221119T080759Z
UID:10006298-1671354000-1671372000@disfruta-denia.com
SUMMARY:Mercat del Riurau en Jesus Pobre
DESCRIPTION:En el #MercatdelRiurau siempre encontraras:\n\n\nArtesanos con sus creaciones hechas a mano\, desde el taller a la venta sin intermediarios. Joyería\, cerámica\, cuero\, madera y todo tipo de arte textil.
URL:https://disfruta-denia.com/evento/mercat-del-riurau-en-jesus-pobre-2-2/2022-12-18/
LOCATION:Mercado Riurau Jesus Pobre\, Jesus Pobre\, Alicante\, 03749\, España
CATEGORIES:Mercado
ATTACH;FMTTYPE=image/jpeg:https://disfruta-denia.com/wp-content/uploads/2022/10/309341289_456964789800224_114175928136404824_n.jpg
END:VEVENT
BEGIN:VEVENT
DTSTART;TZID=Europe/Madrid:20221219T080000
DTEND;TZID=Europe/Madrid:20221219T133000
DTSTAMP:20260425T213328
CREATED:20220303T082647Z
LAST-MODIFIED:20221128T104722Z
UID:10003297-1671436800-1671456600@disfruta-denia.com
SUMMARY:Mercadillo de Denia
DESCRIPTION:En 2022 el mercadillo de Denia es los lunes de 8:00 a 13:30 en la calle Hermanos Maristas. \nEs uno de los mercadillos más grandes y visitados de la Costa Blanca\, con unos 400 puestos en los que se puede comprar: bolsos\, ropa\, calzado y complementos\, bisutería\, decoración\, equipamiento del hogar\, artesanía\, cerámica\, flores y plantas\, etc. \nDurante la feria de Todos Los Santos se traslada a la Avenida Joan Fuster.
URL:https://disfruta-denia.com/evento/mercadillo-de-denia/2022-12-19/
LOCATION:Parque de Torrecremada\, Carrer Germans Maristes\, Denia\, Alicante\, 03700\, España
CATEGORIES:Mercado
ATTACH;FMTTYPE=image/jpeg:https://disfruta-denia.com/wp-content/uploads/2022/03/mercadillo-de-denia.jpg
END:VEVENT
BEGIN:VEVENT
DTSTART;TZID=Europe/Madrid:20221224T093000
DTEND;TZID=Europe/Madrid:20221224T143000
DTSTAMP:20260425T213328
CREATED:20221014T132314Z
LAST-MODIFIED:20221014T132315Z
UID:10003138-1671874200-1671892200@disfruta-denia.com
SUMMARY:Mercado del autociné
DESCRIPTION:
URL:https://disfruta-denia.com/evento/mercado-del-autocine-2/2022-12-24/
LOCATION:Autociné Denia\, Partida Deveses D\, 27\, Denia\, Alicante\, 03700\, España
CATEGORIES:Mercado
ATTACH;FMTTYPE=image/jpeg:https://disfruta-denia.com/wp-content/uploads/2022/01/311709154_2135059740000380_953935850809255296_n.jpg
END:VEVENT
BEGIN:VEVENT
DTSTART;TZID=Europe/Madrid:20221225T090000
DTEND;TZID=Europe/Madrid:20221225T140000
DTSTAMP:20260425T213328
CREATED:20221119T080759Z
LAST-MODIFIED:20221119T080759Z
UID:10006299-1671958800-1671976800@disfruta-denia.com
SUMMARY:Mercat del Riurau en Jesus Pobre
DESCRIPTION:En el #MercatdelRiurau siempre encontraras:\n\n\nArtesanos con sus creaciones hechas a mano\, desde el taller a la venta sin intermediarios. Joyería\, cerámica\, cuero\, madera y todo tipo de arte textil.
URL:https://disfruta-denia.com/evento/mercat-del-riurau-en-jesus-pobre-2-2/2022-12-25/
LOCATION:Mercado Riurau Jesus Pobre\, Jesus Pobre\, Alicante\, 03749\, España
CATEGORIES:Mercado
ATTACH;FMTTYPE=image/jpeg:https://disfruta-denia.com/wp-content/uploads/2022/10/309341289_456964789800224_114175928136404824_n.jpg
END:VEVENT
BEGIN:VEVENT
DTSTART;TZID=Europe/Madrid:20221226T080000
DTEND;TZID=Europe/Madrid:20221226T133000
DTSTAMP:20260425T213328
CREATED:20220303T082647Z
LAST-MODIFIED:20221128T104722Z
UID:10003298-1672041600-1672061400@disfruta-denia.com
SUMMARY:Mercadillo de Denia
DESCRIPTION:En 2022 el mercadillo de Denia es los lunes de 8:00 a 13:30 en la calle Hermanos Maristas. \nEs uno de los mercadillos más grandes y visitados de la Costa Blanca\, con unos 400 puestos en los que se puede comprar: bolsos\, ropa\, calzado y complementos\, bisutería\, decoración\, equipamiento del hogar\, artesanía\, cerámica\, flores y plantas\, etc. \nDurante la feria de Todos Los Santos se traslada a la Avenida Joan Fuster.
URL:https://disfruta-denia.com/evento/mercadillo-de-denia/2022-12-26/
LOCATION:Parque de Torrecremada\, Carrer Germans Maristes\, Denia\, Alicante\, 03700\, España
CATEGORIES:Mercado
ATTACH;FMTTYPE=image/jpeg:https://disfruta-denia.com/wp-content/uploads/2022/03/mercadillo-de-denia.jpg
END:VEVENT
BEGIN:VEVENT
DTSTART;TZID=Europe/Madrid:20221231T093000
DTEND;TZID=Europe/Madrid:20221231T143000
DTSTAMP:20260425T213328
CREATED:20221014T132314Z
LAST-MODIFIED:20221014T132315Z
UID:10003139-1672479000-1672497000@disfruta-denia.com
SUMMARY:Mercado del autociné
DESCRIPTION:
URL:https://disfruta-denia.com/evento/mercado-del-autocine-2/2022-12-31/
LOCATION:Autociné Denia\, Partida Deveses D\, 27\, Denia\, Alicante\, 03700\, España
CATEGORIES:Mercado
ATTACH;FMTTYPE=image/jpeg:https://disfruta-denia.com/wp-content/uploads/2022/01/311709154_2135059740000380_953935850809255296_n.jpg
END:VEVENT
END:VCALENDAR