BEGIN:VCALENDAR
VERSION:2.0
PRODID:-//Disfruta Denia - ECPv6.15.20//NONSGML v1.0//EN
CALSCALE:GREGORIAN
METHOD:PUBLISH
X-WR-CALNAME:Disfruta Denia
X-ORIGINAL-URL:https://disfruta-denia.com
X-WR-CALDESC:Eventos para Disfruta Denia
REFRESH-INTERVAL;VALUE=DURATION:PT1H
X-Robots-Tag:noindex
X-PUBLISHED-TTL:PT1H
BEGIN:VTIMEZONE
TZID:Europe/Madrid
BEGIN:DAYLIGHT
TZOFFSETFROM:+0100
TZOFFSETTO:+0200
TZNAME:CEST
DTSTART:20220327T010000
END:DAYLIGHT
BEGIN:STANDARD
TZOFFSETFROM:+0200
TZOFFSETTO:+0100
TZNAME:CET
DTSTART:20221030T010000
END:STANDARD
BEGIN:DAYLIGHT
TZOFFSETFROM:+0100
TZOFFSETTO:+0200
TZNAME:CEST
DTSTART:20230326T010000
END:DAYLIGHT
BEGIN:STANDARD
TZOFFSETFROM:+0200
TZOFFSETTO:+0100
TZNAME:CET
DTSTART:20231029T010000
END:STANDARD
BEGIN:DAYLIGHT
TZOFFSETFROM:+0100
TZOFFSETTO:+0200
TZNAME:CEST
DTSTART:20240331T010000
END:DAYLIGHT
BEGIN:STANDARD
TZOFFSETFROM:+0200
TZOFFSETTO:+0100
TZNAME:CET
DTSTART:20241027T010000
END:STANDARD
END:VTIMEZONE
BEGIN:VEVENT
DTSTART;TZID=Europe/Madrid:20230101T090000
DTEND;TZID=Europe/Madrid:20230101T140000
DTSTAMP:20260425T181102
CREATED:20221119T080759Z
LAST-MODIFIED:20221119T080759Z
UID:10006300-1672563600-1672581600@disfruta-denia.com
SUMMARY:Mercat del Riurau en Jesus Pobre
DESCRIPTION:En el #MercatdelRiurau siempre encontraras:\n\n\nArtesanos con sus creaciones hechas a mano\, desde el taller a la venta sin intermediarios. Joyería\, cerámica\, cuero\, madera y todo tipo de arte textil.
URL:https://disfruta-denia.com/evento/mercat-del-riurau-en-jesus-pobre-2-2/2023-01-01/
LOCATION:Mercado Riurau Jesus Pobre\, Jesus Pobre\, Alicante\, 03749\, España
CATEGORIES:Mercado
ATTACH;FMTTYPE=image/jpeg:https://disfruta-denia.com/wp-content/uploads/2022/10/309341289_456964789800224_114175928136404824_n.jpg
END:VEVENT
BEGIN:VEVENT
DTSTART;TZID=Europe/Madrid:20230102T080000
DTEND;TZID=Europe/Madrid:20230102T133000
DTSTAMP:20260425T181102
CREATED:20220303T082647Z
LAST-MODIFIED:20221128T104722Z
UID:10003299-1672646400-1672666200@disfruta-denia.com
SUMMARY:Mercadillo de Denia
DESCRIPTION:En 2022 el mercadillo de Denia es los lunes de 8:00 a 13:30 en la calle Hermanos Maristas. \nEs uno de los mercadillos más grandes y visitados de la Costa Blanca\, con unos 400 puestos en los que se puede comprar: bolsos\, ropa\, calzado y complementos\, bisutería\, decoración\, equipamiento del hogar\, artesanía\, cerámica\, flores y plantas\, etc. \nDurante la feria de Todos Los Santos se traslada a la Avenida Joan Fuster.
URL:https://disfruta-denia.com/evento/mercadillo-de-denia/2023-01-02/
LOCATION:Parque de Torrecremada\, Carrer Germans Maristes\, Denia\, Alicante\, 03700\, España
CATEGORIES:Mercado
ATTACH;FMTTYPE=image/jpeg:https://disfruta-denia.com/wp-content/uploads/2022/03/mercadillo-de-denia.jpg
END:VEVENT
BEGIN:VEVENT
DTSTART;TZID=Europe/Madrid:20230107T093000
DTEND;TZID=Europe/Madrid:20230107T143000
DTSTAMP:20260425T181102
CREATED:20221014T132314Z
LAST-MODIFIED:20221014T132315Z
UID:10003140-1673083800-1673101800@disfruta-denia.com
SUMMARY:Mercado del autociné
DESCRIPTION:
URL:https://disfruta-denia.com/evento/mercado-del-autocine-2/2023-01-07/
LOCATION:Autociné Denia\, Partida Deveses D\, 27\, Denia\, Alicante\, 03700\, España
CATEGORIES:Mercado
ATTACH;FMTTYPE=image/jpeg:https://disfruta-denia.com/wp-content/uploads/2022/01/311709154_2135059740000380_953935850809255296_n.jpg
END:VEVENT
BEGIN:VEVENT
DTSTART;TZID=Europe/Madrid:20230108T090000
DTEND;TZID=Europe/Madrid:20230108T140000
DTSTAMP:20260425T181102
CREATED:20221119T080759Z
LAST-MODIFIED:20221119T080759Z
UID:10006301-1673168400-1673186400@disfruta-denia.com
SUMMARY:Mercat del Riurau en Jesus Pobre
DESCRIPTION:En el #MercatdelRiurau siempre encontraras:\n\n\nArtesanos con sus creaciones hechas a mano\, desde el taller a la venta sin intermediarios. Joyería\, cerámica\, cuero\, madera y todo tipo de arte textil.
URL:https://disfruta-denia.com/evento/mercat-del-riurau-en-jesus-pobre-2-2/2023-01-08/
LOCATION:Mercado Riurau Jesus Pobre\, Jesus Pobre\, Alicante\, 03749\, España
CATEGORIES:Mercado
ATTACH;FMTTYPE=image/jpeg:https://disfruta-denia.com/wp-content/uploads/2022/10/309341289_456964789800224_114175928136404824_n.jpg
END:VEVENT
BEGIN:VEVENT
DTSTART;TZID=Europe/Madrid:20230109T080000
DTEND;TZID=Europe/Madrid:20230109T133000
DTSTAMP:20260425T181102
CREATED:20220303T082647Z
LAST-MODIFIED:20221128T104722Z
UID:10003300-1673251200-1673271000@disfruta-denia.com
SUMMARY:Mercadillo de Denia
DESCRIPTION:En 2022 el mercadillo de Denia es los lunes de 8:00 a 13:30 en la calle Hermanos Maristas. \nEs uno de los mercadillos más grandes y visitados de la Costa Blanca\, con unos 400 puestos en los que se puede comprar: bolsos\, ropa\, calzado y complementos\, bisutería\, decoración\, equipamiento del hogar\, artesanía\, cerámica\, flores y plantas\, etc. \nDurante la feria de Todos Los Santos se traslada a la Avenida Joan Fuster.
URL:https://disfruta-denia.com/evento/mercadillo-de-denia/2023-01-09/
LOCATION:Parque de Torrecremada\, Carrer Germans Maristes\, Denia\, Alicante\, 03700\, España
CATEGORIES:Mercado
ATTACH;FMTTYPE=image/jpeg:https://disfruta-denia.com/wp-content/uploads/2022/03/mercadillo-de-denia.jpg
END:VEVENT
BEGIN:VEVENT
DTSTART;TZID=Europe/Madrid:20230114T093000
DTEND;TZID=Europe/Madrid:20230114T143000
DTSTAMP:20260425T181102
CREATED:20221014T132314Z
LAST-MODIFIED:20221014T132315Z
UID:10003141-1673688600-1673706600@disfruta-denia.com
SUMMARY:Mercado del autociné
DESCRIPTION:
URL:https://disfruta-denia.com/evento/mercado-del-autocine-2/2023-01-14/
LOCATION:Autociné Denia\, Partida Deveses D\, 27\, Denia\, Alicante\, 03700\, España
CATEGORIES:Mercado
ATTACH;FMTTYPE=image/jpeg:https://disfruta-denia.com/wp-content/uploads/2022/01/311709154_2135059740000380_953935850809255296_n.jpg
END:VEVENT
BEGIN:VEVENT
DTSTART;TZID=Europe/Madrid:20230115T090000
DTEND;TZID=Europe/Madrid:20230115T140000
DTSTAMP:20260425T181102
CREATED:20221119T080759Z
LAST-MODIFIED:20221119T080759Z
UID:10006302-1673773200-1673791200@disfruta-denia.com
SUMMARY:Mercat del Riurau en Jesus Pobre
DESCRIPTION:En el #MercatdelRiurau siempre encontraras:\n\n\nArtesanos con sus creaciones hechas a mano\, desde el taller a la venta sin intermediarios. Joyería\, cerámica\, cuero\, madera y todo tipo de arte textil.
URL:https://disfruta-denia.com/evento/mercat-del-riurau-en-jesus-pobre-2-2/2023-01-15/
LOCATION:Mercado Riurau Jesus Pobre\, Jesus Pobre\, Alicante\, 03749\, España
CATEGORIES:Mercado
ATTACH;FMTTYPE=image/jpeg:https://disfruta-denia.com/wp-content/uploads/2022/10/309341289_456964789800224_114175928136404824_n.jpg
END:VEVENT
BEGIN:VEVENT
DTSTART;TZID=Europe/Madrid:20230116T080000
DTEND;TZID=Europe/Madrid:20230116T133000
DTSTAMP:20260425T181102
CREATED:20220303T082647Z
LAST-MODIFIED:20221128T104722Z
UID:10003301-1673856000-1673875800@disfruta-denia.com
SUMMARY:Mercadillo de Denia
DESCRIPTION:En 2022 el mercadillo de Denia es los lunes de 8:00 a 13:30 en la calle Hermanos Maristas. \nEs uno de los mercadillos más grandes y visitados de la Costa Blanca\, con unos 400 puestos en los que se puede comprar: bolsos\, ropa\, calzado y complementos\, bisutería\, decoración\, equipamiento del hogar\, artesanía\, cerámica\, flores y plantas\, etc. \nDurante la feria de Todos Los Santos se traslada a la Avenida Joan Fuster.
URL:https://disfruta-denia.com/evento/mercadillo-de-denia/2023-01-16/
LOCATION:Parque de Torrecremada\, Carrer Germans Maristes\, Denia\, Alicante\, 03700\, España
CATEGORIES:Mercado
ATTACH;FMTTYPE=image/jpeg:https://disfruta-denia.com/wp-content/uploads/2022/03/mercadillo-de-denia.jpg
END:VEVENT
BEGIN:VEVENT
DTSTART;TZID=Europe/Madrid:20230121T093000
DTEND;TZID=Europe/Madrid:20230121T143000
DTSTAMP:20260425T181102
CREATED:20221014T132314Z
LAST-MODIFIED:20221014T132315Z
UID:10003142-1674293400-1674311400@disfruta-denia.com
SUMMARY:Mercado del autociné
DESCRIPTION:
URL:https://disfruta-denia.com/evento/mercado-del-autocine-2/2023-01-21/
LOCATION:Autociné Denia\, Partida Deveses D\, 27\, Denia\, Alicante\, 03700\, España
CATEGORIES:Mercado
ATTACH;FMTTYPE=image/jpeg:https://disfruta-denia.com/wp-content/uploads/2022/01/311709154_2135059740000380_953935850809255296_n.jpg
END:VEVENT
BEGIN:VEVENT
DTSTART;TZID=Europe/Madrid:20230122T090000
DTEND;TZID=Europe/Madrid:20230122T140000
DTSTAMP:20260425T181102
CREATED:20221119T080759Z
LAST-MODIFIED:20221119T080759Z
UID:10006303-1674378000-1674396000@disfruta-denia.com
SUMMARY:Mercat del Riurau en Jesus Pobre
DESCRIPTION:En el #MercatdelRiurau siempre encontraras:\n\n\nArtesanos con sus creaciones hechas a mano\, desde el taller a la venta sin intermediarios. Joyería\, cerámica\, cuero\, madera y todo tipo de arte textil.
URL:https://disfruta-denia.com/evento/mercat-del-riurau-en-jesus-pobre-2-2/2023-01-22/
LOCATION:Mercado Riurau Jesus Pobre\, Jesus Pobre\, Alicante\, 03749\, España
CATEGORIES:Mercado
ATTACH;FMTTYPE=image/jpeg:https://disfruta-denia.com/wp-content/uploads/2022/10/309341289_456964789800224_114175928136404824_n.jpg
END:VEVENT
BEGIN:VEVENT
DTSTART;TZID=Europe/Madrid:20230123T080000
DTEND;TZID=Europe/Madrid:20230123T133000
DTSTAMP:20260425T181102
CREATED:20220303T082647Z
LAST-MODIFIED:20221128T104722Z
UID:10003302-1674460800-1674480600@disfruta-denia.com
SUMMARY:Mercadillo de Denia
DESCRIPTION:En 2022 el mercadillo de Denia es los lunes de 8:00 a 13:30 en la calle Hermanos Maristas. \nEs uno de los mercadillos más grandes y visitados de la Costa Blanca\, con unos 400 puestos en los que se puede comprar: bolsos\, ropa\, calzado y complementos\, bisutería\, decoración\, equipamiento del hogar\, artesanía\, cerámica\, flores y plantas\, etc. \nDurante la feria de Todos Los Santos se traslada a la Avenida Joan Fuster.
URL:https://disfruta-denia.com/evento/mercadillo-de-denia/2023-01-23/
LOCATION:Parque de Torrecremada\, Carrer Germans Maristes\, Denia\, Alicante\, 03700\, España
CATEGORIES:Mercado
ATTACH;FMTTYPE=image/jpeg:https://disfruta-denia.com/wp-content/uploads/2022/03/mercadillo-de-denia.jpg
END:VEVENT
BEGIN:VEVENT
DTSTART;TZID=Europe/Madrid:20230128T093000
DTEND;TZID=Europe/Madrid:20230128T143000
DTSTAMP:20260425T181102
CREATED:20221014T132314Z
LAST-MODIFIED:20221014T132315Z
UID:10003143-1674898200-1674916200@disfruta-denia.com
SUMMARY:Mercado del autociné
DESCRIPTION:
URL:https://disfruta-denia.com/evento/mercado-del-autocine-2/2023-01-28/
LOCATION:Autociné Denia\, Partida Deveses D\, 27\, Denia\, Alicante\, 03700\, España
CATEGORIES:Mercado
ATTACH;FMTTYPE=image/jpeg:https://disfruta-denia.com/wp-content/uploads/2022/01/311709154_2135059740000380_953935850809255296_n.jpg
END:VEVENT
BEGIN:VEVENT
DTSTART;TZID=Europe/Madrid:20230129T090000
DTEND;TZID=Europe/Madrid:20230129T140000
DTSTAMP:20260425T181102
CREATED:20221119T080759Z
LAST-MODIFIED:20221119T080759Z
UID:10006304-1674982800-1675000800@disfruta-denia.com
SUMMARY:Mercat del Riurau en Jesus Pobre
DESCRIPTION:En el #MercatdelRiurau siempre encontraras:\n\n\nArtesanos con sus creaciones hechas a mano\, desde el taller a la venta sin intermediarios. Joyería\, cerámica\, cuero\, madera y todo tipo de arte textil.
URL:https://disfruta-denia.com/evento/mercat-del-riurau-en-jesus-pobre-2-2/2023-01-29/
LOCATION:Mercado Riurau Jesus Pobre\, Jesus Pobre\, Alicante\, 03749\, España
CATEGORIES:Mercado
ATTACH;FMTTYPE=image/jpeg:https://disfruta-denia.com/wp-content/uploads/2022/10/309341289_456964789800224_114175928136404824_n.jpg
END:VEVENT
BEGIN:VEVENT
DTSTART;TZID=Europe/Madrid:20230130T080000
DTEND;TZID=Europe/Madrid:20230130T133000
DTSTAMP:20260425T181102
CREATED:20220303T082647Z
LAST-MODIFIED:20221128T104722Z
UID:10003303-1675065600-1675085400@disfruta-denia.com
SUMMARY:Mercadillo de Denia
DESCRIPTION:En 2022 el mercadillo de Denia es los lunes de 8:00 a 13:30 en la calle Hermanos Maristas. \nEs uno de los mercadillos más grandes y visitados de la Costa Blanca\, con unos 400 puestos en los que se puede comprar: bolsos\, ropa\, calzado y complementos\, bisutería\, decoración\, equipamiento del hogar\, artesanía\, cerámica\, flores y plantas\, etc. \nDurante la feria de Todos Los Santos se traslada a la Avenida Joan Fuster.
URL:https://disfruta-denia.com/evento/mercadillo-de-denia/2023-01-30/
LOCATION:Parque de Torrecremada\, Carrer Germans Maristes\, Denia\, Alicante\, 03700\, España
CATEGORIES:Mercado
ATTACH;FMTTYPE=image/jpeg:https://disfruta-denia.com/wp-content/uploads/2022/03/mercadillo-de-denia.jpg
END:VEVENT
END:VCALENDAR