BEGIN:VCALENDAR
VERSION:2.0
PRODID:-//Disfruta Denia - ECPv6.15.20//NONSGML v1.0//EN
CALSCALE:GREGORIAN
METHOD:PUBLISH
X-ORIGINAL-URL:https://disfruta-denia.com
X-WR-CALDESC:Eventos para Disfruta Denia
REFRESH-INTERVAL;VALUE=DURATION:PT1H
X-Robots-Tag:noindex
X-PUBLISHED-TTL:PT1H
BEGIN:VTIMEZONE
TZID:Europe/Madrid
BEGIN:DAYLIGHT
TZOFFSETFROM:+0100
TZOFFSETTO:+0200
TZNAME:CEST
DTSTART:20220327T010000
END:DAYLIGHT
BEGIN:STANDARD
TZOFFSETFROM:+0200
TZOFFSETTO:+0100
TZNAME:CET
DTSTART:20221030T010000
END:STANDARD
BEGIN:DAYLIGHT
TZOFFSETFROM:+0100
TZOFFSETTO:+0200
TZNAME:CEST
DTSTART:20230326T010000
END:DAYLIGHT
BEGIN:STANDARD
TZOFFSETFROM:+0200
TZOFFSETTO:+0100
TZNAME:CET
DTSTART:20231029T010000
END:STANDARD
BEGIN:DAYLIGHT
TZOFFSETFROM:+0100
TZOFFSETTO:+0200
TZNAME:CEST
DTSTART:20240331T010000
END:DAYLIGHT
BEGIN:STANDARD
TZOFFSETFROM:+0200
TZOFFSETTO:+0100
TZNAME:CET
DTSTART:20241027T010000
END:STANDARD
END:VTIMEZONE
BEGIN:VEVENT
DTSTART;TZID=Europe/Madrid:20230402T090000
DTEND;TZID=Europe/Madrid:20230402T140000
DTSTAMP:20260425T132444
CREATED:20221119T080759Z
LAST-MODIFIED:20221119T080759Z
UID:10006313-1680426000-1680444000@disfruta-denia.com
SUMMARY:Mercat del Riurau en Jesus Pobre
DESCRIPTION:En el #MercatdelRiurau siempre encontraras:\n\n\nArtesanos con sus creaciones hechas a mano\, desde el taller a la venta sin intermediarios. Joyería\, cerámica\, cuero\, madera y todo tipo de arte textil.
URL:https://disfruta-denia.com/evento/mercat-del-riurau-en-jesus-pobre-2-2/2023-04-02/
LOCATION:Mercado Riurau Jesus Pobre\, Jesus Pobre\, Alicante\, 03749\, España
CATEGORIES:Mercado
ATTACH;FMTTYPE=image/jpeg:https://disfruta-denia.com/wp-content/uploads/2022/10/309341289_456964789800224_114175928136404824_n.jpg
END:VEVENT
BEGIN:VEVENT
DTSTART;TZID=Europe/Madrid:20230402T093000
DTEND;TZID=Europe/Madrid:20230402T140000
DTSTAMP:20260425T132444
CREATED:20230220T140028Z
LAST-MODIFIED:20230220T140042Z
UID:10009938-1680427800-1680444000@disfruta-denia.com
SUMMARY:Mercado del autociné
DESCRIPTION:
URL:https://disfruta-denia.com/evento/mercado-del-autocine-3/2023-04-02/
LOCATION:Autociné Denia\, Partida Deveses D\, 27\, Denia\, Alicante\, 03700\, España
CATEGORIES:Mercado
ATTACH;FMTTYPE=image/jpeg:https://disfruta-denia.com/wp-content/uploads/2023/02/328696615_713548360324943_2484204053604012380_n.jpg
END:VEVENT
BEGIN:VEVENT
DTSTART;TZID=Europe/Madrid:20230403T080000
DTEND;TZID=Europe/Madrid:20230403T133000
DTSTAMP:20260425T132444
CREATED:20220303T082647Z
LAST-MODIFIED:20221128T104722Z
UID:10003312-1680508800-1680528600@disfruta-denia.com
SUMMARY:Mercadillo de Denia
DESCRIPTION:En 2022 el mercadillo de Denia es los lunes de 8:00 a 13:30 en la calle Hermanos Maristas. \nEs uno de los mercadillos más grandes y visitados de la Costa Blanca\, con unos 400 puestos en los que se puede comprar: bolsos\, ropa\, calzado y complementos\, bisutería\, decoración\, equipamiento del hogar\, artesanía\, cerámica\, flores y plantas\, etc. \nDurante la feria de Todos Los Santos se traslada a la Avenida Joan Fuster.
URL:https://disfruta-denia.com/evento/mercadillo-de-denia/2023-04-03/
LOCATION:Parque de Torrecremada\, Carrer Germans Maristes\, Denia\, Alicante\, 03700\, España
CATEGORIES:Mercado
ATTACH;FMTTYPE=image/jpeg:https://disfruta-denia.com/wp-content/uploads/2022/03/mercadillo-de-denia.jpg
END:VEVENT
BEGIN:VEVENT
DTSTART;TZID=Europe/Madrid:20230409T090000
DTEND;TZID=Europe/Madrid:20230409T140000
DTSTAMP:20260425T132444
CREATED:20221119T080759Z
LAST-MODIFIED:20221119T080759Z
UID:10006314-1681030800-1681048800@disfruta-denia.com
SUMMARY:Mercat del Riurau en Jesus Pobre
DESCRIPTION:En el #MercatdelRiurau siempre encontraras:\n\n\nArtesanos con sus creaciones hechas a mano\, desde el taller a la venta sin intermediarios. Joyería\, cerámica\, cuero\, madera y todo tipo de arte textil.
URL:https://disfruta-denia.com/evento/mercat-del-riurau-en-jesus-pobre-2-2/2023-04-09/
LOCATION:Mercado Riurau Jesus Pobre\, Jesus Pobre\, Alicante\, 03749\, España
CATEGORIES:Mercado
ATTACH;FMTTYPE=image/jpeg:https://disfruta-denia.com/wp-content/uploads/2022/10/309341289_456964789800224_114175928136404824_n.jpg
END:VEVENT
BEGIN:VEVENT
DTSTART;TZID=Europe/Madrid:20230409T093000
DTEND;TZID=Europe/Madrid:20230409T140000
DTSTAMP:20260425T132444
CREATED:20230220T140028Z
LAST-MODIFIED:20230220T140042Z
UID:10009939-1681032600-1681048800@disfruta-denia.com
SUMMARY:Mercado del autociné
DESCRIPTION:
URL:https://disfruta-denia.com/evento/mercado-del-autocine-3/2023-04-09/
LOCATION:Autociné Denia\, Partida Deveses D\, 27\, Denia\, Alicante\, 03700\, España
CATEGORIES:Mercado
ATTACH;FMTTYPE=image/jpeg:https://disfruta-denia.com/wp-content/uploads/2023/02/328696615_713548360324943_2484204053604012380_n.jpg
END:VEVENT
BEGIN:VEVENT
DTSTART;TZID=Europe/Madrid:20230410T080000
DTEND;TZID=Europe/Madrid:20230410T133000
DTSTAMP:20260425T132444
CREATED:20220303T082647Z
LAST-MODIFIED:20221128T104722Z
UID:10003313-1681113600-1681133400@disfruta-denia.com
SUMMARY:Mercadillo de Denia
DESCRIPTION:En 2022 el mercadillo de Denia es los lunes de 8:00 a 13:30 en la calle Hermanos Maristas. \nEs uno de los mercadillos más grandes y visitados de la Costa Blanca\, con unos 400 puestos en los que se puede comprar: bolsos\, ropa\, calzado y complementos\, bisutería\, decoración\, equipamiento del hogar\, artesanía\, cerámica\, flores y plantas\, etc. \nDurante la feria de Todos Los Santos se traslada a la Avenida Joan Fuster.
URL:https://disfruta-denia.com/evento/mercadillo-de-denia/2023-04-10/
LOCATION:Parque de Torrecremada\, Carrer Germans Maristes\, Denia\, Alicante\, 03700\, España
CATEGORIES:Mercado
ATTACH;FMTTYPE=image/jpeg:https://disfruta-denia.com/wp-content/uploads/2022/03/mercadillo-de-denia.jpg
END:VEVENT
BEGIN:VEVENT
DTSTART;TZID=Europe/Madrid:20230415T103000
DTEND;TZID=Europe/Madrid:20230415T143000
DTSTAMP:20260425T132444
CREATED:20230412T082845Z
LAST-MODIFIED:20230412T082845Z
UID:10010583-1681554600-1681569000@disfruta-denia.com
SUMMARY:FIRA D'OLIS DE DIANIA
DESCRIPTION:Este sábado celebramos la Fira d’Olis de Diània y va a pasar todo esto:\n\n\nDe 10:30 a 17h. Mercado ubicado en la Plaza de Els Magazinos donde se podrán conocer de cerca y comprar los aceites de oliva virgen extra de marcas productoras de Diània.\n\n\n 10.30h Cata de aceite divulgativa con 5 Olis de Diània dirigida por la ingeniera agrónoma valenciana Irene Espert de Sentit\, el proyecto divulgativo sobre agronomía y gastronomía que pone en valor productos agroalimentarios y su transformación. Con los aceites @tossutagroecologiasostenible\, @castelldelacosturera\, @olitravadell\, Alfaoliva y Cooperativa Agrícola Católica Coop Valenciana de Cocentaina.\n\n\n De 11:30 a 12:30h. Mesa redonda “La recuperación de un territorio de montaña”\, con introducción a la historia del cultivo de olivos por parte del historiador alicantino Javier Calvo y la participación de los oleicultores Héctor Carrió de Tossut Agricologia Sostenible (Pedreguer) y Carles Pérez de Castell de la Costurera (Balones).\n\n\n 12:30h. Presentación del foto-libro “Diània Terra nostra” del escritor beniarresino Just Sellés.\n\n\n De 12:30 a 14:30h. Taller artístico impartido por el artista Ximo Canet donde los asistentes aprenderán a pintar en el agua con Olis de Diània coloreados con especias naturales.\n\n\n Además\, durante todo el día\, los locales de Els Magazinos ofrecerán platos elaborados con Olis de Diània que podrás acompañar de @cervezaturia\n\n \nTodo un día de culto y disfrute del oro líquido.
URL:https://disfruta-denia.com/evento/fira-dolis-de-diania/
LOCATION:Els Magazinos\, Carrer Pont 19\, Denia\, Alicante\, 03700\, España
CATEGORIES:Cata,Feria,Gastronomía,Mercado,Taller
ATTACH;FMTTYPE=image/jpeg:https://disfruta-denia.com/wp-content/uploads/2023/04/339253886_935950500864814_5492738289521128514_n.jpg
END:VEVENT
BEGIN:VEVENT
DTSTART;TZID=Europe/Madrid:20230416T090000
DTEND;TZID=Europe/Madrid:20230416T140000
DTSTAMP:20260425T132444
CREATED:20221119T080759Z
LAST-MODIFIED:20221119T080759Z
UID:10006315-1681635600-1681653600@disfruta-denia.com
SUMMARY:Mercat del Riurau en Jesus Pobre
DESCRIPTION:En el #MercatdelRiurau siempre encontraras:\n\n\nArtesanos con sus creaciones hechas a mano\, desde el taller a la venta sin intermediarios. Joyería\, cerámica\, cuero\, madera y todo tipo de arte textil.
URL:https://disfruta-denia.com/evento/mercat-del-riurau-en-jesus-pobre-2-2/2023-04-16/
LOCATION:Mercado Riurau Jesus Pobre\, Jesus Pobre\, Alicante\, 03749\, España
CATEGORIES:Mercado
ATTACH;FMTTYPE=image/jpeg:https://disfruta-denia.com/wp-content/uploads/2022/10/309341289_456964789800224_114175928136404824_n.jpg
END:VEVENT
BEGIN:VEVENT
DTSTART;TZID=Europe/Madrid:20230416T093000
DTEND;TZID=Europe/Madrid:20230416T140000
DTSTAMP:20260425T132444
CREATED:20230220T140028Z
LAST-MODIFIED:20230220T140042Z
UID:10009940-1681637400-1681653600@disfruta-denia.com
SUMMARY:Mercado del autociné
DESCRIPTION:
URL:https://disfruta-denia.com/evento/mercado-del-autocine-3/2023-04-16/
LOCATION:Autociné Denia\, Partida Deveses D\, 27\, Denia\, Alicante\, 03700\, España
CATEGORIES:Mercado
ATTACH;FMTTYPE=image/jpeg:https://disfruta-denia.com/wp-content/uploads/2023/02/328696615_713548360324943_2484204053604012380_n.jpg
END:VEVENT
BEGIN:VEVENT
DTSTART;TZID=Europe/Madrid:20230417T080000
DTEND;TZID=Europe/Madrid:20230417T133000
DTSTAMP:20260425T132444
CREATED:20220303T082647Z
LAST-MODIFIED:20221128T104722Z
UID:10003314-1681718400-1681738200@disfruta-denia.com
SUMMARY:Mercadillo de Denia
DESCRIPTION:En 2022 el mercadillo de Denia es los lunes de 8:00 a 13:30 en la calle Hermanos Maristas. \nEs uno de los mercadillos más grandes y visitados de la Costa Blanca\, con unos 400 puestos en los que se puede comprar: bolsos\, ropa\, calzado y complementos\, bisutería\, decoración\, equipamiento del hogar\, artesanía\, cerámica\, flores y plantas\, etc. \nDurante la feria de Todos Los Santos se traslada a la Avenida Joan Fuster.
URL:https://disfruta-denia.com/evento/mercadillo-de-denia/2023-04-17/
LOCATION:Parque de Torrecremada\, Carrer Germans Maristes\, Denia\, Alicante\, 03700\, España
CATEGORIES:Mercado
ATTACH;FMTTYPE=image/jpeg:https://disfruta-denia.com/wp-content/uploads/2022/03/mercadillo-de-denia.jpg
END:VEVENT
BEGIN:VEVENT
DTSTART;TZID=Europe/Madrid:20230423T090000
DTEND;TZID=Europe/Madrid:20230423T140000
DTSTAMP:20260425T132444
CREATED:20221119T080759Z
LAST-MODIFIED:20221119T080759Z
UID:10006316-1682240400-1682258400@disfruta-denia.com
SUMMARY:Mercat del Riurau en Jesus Pobre
DESCRIPTION:En el #MercatdelRiurau siempre encontraras:\n\n\nArtesanos con sus creaciones hechas a mano\, desde el taller a la venta sin intermediarios. Joyería\, cerámica\, cuero\, madera y todo tipo de arte textil.
URL:https://disfruta-denia.com/evento/mercat-del-riurau-en-jesus-pobre-2-2/2023-04-23/
LOCATION:Mercado Riurau Jesus Pobre\, Jesus Pobre\, Alicante\, 03749\, España
CATEGORIES:Mercado
ATTACH;FMTTYPE=image/jpeg:https://disfruta-denia.com/wp-content/uploads/2022/10/309341289_456964789800224_114175928136404824_n.jpg
END:VEVENT
BEGIN:VEVENT
DTSTART;TZID=Europe/Madrid:20230423T093000
DTEND;TZID=Europe/Madrid:20230423T140000
DTSTAMP:20260425T132444
CREATED:20230220T140028Z
LAST-MODIFIED:20230220T140042Z
UID:10009941-1682242200-1682258400@disfruta-denia.com
SUMMARY:Mercado del autociné
DESCRIPTION:
URL:https://disfruta-denia.com/evento/mercado-del-autocine-3/2023-04-23/
LOCATION:Autociné Denia\, Partida Deveses D\, 27\, Denia\, Alicante\, 03700\, España
CATEGORIES:Mercado
ATTACH;FMTTYPE=image/jpeg:https://disfruta-denia.com/wp-content/uploads/2023/02/328696615_713548360324943_2484204053604012380_n.jpg
END:VEVENT
BEGIN:VEVENT
DTSTART;TZID=Europe/Madrid:20230424T080000
DTEND;TZID=Europe/Madrid:20230424T133000
DTSTAMP:20260425T132444
CREATED:20220303T082647Z
LAST-MODIFIED:20221128T104722Z
UID:10003315-1682323200-1682343000@disfruta-denia.com
SUMMARY:Mercadillo de Denia
DESCRIPTION:En 2022 el mercadillo de Denia es los lunes de 8:00 a 13:30 en la calle Hermanos Maristas. \nEs uno de los mercadillos más grandes y visitados de la Costa Blanca\, con unos 400 puestos en los que se puede comprar: bolsos\, ropa\, calzado y complementos\, bisutería\, decoración\, equipamiento del hogar\, artesanía\, cerámica\, flores y plantas\, etc. \nDurante la feria de Todos Los Santos se traslada a la Avenida Joan Fuster.
URL:https://disfruta-denia.com/evento/mercadillo-de-denia/2023-04-24/
LOCATION:Parque de Torrecremada\, Carrer Germans Maristes\, Denia\, Alicante\, 03700\, España
CATEGORIES:Mercado
ATTACH;FMTTYPE=image/jpeg:https://disfruta-denia.com/wp-content/uploads/2022/03/mercadillo-de-denia.jpg
END:VEVENT
BEGIN:VEVENT
DTSTART;TZID=Europe/Madrid:20230430T090000
DTEND;TZID=Europe/Madrid:20230430T140000
DTSTAMP:20260425T132444
CREATED:20221119T080759Z
LAST-MODIFIED:20221119T080759Z
UID:10006317-1682845200-1682863200@disfruta-denia.com
SUMMARY:Mercat del Riurau en Jesus Pobre
DESCRIPTION:En el #MercatdelRiurau siempre encontraras:\n\n\nArtesanos con sus creaciones hechas a mano\, desde el taller a la venta sin intermediarios. Joyería\, cerámica\, cuero\, madera y todo tipo de arte textil.
URL:https://disfruta-denia.com/evento/mercat-del-riurau-en-jesus-pobre-2-2/2023-04-30/
LOCATION:Mercado Riurau Jesus Pobre\, Jesus Pobre\, Alicante\, 03749\, España
CATEGORIES:Mercado
ATTACH;FMTTYPE=image/jpeg:https://disfruta-denia.com/wp-content/uploads/2022/10/309341289_456964789800224_114175928136404824_n.jpg
END:VEVENT
BEGIN:VEVENT
DTSTART;TZID=Europe/Madrid:20230430T093000
DTEND;TZID=Europe/Madrid:20230430T140000
DTSTAMP:20260425T132444
CREATED:20230220T140028Z
LAST-MODIFIED:20230220T140042Z
UID:10009942-1682847000-1682863200@disfruta-denia.com
SUMMARY:Mercado del autociné
DESCRIPTION:
URL:https://disfruta-denia.com/evento/mercado-del-autocine-3/2023-04-30/
LOCATION:Autociné Denia\, Partida Deveses D\, 27\, Denia\, Alicante\, 03700\, España
CATEGORIES:Mercado
ATTACH;FMTTYPE=image/jpeg:https://disfruta-denia.com/wp-content/uploads/2023/02/328696615_713548360324943_2484204053604012380_n.jpg
END:VEVENT
END:VCALENDAR