BEGIN:VCALENDAR
VERSION:2.0
PRODID:-//Disfruta Denia - ECPv6.15.20//NONSGML v1.0//EN
CALSCALE:GREGORIAN
METHOD:PUBLISH
X-WR-CALNAME:Disfruta Denia
X-ORIGINAL-URL:https://disfruta-denia.com
X-WR-CALDESC:Eventos para Disfruta Denia
REFRESH-INTERVAL;VALUE=DURATION:PT1H
X-Robots-Tag:noindex
X-PUBLISHED-TTL:PT1H
BEGIN:VTIMEZONE
TZID:Europe/Madrid
BEGIN:DAYLIGHT
TZOFFSETFROM:+0100
TZOFFSETTO:+0200
TZNAME:CEST
DTSTART:20220327T010000
END:DAYLIGHT
BEGIN:STANDARD
TZOFFSETFROM:+0200
TZOFFSETTO:+0100
TZNAME:CET
DTSTART:20221030T010000
END:STANDARD
BEGIN:DAYLIGHT
TZOFFSETFROM:+0100
TZOFFSETTO:+0200
TZNAME:CEST
DTSTART:20230326T010000
END:DAYLIGHT
BEGIN:STANDARD
TZOFFSETFROM:+0200
TZOFFSETTO:+0100
TZNAME:CET
DTSTART:20231029T010000
END:STANDARD
BEGIN:DAYLIGHT
TZOFFSETFROM:+0100
TZOFFSETTO:+0200
TZNAME:CEST
DTSTART:20240331T010000
END:DAYLIGHT
BEGIN:STANDARD
TZOFFSETFROM:+0200
TZOFFSETTO:+0100
TZNAME:CET
DTSTART:20241027T010000
END:STANDARD
END:VTIMEZONE
BEGIN:VEVENT
DTSTART;TZID=Europe/Madrid:20230903T180000
DTEND;TZID=Europe/Madrid:20230903T230000
DTSTAMP:20260425T043952
CREATED:20230902T181719Z
LAST-MODIFIED:20230902T181720Z
UID:10010761-1693764000-1693782000@disfruta-denia.com
SUMMARY:Mercat del Riurau en Jesus Pobre
DESCRIPTION:En el #MercatdelRiurau siempre encontraras:\n\n\nArtesanos con sus creaciones hechas a mano\, desde el taller a la venta sin intermediarios. Joyería\, cerámica\, cuero\, madera y todo tipo de arte textil.
URL:https://disfruta-denia.com/evento/mercat-del-riurau-en-jesus-pobre-2-2-5-7/
LOCATION:Mercado Riurau Jesus Pobre\, Jesus Pobre\, Alicante\, 03749\, España
CATEGORIES:Mercado
ATTACH;FMTTYPE=image/jpeg:https://disfruta-denia.com/wp-content/uploads/2023/06/371858011_673696188127082_8083579969464748514_n.jpg
END:VEVENT
BEGIN:VEVENT
DTSTART;TZID=Europe/Madrid:20230904T080000
DTEND;TZID=Europe/Madrid:20230904T133000
DTSTAMP:20260425T043952
CREATED:20220303T082647Z
LAST-MODIFIED:20221128T104722Z
UID:10003334-1693814400-1693834200@disfruta-denia.com
SUMMARY:Mercadillo de Denia
DESCRIPTION:En 2022 el mercadillo de Denia es los lunes de 8:00 a 13:30 en la calle Hermanos Maristas. \nEs uno de los mercadillos más grandes y visitados de la Costa Blanca\, con unos 400 puestos en los que se puede comprar: bolsos\, ropa\, calzado y complementos\, bisutería\, decoración\, equipamiento del hogar\, artesanía\, cerámica\, flores y plantas\, etc. \nDurante la feria de Todos Los Santos se traslada a la Avenida Joan Fuster.
URL:https://disfruta-denia.com/evento/mercadillo-de-denia/2023-09-04/
LOCATION:Parque de Torrecremada\, Carrer Germans Maristes\, Denia\, Alicante\, 03700\, España
CATEGORIES:Mercado
ATTACH;FMTTYPE=image/jpeg:https://disfruta-denia.com/wp-content/uploads/2022/03/mercadillo-de-denia.jpg
END:VEVENT
BEGIN:VEVENT
DTSTART;TZID=Europe/Madrid:20230910T180000
DTEND;TZID=Europe/Madrid:20230910T230000
DTSTAMP:20260425T043952
CREATED:20230908T110159Z
LAST-MODIFIED:20230908T110201Z
UID:10010762-1694368800-1694386800@disfruta-denia.com
SUMMARY:Mercat del Riurau en Jesus Pobre
DESCRIPTION:¡Atención! Último mercado por la tarde.\nDomingo 10 de septiembre de 18h a 23h te esperamos en el #MercatdelRiurau con el mejor producto de temporada y del territorio!\nAgricultura\, artesanía\, productores\, elaborados y las ricas especialidades de nuestro bar La Pau. A partir de las 20h\, música en directo con REMAKE. \nVen a disfrutar juntos a nosotrxs del último atardecer 2023 en el Mercat del Riurau de Jesus Pobre.
URL:https://disfruta-denia.com/evento/mercat-del-riurau-en-jesus-pobre-2-2-5-8/2023-09-10/
LOCATION:Mercado Riurau Jesus Pobre\, Jesus Pobre\, Alicante\, 03749\, España
CATEGORIES:Gastronomía,Mercado
ATTACH;FMTTYPE=image/jpeg:https://disfruta-denia.com/wp-content/uploads/2023/06/375060033_676273547869346_3344291174144477105_n.jpg
END:VEVENT
BEGIN:VEVENT
DTSTART;TZID=Europe/Madrid:20230911T080000
DTEND;TZID=Europe/Madrid:20230911T133000
DTSTAMP:20260425T043952
CREATED:20220303T082647Z
LAST-MODIFIED:20221128T104722Z
UID:10003335-1694419200-1694439000@disfruta-denia.com
SUMMARY:Mercadillo de Denia
DESCRIPTION:En 2022 el mercadillo de Denia es los lunes de 8:00 a 13:30 en la calle Hermanos Maristas. \nEs uno de los mercadillos más grandes y visitados de la Costa Blanca\, con unos 400 puestos en los que se puede comprar: bolsos\, ropa\, calzado y complementos\, bisutería\, decoración\, equipamiento del hogar\, artesanía\, cerámica\, flores y plantas\, etc. \nDurante la feria de Todos Los Santos se traslada a la Avenida Joan Fuster.
URL:https://disfruta-denia.com/evento/mercadillo-de-denia/2023-09-11/
LOCATION:Parque de Torrecremada\, Carrer Germans Maristes\, Denia\, Alicante\, 03700\, España
CATEGORIES:Mercado
ATTACH;FMTTYPE=image/jpeg:https://disfruta-denia.com/wp-content/uploads/2022/03/mercadillo-de-denia.jpg
END:VEVENT
BEGIN:VEVENT
DTSTART;TZID=Europe/Madrid:20230917T090000
DTEND;TZID=Europe/Madrid:20230917T140000
DTSTAMP:20260425T043952
CREATED:20230915T081834Z
LAST-MODIFIED:20230915T082831Z
UID:10013347-1694941200-1694959200@disfruta-denia.com
SUMMARY:Mercat del Riurau Jesus Pobre
DESCRIPTION:Nos despedimos del Mercat del Riurau por la tarde y volvemos a nuestro horario de todo el año. A partir del próximo domingo 17 de septiembre nos vemos de 9h a 14h en el Riurau de Jesus Pobre.\nA partir de las 12h danzas del mundo. Buen ambiente\, música\, danza y el mejor producto local en el Mercat del Riurau.\nTe esperamos!
URL:https://disfruta-denia.com/evento/mercat-del-riurau-jesus-pobre-2-2/
LOCATION:Mercado Riurau Jesus Pobre\, Jesus Pobre\, Alicante\, 03749\, España
CATEGORIES:Concierto,Gastronomía,Mercado
ATTACH;FMTTYPE=image/jpeg:https://disfruta-denia.com/wp-content/uploads/2023/09/377572173_680213340808700_4925972287142438965_n.jpg
END:VEVENT
BEGIN:VEVENT
DTSTART;TZID=Europe/Madrid:20230918T080000
DTEND;TZID=Europe/Madrid:20230918T133000
DTSTAMP:20260425T043952
CREATED:20220303T082647Z
LAST-MODIFIED:20221128T104722Z
UID:10003336-1695024000-1695043800@disfruta-denia.com
SUMMARY:Mercadillo de Denia
DESCRIPTION:En 2022 el mercadillo de Denia es los lunes de 8:00 a 13:30 en la calle Hermanos Maristas. \nEs uno de los mercadillos más grandes y visitados de la Costa Blanca\, con unos 400 puestos en los que se puede comprar: bolsos\, ropa\, calzado y complementos\, bisutería\, decoración\, equipamiento del hogar\, artesanía\, cerámica\, flores y plantas\, etc. \nDurante la feria de Todos Los Santos se traslada a la Avenida Joan Fuster.
URL:https://disfruta-denia.com/evento/mercadillo-de-denia/2023-09-18/
LOCATION:Parque de Torrecremada\, Carrer Germans Maristes\, Denia\, Alicante\, 03700\, España
CATEGORIES:Mercado
ATTACH;FMTTYPE=image/jpeg:https://disfruta-denia.com/wp-content/uploads/2022/03/mercadillo-de-denia.jpg
END:VEVENT
BEGIN:VEVENT
DTSTART;TZID=Europe/Madrid:20230924T090000
DTEND;TZID=Europe/Madrid:20230924T140000
DTSTAMP:20260425T043952
CREATED:20230921T212034Z
LAST-MODIFIED:20230921T212035Z
UID:10013348-1695546000-1695564000@disfruta-denia.com
SUMMARY:Mercat del Riurau Jesus Pobre
DESCRIPTION:Mercat del Riurau Jesus Pobre
URL:https://disfruta-denia.com/evento/mercat-del-riurau-jesus-pobre-2-3/
LOCATION:Mercado Riurau Jesus Pobre\, Jesus Pobre\, Alicante\, 03749\, España
CATEGORIES:Concierto,Gastronomía,Mercado
ATTACH;FMTTYPE=image/jpeg:https://disfruta-denia.com/wp-content/uploads/2023/09/380416786_684404433722924_2034964106461884744_n-1.jpg
END:VEVENT
BEGIN:VEVENT
DTSTART;TZID=Europe/Madrid:20230925T080000
DTEND;TZID=Europe/Madrid:20230925T133000
DTSTAMP:20260425T043952
CREATED:20220303T082647Z
LAST-MODIFIED:20221128T104722Z
UID:10003337-1695628800-1695648600@disfruta-denia.com
SUMMARY:Mercadillo de Denia
DESCRIPTION:En 2022 el mercadillo de Denia es los lunes de 8:00 a 13:30 en la calle Hermanos Maristas. \nEs uno de los mercadillos más grandes y visitados de la Costa Blanca\, con unos 400 puestos en los que se puede comprar: bolsos\, ropa\, calzado y complementos\, bisutería\, decoración\, equipamiento del hogar\, artesanía\, cerámica\, flores y plantas\, etc. \nDurante la feria de Todos Los Santos se traslada a la Avenida Joan Fuster.
URL:https://disfruta-denia.com/evento/mercadillo-de-denia/2023-09-25/
LOCATION:Parque de Torrecremada\, Carrer Germans Maristes\, Denia\, Alicante\, 03700\, España
CATEGORIES:Mercado
ATTACH;FMTTYPE=image/jpeg:https://disfruta-denia.com/wp-content/uploads/2022/03/mercadillo-de-denia.jpg
END:VEVENT
END:VCALENDAR