BEGIN:VCALENDAR
VERSION:2.0
PRODID:-//Disfruta Denia - ECPv6.15.20//NONSGML v1.0//EN
CALSCALE:GREGORIAN
METHOD:PUBLISH
X-ORIGINAL-URL:https://disfruta-denia.com
X-WR-CALDESC:Eventos para Disfruta Denia
REFRESH-INTERVAL;VALUE=DURATION:PT1H
X-Robots-Tag:noindex
X-PUBLISHED-TTL:PT1H
BEGIN:VTIMEZONE
TZID:Europe/Madrid
BEGIN:DAYLIGHT
TZOFFSETFROM:+0100
TZOFFSETTO:+0200
TZNAME:CEST
DTSTART:20220327T010000
END:DAYLIGHT
BEGIN:STANDARD
TZOFFSETFROM:+0200
TZOFFSETTO:+0100
TZNAME:CET
DTSTART:20221030T010000
END:STANDARD
BEGIN:DAYLIGHT
TZOFFSETFROM:+0100
TZOFFSETTO:+0200
TZNAME:CEST
DTSTART:20230326T010000
END:DAYLIGHT
BEGIN:STANDARD
TZOFFSETFROM:+0200
TZOFFSETTO:+0100
TZNAME:CET
DTSTART:20231029T010000
END:STANDARD
BEGIN:DAYLIGHT
TZOFFSETFROM:+0100
TZOFFSETTO:+0200
TZNAME:CEST
DTSTART:20240331T010000
END:DAYLIGHT
BEGIN:STANDARD
TZOFFSETFROM:+0200
TZOFFSETTO:+0100
TZNAME:CET
DTSTART:20241027T010000
END:STANDARD
END:VTIMEZONE
BEGIN:VEVENT
DTSTART;TZID=Europe/Madrid:20231203T090000
DTEND;TZID=Europe/Madrid:20231203T140000
DTSTAMP:20260425T005414
CREATED:20230908T110450Z
LAST-MODIFIED:20230908T110450Z
UID:10013358-1701594000-1701612000@disfruta-denia.com
SUMMARY:Mercat del Riurau Jesus Pobre
DESCRIPTION:Mercat del Riurau Jesus Pobre
URL:https://disfruta-denia.com/evento/mercat-del-riurau-jesus-pobre-2/2023-12-03/
LOCATION:Mercado Riurau Jesus Pobre\, Jesus Pobre\, Alicante\, 03749\, España
CATEGORIES:Concierto,Gastronomía,Mercado
ATTACH;FMTTYPE=image/jpeg:https://disfruta-denia.com/wp-content/uploads/2023/09/374833926_676262521203782_8518398986853285692_n.jpg
END:VEVENT
BEGIN:VEVENT
DTSTART;TZID=Europe/Madrid:20231203T093000
DTEND;TZID=Europe/Madrid:20231203T140000
DTSTAMP:20260425T005414
CREATED:20231005T110529Z
LAST-MODIFIED:20231005T110529Z
UID:10014590-1701595800-1701612000@disfruta-denia.com
SUMMARY:Mercado del Auto-cine
DESCRIPTION:Empezamos la cuenta atrás > abrimos el 5 de noviembre!!
URL:https://disfruta-denia.com/evento/mercado-del-auto-cine/2023-12-03/
LOCATION:Autociné Denia\, Partida Deveses D\, 27\, Denia\, Alicante\, 03700\, España
CATEGORIES:Mercado
ATTACH;FMTTYPE=image/jpeg:https://disfruta-denia.com/wp-content/uploads/2023/10/385074086_823552942895951_3517898148682678510_n.jpg
END:VEVENT
BEGIN:VEVENT
DTSTART;TZID=Europe/Madrid:20231204T080000
DTEND;TZID=Europe/Madrid:20231204T133000
DTSTAMP:20260425T005414
CREATED:20220303T082647Z
LAST-MODIFIED:20221128T104722Z
UID:10003347-1701676800-1701696600@disfruta-denia.com
SUMMARY:Mercadillo de Denia
DESCRIPTION:En 2022 el mercadillo de Denia es los lunes de 8:00 a 13:30 en la calle Hermanos Maristas. \nEs uno de los mercadillos más grandes y visitados de la Costa Blanca\, con unos 400 puestos en los que se puede comprar: bolsos\, ropa\, calzado y complementos\, bisutería\, decoración\, equipamiento del hogar\, artesanía\, cerámica\, flores y plantas\, etc. \nDurante la feria de Todos Los Santos se traslada a la Avenida Joan Fuster.
URL:https://disfruta-denia.com/evento/mercadillo-de-denia/2023-12-04/
LOCATION:Parque de Torrecremada\, Carrer Germans Maristes\, Denia\, Alicante\, 03700\, España
CATEGORIES:Mercado
ATTACH;FMTTYPE=image/jpeg:https://disfruta-denia.com/wp-content/uploads/2022/03/mercadillo-de-denia.jpg
END:VEVENT
BEGIN:VEVENT
DTSTART;VALUE=DATE:20231205
DTEND;VALUE=DATE:20231231
DTSTAMP:20260425T005414
CREATED:20231205T111730Z
LAST-MODIFIED:20231205T111730Z
UID:10014927-1701748800-1703908799@disfruta-denia.com
SUMMARY:Christmas Market en Baleària Port
DESCRIPTION:Los días 28 y 29 de diciembre en la estación marítima podréis obtener artículos y productos locales de todo tipo para regalar esta Navidad. \nAdemás\, los pequeños de la casa podrán disfrutar de diferentes actividades como pintacaras\, un espectáculo de magia o hinchables. 
URL:https://disfruta-denia.com/evento/christmas-market-en-balearia-port/
LOCATION:El Portet Denia\, Moll de la Pansa s/n\,\, Denia\, Alicante\, 03700\, España
CATEGORIES:Mercado
ATTACH;FMTTYPE=image/jpeg:https://disfruta-denia.com/wp-content/uploads/2023/12/406525087_733646912126006_8206921601699955909_n.jpg
END:VEVENT
BEGIN:VEVENT
DTSTART;VALUE=DATE:20231206
DTEND;VALUE=DATE:20231212
DTSTAMP:20260425T005414
CREATED:20231204T105703Z
LAST-MODIFIED:20231204T105703Z
UID:10014925-1701835200-1702267199@disfruta-denia.com
SUMMARY:Mercado de Navidad
DESCRIPTION:Comenzamos esta semana festiva\, recordando que para los días del puente se celebra el Mercado de Navidad   .\nAdemás podremos disfrutar de cuentacuentos\, oficios navideños y talleres participativos. Que no te lo cuenten! \n Calle Marqués de Campo. Solar del antiguo ambulatorio.\nDel 6 al 10 de diciembre 2023\nDe 11 a 13 y de 17 a 20 horas.
URL:https://disfruta-denia.com/evento/mercado-de-navidad/
LOCATION:Carrer del Marqués de Campo\, Carrer del Marqués de Campo\, Denia\, Alicante\, 03700\, España
CATEGORIES:Mercado
ATTACH;FMTTYPE=image/jpeg:https://disfruta-denia.com/wp-content/uploads/2023/12/406068264_745347937632989_9193296401855448528_n.jpg
END:VEVENT
BEGIN:VEVENT
DTSTART;TZID=Europe/Madrid:20231210T090000
DTEND;TZID=Europe/Madrid:20231210T140000
DTSTAMP:20260425T005414
CREATED:20230908T110450Z
LAST-MODIFIED:20230908T110450Z
UID:10013359-1702198800-1702216800@disfruta-denia.com
SUMMARY:Mercat del Riurau Jesus Pobre
DESCRIPTION:Mercat del Riurau Jesus Pobre
URL:https://disfruta-denia.com/evento/mercat-del-riurau-jesus-pobre-2/2023-12-10/
LOCATION:Mercado Riurau Jesus Pobre\, Jesus Pobre\, Alicante\, 03749\, España
CATEGORIES:Concierto,Gastronomía,Mercado
ATTACH;FMTTYPE=image/jpeg:https://disfruta-denia.com/wp-content/uploads/2023/09/374833926_676262521203782_8518398986853285692_n.jpg
END:VEVENT
BEGIN:VEVENT
DTSTART;TZID=Europe/Madrid:20231210T093000
DTEND;TZID=Europe/Madrid:20231210T140000
DTSTAMP:20260425T005414
CREATED:20231005T110529Z
LAST-MODIFIED:20231005T110529Z
UID:10014591-1702200600-1702216800@disfruta-denia.com
SUMMARY:Mercado del Auto-cine
DESCRIPTION:Empezamos la cuenta atrás > abrimos el 5 de noviembre!!
URL:https://disfruta-denia.com/evento/mercado-del-auto-cine/2023-12-10/
LOCATION:Autociné Denia\, Partida Deveses D\, 27\, Denia\, Alicante\, 03700\, España
CATEGORIES:Mercado
ATTACH;FMTTYPE=image/jpeg:https://disfruta-denia.com/wp-content/uploads/2023/10/385074086_823552942895951_3517898148682678510_n.jpg
END:VEVENT
BEGIN:VEVENT
DTSTART;TZID=Europe/Madrid:20231211T080000
DTEND;TZID=Europe/Madrid:20231211T133000
DTSTAMP:20260425T005414
CREATED:20220303T082647Z
LAST-MODIFIED:20221128T104722Z
UID:10003348-1702281600-1702301400@disfruta-denia.com
SUMMARY:Mercadillo de Denia
DESCRIPTION:En 2022 el mercadillo de Denia es los lunes de 8:00 a 13:30 en la calle Hermanos Maristas. \nEs uno de los mercadillos más grandes y visitados de la Costa Blanca\, con unos 400 puestos en los que se puede comprar: bolsos\, ropa\, calzado y complementos\, bisutería\, decoración\, equipamiento del hogar\, artesanía\, cerámica\, flores y plantas\, etc. \nDurante la feria de Todos Los Santos se traslada a la Avenida Joan Fuster.
URL:https://disfruta-denia.com/evento/mercadillo-de-denia/2023-12-11/
LOCATION:Parque de Torrecremada\, Carrer Germans Maristes\, Denia\, Alicante\, 03700\, España
CATEGORIES:Mercado
ATTACH;FMTTYPE=image/jpeg:https://disfruta-denia.com/wp-content/uploads/2022/03/mercadillo-de-denia.jpg
END:VEVENT
BEGIN:VEVENT
DTSTART;TZID=Europe/Madrid:20231217T090000
DTEND;TZID=Europe/Madrid:20231217T140000
DTSTAMP:20260425T005414
CREATED:20230908T110450Z
LAST-MODIFIED:20230908T110450Z
UID:10013360-1702803600-1702821600@disfruta-denia.com
SUMMARY:Mercat del Riurau Jesus Pobre
DESCRIPTION:Mercat del Riurau Jesus Pobre
URL:https://disfruta-denia.com/evento/mercat-del-riurau-jesus-pobre-2/2023-12-17/
LOCATION:Mercado Riurau Jesus Pobre\, Jesus Pobre\, Alicante\, 03749\, España
CATEGORIES:Concierto,Gastronomía,Mercado
ATTACH;FMTTYPE=image/jpeg:https://disfruta-denia.com/wp-content/uploads/2023/09/374833926_676262521203782_8518398986853285692_n.jpg
END:VEVENT
BEGIN:VEVENT
DTSTART;TZID=Europe/Madrid:20231217T093000
DTEND;TZID=Europe/Madrid:20231217T140000
DTSTAMP:20260425T005414
CREATED:20231005T110529Z
LAST-MODIFIED:20231005T110529Z
UID:10014592-1702805400-1702821600@disfruta-denia.com
SUMMARY:Mercado del Auto-cine
DESCRIPTION:Empezamos la cuenta atrás > abrimos el 5 de noviembre!!
URL:https://disfruta-denia.com/evento/mercado-del-auto-cine/2023-12-17/
LOCATION:Autociné Denia\, Partida Deveses D\, 27\, Denia\, Alicante\, 03700\, España
CATEGORIES:Mercado
ATTACH;FMTTYPE=image/jpeg:https://disfruta-denia.com/wp-content/uploads/2023/10/385074086_823552942895951_3517898148682678510_n.jpg
END:VEVENT
BEGIN:VEVENT
DTSTART;TZID=Europe/Madrid:20231218T080000
DTEND;TZID=Europe/Madrid:20231218T133000
DTSTAMP:20260425T005414
CREATED:20220303T082647Z
LAST-MODIFIED:20221128T104722Z
UID:10003349-1702886400-1702906200@disfruta-denia.com
SUMMARY:Mercadillo de Denia
DESCRIPTION:En 2022 el mercadillo de Denia es los lunes de 8:00 a 13:30 en la calle Hermanos Maristas. \nEs uno de los mercadillos más grandes y visitados de la Costa Blanca\, con unos 400 puestos en los que se puede comprar: bolsos\, ropa\, calzado y complementos\, bisutería\, decoración\, equipamiento del hogar\, artesanía\, cerámica\, flores y plantas\, etc. \nDurante la feria de Todos Los Santos se traslada a la Avenida Joan Fuster.
URL:https://disfruta-denia.com/evento/mercadillo-de-denia/2023-12-18/
LOCATION:Parque de Torrecremada\, Carrer Germans Maristes\, Denia\, Alicante\, 03700\, España
CATEGORIES:Mercado
ATTACH;FMTTYPE=image/jpeg:https://disfruta-denia.com/wp-content/uploads/2022/03/mercadillo-de-denia.jpg
END:VEVENT
BEGIN:VEVENT
DTSTART;TZID=Europe/Madrid:20231224T090000
DTEND;TZID=Europe/Madrid:20231224T140000
DTSTAMP:20260425T005414
CREATED:20230908T110450Z
LAST-MODIFIED:20230908T110450Z
UID:10013361-1703408400-1703426400@disfruta-denia.com
SUMMARY:Mercat del Riurau Jesus Pobre
DESCRIPTION:Mercat del Riurau Jesus Pobre
URL:https://disfruta-denia.com/evento/mercat-del-riurau-jesus-pobre-2/2023-12-24/
LOCATION:Mercado Riurau Jesus Pobre\, Jesus Pobre\, Alicante\, 03749\, España
CATEGORIES:Concierto,Gastronomía,Mercado
ATTACH;FMTTYPE=image/jpeg:https://disfruta-denia.com/wp-content/uploads/2023/09/374833926_676262521203782_8518398986853285692_n.jpg
END:VEVENT
BEGIN:VEVENT
DTSTART;TZID=Europe/Madrid:20231224T093000
DTEND;TZID=Europe/Madrid:20231224T140000
DTSTAMP:20260425T005414
CREATED:20231005T110529Z
LAST-MODIFIED:20231005T110529Z
UID:10014593-1703410200-1703426400@disfruta-denia.com
SUMMARY:Mercado del Auto-cine
DESCRIPTION:Empezamos la cuenta atrás > abrimos el 5 de noviembre!!
URL:https://disfruta-denia.com/evento/mercado-del-auto-cine/2023-12-24/
LOCATION:Autociné Denia\, Partida Deveses D\, 27\, Denia\, Alicante\, 03700\, España
CATEGORIES:Mercado
ATTACH;FMTTYPE=image/jpeg:https://disfruta-denia.com/wp-content/uploads/2023/10/385074086_823552942895951_3517898148682678510_n.jpg
END:VEVENT
BEGIN:VEVENT
DTSTART;TZID=Europe/Madrid:20231225T080000
DTEND;TZID=Europe/Madrid:20231225T133000
DTSTAMP:20260425T005414
CREATED:20220303T082647Z
LAST-MODIFIED:20221128T104722Z
UID:10003350-1703491200-1703511000@disfruta-denia.com
SUMMARY:Mercadillo de Denia
DESCRIPTION:En 2022 el mercadillo de Denia es los lunes de 8:00 a 13:30 en la calle Hermanos Maristas. \nEs uno de los mercadillos más grandes y visitados de la Costa Blanca\, con unos 400 puestos en los que se puede comprar: bolsos\, ropa\, calzado y complementos\, bisutería\, decoración\, equipamiento del hogar\, artesanía\, cerámica\, flores y plantas\, etc. \nDurante la feria de Todos Los Santos se traslada a la Avenida Joan Fuster.
URL:https://disfruta-denia.com/evento/mercadillo-de-denia/2023-12-25/
LOCATION:Parque de Torrecremada\, Carrer Germans Maristes\, Denia\, Alicante\, 03700\, España
CATEGORIES:Mercado
ATTACH;FMTTYPE=image/jpeg:https://disfruta-denia.com/wp-content/uploads/2022/03/mercadillo-de-denia.jpg
END:VEVENT
BEGIN:VEVENT
DTSTART;TZID=Europe/Madrid:20231231T090000
DTEND;TZID=Europe/Madrid:20231231T140000
DTSTAMP:20260425T005414
CREATED:20230908T110450Z
LAST-MODIFIED:20230908T110450Z
UID:10013362-1704013200-1704031200@disfruta-denia.com
SUMMARY:Mercat del Riurau Jesus Pobre
DESCRIPTION:Mercat del Riurau Jesus Pobre
URL:https://disfruta-denia.com/evento/mercat-del-riurau-jesus-pobre-2/2023-12-31/
LOCATION:Mercado Riurau Jesus Pobre\, Jesus Pobre\, Alicante\, 03749\, España
CATEGORIES:Concierto,Gastronomía,Mercado
ATTACH;FMTTYPE=image/jpeg:https://disfruta-denia.com/wp-content/uploads/2023/09/374833926_676262521203782_8518398986853285692_n.jpg
END:VEVENT
BEGIN:VEVENT
DTSTART;TZID=Europe/Madrid:20231231T093000
DTEND;TZID=Europe/Madrid:20231231T140000
DTSTAMP:20260425T005414
CREATED:20231005T110529Z
LAST-MODIFIED:20231005T110529Z
UID:10014594-1704015000-1704031200@disfruta-denia.com
SUMMARY:Mercado del Auto-cine
DESCRIPTION:Empezamos la cuenta atrás > abrimos el 5 de noviembre!!
URL:https://disfruta-denia.com/evento/mercado-del-auto-cine/2023-12-31/
LOCATION:Autociné Denia\, Partida Deveses D\, 27\, Denia\, Alicante\, 03700\, España
CATEGORIES:Mercado
ATTACH;FMTTYPE=image/jpeg:https://disfruta-denia.com/wp-content/uploads/2023/10/385074086_823552942895951_3517898148682678510_n.jpg
END:VEVENT
END:VCALENDAR