BEGIN:VCALENDAR
VERSION:2.0
PRODID:-//Disfruta Denia - ECPv6.15.20//NONSGML v1.0//EN
CALSCALE:GREGORIAN
METHOD:PUBLISH
X-WR-CALNAME:Disfruta Denia
X-ORIGINAL-URL:https://disfruta-denia.com
X-WR-CALDESC:Eventos para Disfruta Denia
REFRESH-INTERVAL;VALUE=DURATION:PT1H
X-Robots-Tag:noindex
X-PUBLISHED-TTL:PT1H
BEGIN:VTIMEZONE
TZID:Europe/Madrid
BEGIN:DAYLIGHT
TZOFFSETFROM:+0100
TZOFFSETTO:+0200
TZNAME:CEST
DTSTART:20230326T010000
END:DAYLIGHT
BEGIN:STANDARD
TZOFFSETFROM:+0200
TZOFFSETTO:+0100
TZNAME:CET
DTSTART:20231029T010000
END:STANDARD
BEGIN:DAYLIGHT
TZOFFSETFROM:+0100
TZOFFSETTO:+0200
TZNAME:CEST
DTSTART:20240331T010000
END:DAYLIGHT
BEGIN:STANDARD
TZOFFSETFROM:+0200
TZOFFSETTO:+0100
TZNAME:CET
DTSTART:20241027T010000
END:STANDARD
BEGIN:DAYLIGHT
TZOFFSETFROM:+0100
TZOFFSETTO:+0200
TZNAME:CEST
DTSTART:20250330T010000
END:DAYLIGHT
BEGIN:STANDARD
TZOFFSETFROM:+0200
TZOFFSETTO:+0100
TZNAME:CET
DTSTART:20251026T010000
END:STANDARD
END:VTIMEZONE
BEGIN:VEVENT
DTSTART;TZID=Europe/Madrid:20240204T090000
DTEND;TZID=Europe/Madrid:20240204T140000
DTSTAMP:20260424T193409
CREATED:20230908T110450Z
LAST-MODIFIED:20230908T110450Z
UID:10013367-1707037200-1707055200@disfruta-denia.com
SUMMARY:Mercat del Riurau Jesus Pobre
DESCRIPTION:Mercat del Riurau Jesus Pobre
URL:https://disfruta-denia.com/evento/mercat-del-riurau-jesus-pobre-2/2024-02-04/
LOCATION:Mercado Riurau Jesus Pobre\, Jesus Pobre\, Alicante\, 03749\, España
CATEGORIES:Concierto,Gastronomía,Mercado
ATTACH;FMTTYPE=image/jpeg:https://disfruta-denia.com/wp-content/uploads/2023/09/374833926_676262521203782_8518398986853285692_n.jpg
END:VEVENT
BEGIN:VEVENT
DTSTART;TZID=Europe/Madrid:20240204T093000
DTEND;TZID=Europe/Madrid:20240204T140000
DTSTAMP:20260424T193409
CREATED:20231005T110529Z
LAST-MODIFIED:20231005T110529Z
UID:10014599-1707039000-1707055200@disfruta-denia.com
SUMMARY:Mercado del Auto-cine
DESCRIPTION:Empezamos la cuenta atrás > abrimos el 5 de noviembre!!
URL:https://disfruta-denia.com/evento/mercado-del-auto-cine/2024-02-04/
LOCATION:Autociné Denia\, Partida Deveses D\, 27\, Denia\, Alicante\, 03700\, España
CATEGORIES:Mercado
ATTACH;FMTTYPE=image/jpeg:https://disfruta-denia.com/wp-content/uploads/2023/10/385074086_823552942895951_3517898148682678510_n.jpg
END:VEVENT
BEGIN:VEVENT
DTSTART;TZID=Europe/Madrid:20240205T080000
DTEND;TZID=Europe/Madrid:20240205T133000
DTSTAMP:20260424T193409
CREATED:20220303T082647Z
LAST-MODIFIED:20221128T104722Z
UID:10003356-1707120000-1707139800@disfruta-denia.com
SUMMARY:Mercadillo de Denia
DESCRIPTION:En 2022 el mercadillo de Denia es los lunes de 8:00 a 13:30 en la calle Hermanos Maristas. \nEs uno de los mercadillos más grandes y visitados de la Costa Blanca\, con unos 400 puestos en los que se puede comprar: bolsos\, ropa\, calzado y complementos\, bisutería\, decoración\, equipamiento del hogar\, artesanía\, cerámica\, flores y plantas\, etc. \nDurante la feria de Todos Los Santos se traslada a la Avenida Joan Fuster.
URL:https://disfruta-denia.com/evento/mercadillo-de-denia/2024-02-05/
LOCATION:Parque de Torrecremada\, Carrer Germans Maristes\, Denia\, Alicante\, 03700\, España
CATEGORIES:Mercado
ATTACH;FMTTYPE=image/jpeg:https://disfruta-denia.com/wp-content/uploads/2022/03/mercadillo-de-denia.jpg
END:VEVENT
BEGIN:VEVENT
DTSTART;TZID=Europe/Madrid:20240211T090000
DTEND;TZID=Europe/Madrid:20240211T140000
DTSTAMP:20260424T193409
CREATED:20240209T202336Z
LAST-MODIFIED:20240209T202337Z
UID:10013368-1707642000-1707660000@disfruta-denia.com
SUMMARY:Mercat del Riurau Jesus Pobre
DESCRIPTION:Este domingo 11\, os esperamos en el Mercat del Riurau para una jornada muy especial. Tendremos la oportunidad de explorar los productos locales y la artesanía de nuestros maravillosos vendedores. \nAdemás\, el ambiente se llenará de creatividad con las tricotorras\, que estarán tejiendo alrededor de una farola. Será un espectáculo único que no querréis perderos. \nY para añadir un toque personal\, tendremos un micro abierto para los agricultores del mercado para compartir con nosotros sus experiencias del año.
URL:https://disfruta-denia.com/evento/mercat-del-riurau-jesus-pobre-2-13/
LOCATION:Mercado Riurau Jesus Pobre\, Jesus Pobre\, Alicante\, 03749\, España
CATEGORIES:Concierto,Gastronomía,Mercado
ATTACH;FMTTYPE=image/jpeg:https://disfruta-denia.com/wp-content/uploads/2023/09/425253518_766864155476951_2016943011342750513_n.jpg
END:VEVENT
BEGIN:VEVENT
DTSTART;TZID=Europe/Madrid:20240211T093000
DTEND;TZID=Europe/Madrid:20240211T140000
DTSTAMP:20260424T193409
CREATED:20231005T110529Z
LAST-MODIFIED:20231005T110529Z
UID:10014600-1707643800-1707660000@disfruta-denia.com
SUMMARY:Mercado del Auto-cine
DESCRIPTION:Empezamos la cuenta atrás > abrimos el 5 de noviembre!!
URL:https://disfruta-denia.com/evento/mercado-del-auto-cine/2024-02-11/
LOCATION:Autociné Denia\, Partida Deveses D\, 27\, Denia\, Alicante\, 03700\, España
CATEGORIES:Mercado
ATTACH;FMTTYPE=image/jpeg:https://disfruta-denia.com/wp-content/uploads/2023/10/385074086_823552942895951_3517898148682678510_n.jpg
END:VEVENT
BEGIN:VEVENT
DTSTART;TZID=Europe/Madrid:20240212T080000
DTEND;TZID=Europe/Madrid:20240212T133000
DTSTAMP:20260424T193409
CREATED:20220303T082647Z
LAST-MODIFIED:20221128T104722Z
UID:10003357-1707724800-1707744600@disfruta-denia.com
SUMMARY:Mercadillo de Denia
DESCRIPTION:En 2022 el mercadillo de Denia es los lunes de 8:00 a 13:30 en la calle Hermanos Maristas. \nEs uno de los mercadillos más grandes y visitados de la Costa Blanca\, con unos 400 puestos en los que se puede comprar: bolsos\, ropa\, calzado y complementos\, bisutería\, decoración\, equipamiento del hogar\, artesanía\, cerámica\, flores y plantas\, etc. \nDurante la feria de Todos Los Santos se traslada a la Avenida Joan Fuster.
URL:https://disfruta-denia.com/evento/mercadillo-de-denia/2024-02-12/
LOCATION:Parque de Torrecremada\, Carrer Germans Maristes\, Denia\, Alicante\, 03700\, España
CATEGORIES:Mercado
ATTACH;FMTTYPE=image/jpeg:https://disfruta-denia.com/wp-content/uploads/2022/03/mercadillo-de-denia.jpg
END:VEVENT
BEGIN:VEVENT
DTSTART;TZID=Europe/Madrid:20240218T090000
DTEND;TZID=Europe/Madrid:20240218T140000
DTSTAMP:20260424T193409
CREATED:20240216T092656Z
LAST-MODIFIED:20240216T092657Z
UID:10013369-1708246800-1708264800@disfruta-denia.com
SUMMARY:Mercat del Riurau Jesus Pobre
DESCRIPTION:Este domingo 18 de febrero\, os esperamos en el Mercat del Riurau para una jornada llena de emociones.\n\n\nComenzaremos con la presentación del libro «Un Secreto Alucinante: Aprende a Escuchar a tu Cuerpo junto a Lukas y Fordy»\, el cual podrás comprar en uno de nuestros puestos\n\n\nY a las 12:00\, prepárense para vibrar con la música en directo de Alecsia coverband\, quienes nos deleitarán con ritmos de Reggae\, soul y cumbia. ¡Será una fiesta para los sentidos que no querrán perderse!\n\n\n¡Nos vemos en el Mercat del Riurau este domingo de 9:00 a 12:0!
URL:https://disfruta-denia.com/evento/mercat-del-riurau-jesus-pobre-2-14/
LOCATION:Mercado Riurau Jesus Pobre\, Jesus Pobre\, Alicante\, 03749\, España
CATEGORIES:Concierto,Gastronomía,Mercado
ATTACH;FMTTYPE=image/jpeg:https://disfruta-denia.com/wp-content/uploads/2023/09/426526909_770651691764864_3979883156836022653_n-1.jpg
END:VEVENT
BEGIN:VEVENT
DTSTART;TZID=Europe/Madrid:20240218T093000
DTEND;TZID=Europe/Madrid:20240218T140000
DTSTAMP:20260424T193409
CREATED:20240214T171502Z
LAST-MODIFIED:20240214T171503Z
UID:10014601-1708248600-1708264800@disfruta-denia.com
SUMMARY:Mercado del Auto-cine
DESCRIPTION:Empezamos la cuenta atrás > abrimos el 5 de noviembre!!
URL:https://disfruta-denia.com/evento/mercado-del-auto-cine-3/
LOCATION:Autociné Denia\, Partida Deveses D\, 27\, Denia\, Alicante\, 03700\, España
CATEGORIES:Mercado
ATTACH;FMTTYPE=image/jpeg:https://disfruta-denia.com/wp-content/uploads/2023/10/417436521_10229355621052446_5705679988973586496_n.jpg
END:VEVENT
BEGIN:VEVENT
DTSTART;TZID=Europe/Madrid:20240219T080000
DTEND;TZID=Europe/Madrid:20240219T133000
DTSTAMP:20260424T193409
CREATED:20220303T082647Z
LAST-MODIFIED:20221128T104722Z
UID:10003358-1708329600-1708349400@disfruta-denia.com
SUMMARY:Mercadillo de Denia
DESCRIPTION:En 2022 el mercadillo de Denia es los lunes de 8:00 a 13:30 en la calle Hermanos Maristas. \nEs uno de los mercadillos más grandes y visitados de la Costa Blanca\, con unos 400 puestos en los que se puede comprar: bolsos\, ropa\, calzado y complementos\, bisutería\, decoración\, equipamiento del hogar\, artesanía\, cerámica\, flores y plantas\, etc. \nDurante la feria de Todos Los Santos se traslada a la Avenida Joan Fuster.
URL:https://disfruta-denia.com/evento/mercadillo-de-denia/2024-02-19/
LOCATION:Parque de Torrecremada\, Carrer Germans Maristes\, Denia\, Alicante\, 03700\, España
CATEGORIES:Mercado
ATTACH;FMTTYPE=image/jpeg:https://disfruta-denia.com/wp-content/uploads/2022/03/mercadillo-de-denia.jpg
END:VEVENT
BEGIN:VEVENT
DTSTART;TZID=Europe/Madrid:20240225T090000
DTEND;TZID=Europe/Madrid:20240225T140000
DTSTAMP:20260424T193409
CREATED:20230908T110450Z
LAST-MODIFIED:20230908T110450Z
UID:10013370-1708851600-1708869600@disfruta-denia.com
SUMMARY:Mercat del Riurau Jesus Pobre
DESCRIPTION:Mercat del Riurau Jesus Pobre
URL:https://disfruta-denia.com/evento/mercat-del-riurau-jesus-pobre-2/2024-02-25/
LOCATION:Mercado Riurau Jesus Pobre\, Jesus Pobre\, Alicante\, 03749\, España
CATEGORIES:Concierto,Gastronomía,Mercado
ATTACH;FMTTYPE=image/jpeg:https://disfruta-denia.com/wp-content/uploads/2023/09/374833926_676262521203782_8518398986853285692_n.jpg
END:VEVENT
BEGIN:VEVENT
DTSTART;TZID=Europe/Madrid:20240225T093000
DTEND;TZID=Europe/Madrid:20240225T140000
DTSTAMP:20260424T193409
CREATED:20231005T110529Z
LAST-MODIFIED:20231005T110529Z
UID:10014602-1708853400-1708869600@disfruta-denia.com
SUMMARY:Mercado del Auto-cine
DESCRIPTION:Empezamos la cuenta atrás > abrimos el 5 de noviembre!!
URL:https://disfruta-denia.com/evento/mercado-del-auto-cine/2024-02-25/
LOCATION:Autociné Denia\, Partida Deveses D\, 27\, Denia\, Alicante\, 03700\, España
CATEGORIES:Mercado
ATTACH;FMTTYPE=image/jpeg:https://disfruta-denia.com/wp-content/uploads/2023/10/385074086_823552942895951_3517898148682678510_n.jpg
END:VEVENT
BEGIN:VEVENT
DTSTART;TZID=Europe/Madrid:20240226T080000
DTEND;TZID=Europe/Madrid:20240226T133000
DTSTAMP:20260424T193409
CREATED:20220303T082647Z
LAST-MODIFIED:20221128T104722Z
UID:10003359-1708934400-1708954200@disfruta-denia.com
SUMMARY:Mercadillo de Denia
DESCRIPTION:En 2022 el mercadillo de Denia es los lunes de 8:00 a 13:30 en la calle Hermanos Maristas. \nEs uno de los mercadillos más grandes y visitados de la Costa Blanca\, con unos 400 puestos en los que se puede comprar: bolsos\, ropa\, calzado y complementos\, bisutería\, decoración\, equipamiento del hogar\, artesanía\, cerámica\, flores y plantas\, etc. \nDurante la feria de Todos Los Santos se traslada a la Avenida Joan Fuster.
URL:https://disfruta-denia.com/evento/mercadillo-de-denia/2024-02-26/
LOCATION:Parque de Torrecremada\, Carrer Germans Maristes\, Denia\, Alicante\, 03700\, España
CATEGORIES:Mercado
ATTACH;FMTTYPE=image/jpeg:https://disfruta-denia.com/wp-content/uploads/2022/03/mercadillo-de-denia.jpg
END:VEVENT
END:VCALENDAR