BEGIN:VCALENDAR
VERSION:2.0
PRODID:-//Disfruta Denia - ECPv6.15.20//NONSGML v1.0//EN
CALSCALE:GREGORIAN
METHOD:PUBLISH
X-WR-CALNAME:Disfruta Denia
X-ORIGINAL-URL:https://disfruta-denia.com
X-WR-CALDESC:Eventos para Disfruta Denia
REFRESH-INTERVAL;VALUE=DURATION:PT1H
X-Robots-Tag:noindex
X-PUBLISHED-TTL:PT1H
BEGIN:VTIMEZONE
TZID:Europe/Madrid
BEGIN:DAYLIGHT
TZOFFSETFROM:+0100
TZOFFSETTO:+0200
TZNAME:CEST
DTSTART:20230326T010000
END:DAYLIGHT
BEGIN:STANDARD
TZOFFSETFROM:+0200
TZOFFSETTO:+0100
TZNAME:CET
DTSTART:20231029T010000
END:STANDARD
BEGIN:DAYLIGHT
TZOFFSETFROM:+0100
TZOFFSETTO:+0200
TZNAME:CEST
DTSTART:20240331T010000
END:DAYLIGHT
BEGIN:STANDARD
TZOFFSETFROM:+0200
TZOFFSETTO:+0100
TZNAME:CET
DTSTART:20241027T010000
END:STANDARD
BEGIN:DAYLIGHT
TZOFFSETFROM:+0100
TZOFFSETTO:+0200
TZNAME:CEST
DTSTART:20250330T010000
END:DAYLIGHT
BEGIN:STANDARD
TZOFFSETFROM:+0200
TZOFFSETTO:+0100
TZNAME:CET
DTSTART:20251026T010000
END:STANDARD
END:VTIMEZONE
BEGIN:VEVENT
DTSTART;TZID=Europe/Madrid:20240303T090000
DTEND;TZID=Europe/Madrid:20240303T140000
DTSTAMP:20260424T175135
CREATED:20240229T131144Z
LAST-MODIFIED:20240229T131211Z
UID:10013371-1709456400-1709474400@disfruta-denia.com
SUMMARY:Mercat del Riurau Jesus Pobre
DESCRIPTION:Recordad que este domingo 3 de marzo no hay mercado! \nOs esperamos el próximo domingo 10 de marzo!
URL:https://disfruta-denia.com/evento/mercat-del-riurau-jesus-pobre-2-15/
LOCATION:Mercado Riurau Jesus Pobre\, Jesus Pobre\, Alicante\, 03749\, España
CATEGORIES:Concierto,Gastronomía,Mercado
ATTACH;FMTTYPE=image/jpeg:https://disfruta-denia.com/wp-content/uploads/2023/09/429812277_778412274322139_7922852068935850251_n.jpg
END:VEVENT
BEGIN:VEVENT
DTSTART;TZID=Europe/Madrid:20240303T093000
DTEND;TZID=Europe/Madrid:20240303T140000
DTSTAMP:20260424T175135
CREATED:20240229T212217Z
LAST-MODIFIED:20240229T212219Z
UID:10014603-1709458200-1709474400@disfruta-denia.com
SUMMARY:Mercado del Auto-cine
DESCRIPTION:LOLiPOP sempre és garantia de bon rotllo al mercat de l’Autocine!\n\n\nDiumenge 3 tornen estos germans pe a fer-nos disfrutar d’un bon matí de mercat\, música i esmorzars!\n\n\nProductes de la Terra\, Oli d’Oliva\, Mels i formatges artesans\, Mercat de Pintors i una gran secció d’Artesania i rastre fans del Mercadet de l’Autocine el nou punt de trobada entre La Marina Alta i La Safor per als amants dels Mercats i Rastres!\n\n\nTots els diumenges pel matí a l’Autocine Drive In de Dénia!
URL:https://disfruta-denia.com/evento/mercado-del-auto-cine-4/
LOCATION:Autociné Denia\, Partida Deveses D\, 27\, Denia\, Alicante\, 03700\, España
CATEGORIES:Mercado
ATTACH;FMTTYPE=image/jpeg:https://disfruta-denia.com/wp-content/uploads/2023/10/430246044_905944381323473_8124020851898307181_n.jpg
END:VEVENT
BEGIN:VEVENT
DTSTART;TZID=Europe/Madrid:20240304T080000
DTEND;TZID=Europe/Madrid:20240304T133000
DTSTAMP:20260424T175135
CREATED:20220303T082647Z
LAST-MODIFIED:20221128T104722Z
UID:10003360-1709539200-1709559000@disfruta-denia.com
SUMMARY:Mercadillo de Denia
DESCRIPTION:En 2022 el mercadillo de Denia es los lunes de 8:00 a 13:30 en la calle Hermanos Maristas. \nEs uno de los mercadillos más grandes y visitados de la Costa Blanca\, con unos 400 puestos en los que se puede comprar: bolsos\, ropa\, calzado y complementos\, bisutería\, decoración\, equipamiento del hogar\, artesanía\, cerámica\, flores y plantas\, etc. \nDurante la feria de Todos Los Santos se traslada a la Avenida Joan Fuster.
URL:https://disfruta-denia.com/evento/mercadillo-de-denia/2024-03-04/
LOCATION:Parque de Torrecremada\, Carrer Germans Maristes\, Denia\, Alicante\, 03700\, España
CATEGORIES:Mercado
ATTACH;FMTTYPE=image/jpeg:https://disfruta-denia.com/wp-content/uploads/2022/03/mercadillo-de-denia.jpg
END:VEVENT
BEGIN:VEVENT
DTSTART;TZID=Europe/Madrid:20240310T090000
DTEND;TZID=Europe/Madrid:20240310T140000
DTSTAMP:20260424T175135
CREATED:20240307T204634Z
LAST-MODIFIED:20240307T204635Z
UID:10013372-1710061200-1710079200@disfruta-denia.com
SUMMARY:Mercat del Riurau Jesus Pobre
DESCRIPTION:¡Hola a todos y todas! \nEstamos emocionados de invitaros este domingo 10 de marzo al Mercat del Riurau para una jornada llena de alegría y buena música. \nNos espera una actuación especial a las 12:00 con blaiovaStyle\, un dúo que nos deleitará con sus ritmos de reggae\, ska y rumba. ¡Prepárense para vibrar y disfrutar de una experiencia musical única! \nAdemás\, podrán explorar nuestra amplia variedad de productos locales y artesanía\, mientras disfrutan del ambiente acogedor de nuestro mercado. \n¡No se pierdan esta oportunidad de disfrutar de buena música y productos de calidad en el Mercat del Riurau este domingo de 9:00 a 14:00!
URL:https://disfruta-denia.com/evento/mercat-del-riurau-jesus-pobre-2-16/
LOCATION:Mercado Riurau Jesus Pobre\, Jesus Pobre\, Alicante\, 03749\, España
CATEGORIES:Concierto,Gastronomía,Mercado
ATTACH;FMTTYPE=image/jpeg:https://disfruta-denia.com/wp-content/uploads/2023/09/429853168_782434217253278_6749766538171076659_n.jpg
END:VEVENT
BEGIN:VEVENT
DTSTART;TZID=Europe/Madrid:20240310T093000
DTEND;TZID=Europe/Madrid:20240310T140000
DTSTAMP:20260424T175135
CREATED:20231005T110529Z
LAST-MODIFIED:20231005T110529Z
UID:10014604-1710063000-1710079200@disfruta-denia.com
SUMMARY:Mercado del Auto-cine
DESCRIPTION:Empezamos la cuenta atrás > abrimos el 5 de noviembre!!
URL:https://disfruta-denia.com/evento/mercado-del-auto-cine/2024-03-10/
LOCATION:Autociné Denia\, Partida Deveses D\, 27\, Denia\, Alicante\, 03700\, España
CATEGORIES:Mercado
ATTACH;FMTTYPE=image/jpeg:https://disfruta-denia.com/wp-content/uploads/2023/10/385074086_823552942895951_3517898148682678510_n.jpg
END:VEVENT
BEGIN:VEVENT
DTSTART;TZID=Europe/Madrid:20240317T090000
DTEND;TZID=Europe/Madrid:20240317T140000
DTSTAMP:20260424T175135
CREATED:20240315T143827Z
LAST-MODIFIED:20240315T143828Z
UID:10013373-1710666000-1710684000@disfruta-denia.com
SUMMARY:Mercat del Riurau Jesus Pobre
DESCRIPTION:Este domingo 17 de marzo es un día especial en el Mercat del Riurau!  \nEste domingo tendremos aún más puestos de artistas\, donde podrás descubrir una amplia variedad de obras únicas\, desde pintura hasta escultura\, fotografía y arte digital. \nY como siempre\, nuestros queridos vendedores habituales estarán presentes con sus productos locales\, artesanía y alimentos frescos. \n¡No te pierdas esta oportunidad de sumergirte en el mundo del arte y disfrutar de un día maravilloso en el Mercat del Riurau! \n ¿Dónde? En Jesús Pobre\n ¿Cuándo? El domingo 17 de marzo\, de 9:00 a 14:00 \n¡Te esperamos!
URL:https://disfruta-denia.com/evento/mercat-del-riurau-jesus-pobre-2-17/
LOCATION:Mercado Riurau Jesus Pobre\, Jesus Pobre\, Alicante\, 03749\, España
CATEGORIES:Concierto,Gastronomía,Mercado
ATTACH;FMTTYPE=image/jpeg:https://disfruta-denia.com/wp-content/uploads/2023/09/430128499_786589313504435_8905714536446963224_n-1.jpg
END:VEVENT
BEGIN:VEVENT
DTSTART;TZID=Europe/Madrid:20240317T093000
DTEND;TZID=Europe/Madrid:20240317T140000
DTSTAMP:20260424T175135
CREATED:20240313T144850Z
LAST-MODIFIED:20240313T144851Z
UID:10014605-1710667800-1710684000@disfruta-denia.com
SUMMARY:Mercado del Auto-cine
DESCRIPTION:Empezamos la cuenta atrás > abrimos el 5 de noviembre!!
URL:https://disfruta-denia.com/evento/mercado-del-auto-cine-5/
LOCATION:Autociné Denia\, Partida Deveses D\, 27\, Denia\, Alicante\, 03700\, España
CATEGORIES:Mercado
ATTACH;FMTTYPE=image/jpeg:https://disfruta-denia.com/wp-content/uploads/2023/10/432373194_913614540556457_2879870704004407983_n.jpg
END:VEVENT
BEGIN:VEVENT
DTSTART;TZID=Europe/Madrid:20240324T090000
DTEND;TZID=Europe/Madrid:20240324T140000
DTSTAMP:20260424T175135
CREATED:20230908T110450Z
LAST-MODIFIED:20230908T110450Z
UID:10013374-1711270800-1711288800@disfruta-denia.com
SUMMARY:Mercat del Riurau Jesus Pobre
DESCRIPTION:Mercat del Riurau Jesus Pobre
URL:https://disfruta-denia.com/evento/mercat-del-riurau-jesus-pobre-2/2024-03-24/
LOCATION:Mercado Riurau Jesus Pobre\, Jesus Pobre\, Alicante\, 03749\, España
CATEGORIES:Concierto,Gastronomía,Mercado
ATTACH;FMTTYPE=image/jpeg:https://disfruta-denia.com/wp-content/uploads/2023/09/374833926_676262521203782_8518398986853285692_n.jpg
END:VEVENT
BEGIN:VEVENT
DTSTART;TZID=Europe/Madrid:20240324T093000
DTEND;TZID=Europe/Madrid:20240324T140000
DTSTAMP:20260424T175135
CREATED:20231005T110529Z
LAST-MODIFIED:20231005T110529Z
UID:10014606-1711272600-1711288800@disfruta-denia.com
SUMMARY:Mercado del Auto-cine
DESCRIPTION:Empezamos la cuenta atrás > abrimos el 5 de noviembre!!
URL:https://disfruta-denia.com/evento/mercado-del-auto-cine/2024-03-24/
LOCATION:Autociné Denia\, Partida Deveses D\, 27\, Denia\, Alicante\, 03700\, España
CATEGORIES:Mercado
ATTACH;FMTTYPE=image/jpeg:https://disfruta-denia.com/wp-content/uploads/2023/10/385074086_823552942895951_3517898148682678510_n.jpg
END:VEVENT
BEGIN:VEVENT
DTSTART;TZID=Europe/Madrid:20240331T090000
DTEND;TZID=Europe/Madrid:20240331T140000
DTSTAMP:20260424T175135
CREATED:20240330T084855Z
LAST-MODIFIED:20240330T084856Z
UID:10013375-1711875600-1711893600@disfruta-denia.com
SUMMARY:Mercat del Riurau Jesus Pobre
DESCRIPTION:Mercat del Riurau Jesus Pobre
URL:https://disfruta-denia.com/evento/mercat-del-riurau-jesus-pobre-2-18/
LOCATION:Mercado Riurau Jesus Pobre\, Jesus Pobre\, Alicante\, 03749\, España
CATEGORIES:Concierto,Gastronomía,Mercado
ATTACH;FMTTYPE=image/jpeg:https://disfruta-denia.com/wp-content/uploads/2023/09/IMG_6733.jpeg
END:VEVENT
BEGIN:VEVENT
DTSTART;TZID=Europe/Madrid:20240331T093000
DTEND;TZID=Europe/Madrid:20240331T140000
DTSTAMP:20260424T175135
CREATED:20231005T110529Z
LAST-MODIFIED:20231005T110529Z
UID:10014607-1711877400-1711893600@disfruta-denia.com
SUMMARY:Mercado del Auto-cine
DESCRIPTION:Empezamos la cuenta atrás > abrimos el 5 de noviembre!!
URL:https://disfruta-denia.com/evento/mercado-del-auto-cine/2024-03-31/
LOCATION:Autociné Denia\, Partida Deveses D\, 27\, Denia\, Alicante\, 03700\, España
CATEGORIES:Mercado
ATTACH;FMTTYPE=image/jpeg:https://disfruta-denia.com/wp-content/uploads/2023/10/385074086_823552942895951_3517898148682678510_n.jpg
END:VEVENT
BEGIN:VEVENT
DTSTART;TZID=Europe/Madrid:20240331T120000
DTEND;TZID=Europe/Madrid:20240331T150000
DTSTAMP:20260424T175135
CREATED:20240326T104302Z
LAST-MODIFIED:20240326T104302Z
UID:10017846-1711886400-1711897200@disfruta-denia.com
SUMMARY:Rebeldía Market
DESCRIPTION:¡Este domingo te esperamos en la terraza con un montón de gafas ! ¡Al 50%! 
URL:https://disfruta-denia.com/evento/rebeldia-market/
LOCATION:Rebeldia Blues\, Carr. de Dénia A Xábia\, 3G\, Denia\, Alicante\, 03700\, España
CATEGORIES:Mercado
ATTACH;FMTTYPE=image/jpeg:https://disfruta-denia.com/wp-content/uploads/2024/03/434167165_17914679225911738_7452870495460473257_n.jpg
END:VEVENT
END:VCALENDAR