BEGIN:VCALENDAR
VERSION:2.0
PRODID:-//Disfruta Denia - ECPv6.15.20//NONSGML v1.0//EN
CALSCALE:GREGORIAN
METHOD:PUBLISH
X-ORIGINAL-URL:https://disfruta-denia.com
X-WR-CALDESC:Eventos para Disfruta Denia
REFRESH-INTERVAL;VALUE=DURATION:PT1H
X-Robots-Tag:noindex
X-PUBLISHED-TTL:PT1H
BEGIN:VTIMEZONE
TZID:Europe/Madrid
BEGIN:DAYLIGHT
TZOFFSETFROM:+0100
TZOFFSETTO:+0200
TZNAME:CEST
DTSTART:20230326T010000
END:DAYLIGHT
BEGIN:STANDARD
TZOFFSETFROM:+0200
TZOFFSETTO:+0100
TZNAME:CET
DTSTART:20231029T010000
END:STANDARD
BEGIN:DAYLIGHT
TZOFFSETFROM:+0100
TZOFFSETTO:+0200
TZNAME:CEST
DTSTART:20240331T010000
END:DAYLIGHT
BEGIN:STANDARD
TZOFFSETFROM:+0200
TZOFFSETTO:+0100
TZNAME:CET
DTSTART:20241027T010000
END:STANDARD
BEGIN:DAYLIGHT
TZOFFSETFROM:+0100
TZOFFSETTO:+0200
TZNAME:CEST
DTSTART:20250330T010000
END:DAYLIGHT
BEGIN:STANDARD
TZOFFSETFROM:+0200
TZOFFSETTO:+0100
TZNAME:CET
DTSTART:20251026T010000
END:STANDARD
END:VTIMEZONE
BEGIN:VEVENT
DTSTART;TZID=Europe/Madrid:20240407T090000
DTEND;TZID=Europe/Madrid:20240407T140000
DTSTAMP:20260424T154729
CREATED:20230908T110450Z
LAST-MODIFIED:20230908T110450Z
UID:10013376-1712480400-1712498400@disfruta-denia.com
SUMMARY:Mercat del Riurau Jesus Pobre
DESCRIPTION:Mercat del Riurau Jesus Pobre
URL:https://disfruta-denia.com/evento/mercat-del-riurau-jesus-pobre-2/2024-04-07/
LOCATION:Mercado Riurau Jesus Pobre\, Jesus Pobre\, Alicante\, 03749\, España
CATEGORIES:Concierto,Gastronomía,Mercado
ATTACH;FMTTYPE=image/jpeg:https://disfruta-denia.com/wp-content/uploads/2023/09/374833926_676262521203782_8518398986853285692_n.jpg
END:VEVENT
BEGIN:VEVENT
DTSTART;TZID=Europe/Madrid:20240407T093000
DTEND;TZID=Europe/Madrid:20240407T140000
DTSTAMP:20260424T154729
CREATED:20231005T110529Z
LAST-MODIFIED:20231005T110529Z
UID:10014608-1712482200-1712498400@disfruta-denia.com
SUMMARY:Mercado del Auto-cine
DESCRIPTION:Empezamos la cuenta atrás > abrimos el 5 de noviembre!!
URL:https://disfruta-denia.com/evento/mercado-del-auto-cine/2024-04-07/
LOCATION:Autociné Denia\, Partida Deveses D\, 27\, Denia\, Alicante\, 03700\, España
CATEGORIES:Mercado
ATTACH;FMTTYPE=image/jpeg:https://disfruta-denia.com/wp-content/uploads/2023/10/385074086_823552942895951_3517898148682678510_n.jpg
END:VEVENT
BEGIN:VEVENT
DTSTART;TZID=Europe/Madrid:20240414T090000
DTEND;TZID=Europe/Madrid:20240414T140000
DTSTAMP:20260424T154729
CREATED:20230908T110450Z
LAST-MODIFIED:20230908T110450Z
UID:10013377-1713085200-1713103200@disfruta-denia.com
SUMMARY:Mercat del Riurau Jesus Pobre
DESCRIPTION:Mercat del Riurau Jesus Pobre
URL:https://disfruta-denia.com/evento/mercat-del-riurau-jesus-pobre-2/2024-04-14/
LOCATION:Mercado Riurau Jesus Pobre\, Jesus Pobre\, Alicante\, 03749\, España
CATEGORIES:Concierto,Gastronomía,Mercado
ATTACH;FMTTYPE=image/jpeg:https://disfruta-denia.com/wp-content/uploads/2023/09/374833926_676262521203782_8518398986853285692_n.jpg
END:VEVENT
BEGIN:VEVENT
DTSTART;TZID=Europe/Madrid:20240414T093000
DTEND;TZID=Europe/Madrid:20240414T140000
DTSTAMP:20260424T154729
CREATED:20231005T110529Z
LAST-MODIFIED:20231005T110529Z
UID:10014609-1713087000-1713103200@disfruta-denia.com
SUMMARY:Mercado del Auto-cine
DESCRIPTION:Empezamos la cuenta atrás > abrimos el 5 de noviembre!!
URL:https://disfruta-denia.com/evento/mercado-del-auto-cine/2024-04-14/
LOCATION:Autociné Denia\, Partida Deveses D\, 27\, Denia\, Alicante\, 03700\, España
CATEGORIES:Mercado
ATTACH;FMTTYPE=image/jpeg:https://disfruta-denia.com/wp-content/uploads/2023/10/385074086_823552942895951_3517898148682678510_n.jpg
END:VEVENT
BEGIN:VEVENT
DTSTART;TZID=Europe/Madrid:20240421T090000
DTEND;TZID=Europe/Madrid:20240421T140000
DTSTAMP:20260424T154729
CREATED:20240419T085243Z
LAST-MODIFIED:20240419T085244Z
UID:10013378-1713690000-1713708000@disfruta-denia.com
SUMMARY:Mercat del Riurau Jesus Pobre
DESCRIPTION:¡Este domingo 21 de abril por la mañana\, el Mercat del Riurau tiene el placer de presentar a Ona Nua\, un increíble músico que te cautivará con su talento! \n\n\nDisfruta de una mañana llena de melodías cautivadoras mientras exploras los productos locales\, la artesanía y los alimentos frescos que nuestros vendedores tienen para ofrecerte.\n\n\n¡No te pierdas esta oportunidad de empezar el domingo con buena música y buen ambiente en el Mercat del Riurau!\n\n\n ¿Dónde? En Jesús Pobre\n\n\n ¿Cuándo? El domingo 21 de abril\, de 9:00 a 14:00\n\n\n¡Ven y únete a nosotros para vivir una experiencia única este domingo por la mañana en el Mercat del Riurau!
URL:https://disfruta-denia.com/evento/mercat-del-riurau-jesus-pobre-2-19/
LOCATION:Mercado Riurau Jesus Pobre\, Jesus Pobre\, Alicante\, 03749\, España
CATEGORIES:Concierto,Gastronomía,Mercado
ATTACH;FMTTYPE=image/jpeg:https://disfruta-denia.com/wp-content/uploads/2023/09/437056597_807485451414821_6451698672265638223_n.jpg
END:VEVENT
BEGIN:VEVENT
DTSTART;TZID=Europe/Madrid:20240421T093000
DTEND;TZID=Europe/Madrid:20240421T140000
DTSTAMP:20260424T154729
CREATED:20231005T110529Z
LAST-MODIFIED:20231005T110529Z
UID:10014610-1713691800-1713708000@disfruta-denia.com
SUMMARY:Mercado del Auto-cine
DESCRIPTION:Empezamos la cuenta atrás > abrimos el 5 de noviembre!!
URL:https://disfruta-denia.com/evento/mercado-del-auto-cine/2024-04-21/
LOCATION:Autociné Denia\, Partida Deveses D\, 27\, Denia\, Alicante\, 03700\, España
CATEGORIES:Mercado
ATTACH;FMTTYPE=image/jpeg:https://disfruta-denia.com/wp-content/uploads/2023/10/385074086_823552942895951_3517898148682678510_n.jpg
END:VEVENT
BEGIN:VEVENT
DTSTART;TZID=Europe/Madrid:20240428T090000
DTEND;TZID=Europe/Madrid:20240428T140000
DTSTAMP:20260424T154729
CREATED:20240426T065711Z
LAST-MODIFIED:20240426T065712Z
UID:10013379-1714294800-1714312800@disfruta-denia.com
SUMMARY:Mercat del Riurau Jesus Pobre
DESCRIPTION:¡Este domingo 28 de abril\, el Mercat del Riurau tiene el placer de presentar al grupo Old Dogs New Tricks\, que te deleitará con un repertorio de pop\, rock y blues a partir de las 12:00!  Además\, el coro Cantemus se unirá para ofrecernos una experiencia musical única.Disfruta de una mañana llena de buena música y vibraciones positivas mientras exploras los productos locales\, la artesanía y los deliciosos alimentos frescos que nuestros vendedores tienen para ofrecerte. ¿Dónde? En Jesús Pobre ¿Cuándo? El domingo 28 de abril\, a partir de las 12:00¡Te esperamos para disfrutar de un domingo lleno de música y buen ambiente en el Mercat del Riurau!
URL:https://disfruta-denia.com/evento/mercat-del-riurau-jesus-pobre-2-20/
LOCATION:Mercado Riurau Jesus Pobre\, Jesus Pobre\, Alicante\, 03749\, España
CATEGORIES:Concierto,Gastronomía,Mercado
ATTACH;FMTTYPE=image/jpeg:https://disfruta-denia.com/wp-content/uploads/2023/09/439839497_811425547687478_7994156165034255869_n.jpg
END:VEVENT
BEGIN:VEVENT
DTSTART;TZID=Europe/Madrid:20240428T093000
DTEND;TZID=Europe/Madrid:20240428T140000
DTSTAMP:20260424T154729
CREATED:20240426T113145Z
LAST-MODIFIED:20240426T113146Z
UID:10014611-1714296600-1714312800@disfruta-denia.com
SUMMARY:Mercado del Auto-cine
DESCRIPTION:Domingo 28 en el Mercat de l’Autocine gran concentración de coches!!Habrán coches clásicos\, súper-coches y coches preparados!Pruebas de Audio y Sonido y por supuesto\, zona de juegos para los más peques!!
URL:https://disfruta-denia.com/evento/mercado-del-auto-cine-6/
LOCATION:Autociné Denia\, Partida Deveses D\, 27\, Denia\, Alicante\, 03700\, España
CATEGORIES:Mercado
ATTACH;FMTTYPE=image/jpeg:https://disfruta-denia.com/wp-content/uploads/2023/10/438755190_17978335343682541_2843183477482040920_n.jpg
END:VEVENT
END:VCALENDAR