BEGIN:VCALENDAR
VERSION:2.0
PRODID:-//Disfruta Denia - ECPv6.15.20//NONSGML v1.0//EN
CALSCALE:GREGORIAN
METHOD:PUBLISH
X-WR-CALNAME:Disfruta Denia
X-ORIGINAL-URL:https://disfruta-denia.com
X-WR-CALDESC:Eventos para Disfruta Denia
REFRESH-INTERVAL;VALUE=DURATION:PT1H
X-Robots-Tag:noindex
X-PUBLISHED-TTL:PT1H
BEGIN:VTIMEZONE
TZID:Europe/Madrid
BEGIN:DAYLIGHT
TZOFFSETFROM:+0100
TZOFFSETTO:+0200
TZNAME:CEST
DTSTART:20230326T010000
END:DAYLIGHT
BEGIN:STANDARD
TZOFFSETFROM:+0200
TZOFFSETTO:+0100
TZNAME:CET
DTSTART:20231029T010000
END:STANDARD
BEGIN:DAYLIGHT
TZOFFSETFROM:+0100
TZOFFSETTO:+0200
TZNAME:CEST
DTSTART:20240331T010000
END:DAYLIGHT
BEGIN:STANDARD
TZOFFSETFROM:+0200
TZOFFSETTO:+0100
TZNAME:CET
DTSTART:20241027T010000
END:STANDARD
BEGIN:DAYLIGHT
TZOFFSETFROM:+0100
TZOFFSETTO:+0200
TZNAME:CEST
DTSTART:20250330T010000
END:DAYLIGHT
BEGIN:STANDARD
TZOFFSETFROM:+0200
TZOFFSETTO:+0100
TZNAME:CET
DTSTART:20251026T010000
END:STANDARD
END:VTIMEZONE
BEGIN:VEVENT
DTSTART;TZID=Europe/Madrid:20240505T090000
DTEND;TZID=Europe/Madrid:20240505T140000
DTSTAMP:20260424T135327
CREATED:20240505T063441Z
LAST-MODIFIED:20240505T063443Z
UID:10013380-1714899600-1714917600@disfruta-denia.com
SUMMARY:Mercat del Riurau Jesus Pobre
DESCRIPTION:Mercat del Riurau Jesus Pobre
URL:https://disfruta-denia.com/evento/mercat-del-riurau-jesus-pobre-2-21/
LOCATION:Mercado Riurau Jesus Pobre\, Jesus Pobre\, Alicante\, 03749\, España
CATEGORIES:Concierto,Gastronomía,Mercado
ATTACH;FMTTYPE=image/jpeg:https://disfruta-denia.com/wp-content/uploads/2023/09/374833926_676262521203782_8518398986853285692_n.jpg
END:VEVENT
BEGIN:VEVENT
DTSTART;TZID=Europe/Madrid:20240505T093000
DTEND;TZID=Europe/Madrid:20240505T140000
DTSTAMP:20260424T135327
CREATED:20231005T110529Z
LAST-MODIFIED:20231005T110529Z
UID:10014612-1714901400-1714917600@disfruta-denia.com
SUMMARY:Mercado del Auto-cine
DESCRIPTION:Empezamos la cuenta atrás > abrimos el 5 de noviembre!!
URL:https://disfruta-denia.com/evento/mercado-del-auto-cine/2024-05-05/
LOCATION:Autociné Denia\, Partida Deveses D\, 27\, Denia\, Alicante\, 03700\, España
CATEGORIES:Mercado
ATTACH;FMTTYPE=image/jpeg:https://disfruta-denia.com/wp-content/uploads/2023/10/385074086_823552942895951_3517898148682678510_n.jpg
END:VEVENT
BEGIN:VEVENT
DTSTART;TZID=Europe/Madrid:20240512T090000
DTEND;TZID=Europe/Madrid:20240512T140000
DTSTAMP:20260424T135327
CREATED:20240509T182642Z
LAST-MODIFIED:20240509T182643Z
UID:10013381-1715504400-1715522400@disfruta-denia.com
SUMMARY:Mercat del Riurau Jesus Pobre
DESCRIPTION: ¡Este domingo 12 de Mayo\, volvemos con más energía que nunca después de una semana de descanso! ¡Ven y únete a nosotros en el Mercat del Riurau para disfrutar de un día lleno de productos locales\, artesanía y delicias frescas que nuestros vendedores tienen para ofrecerte! ¿Dónde? En Jesús Pobre ¿Cuándo? El domingo 12 de Mayo de 9:00 a 14:00¡Nos vemos este domingo en el Mercat del Riurau!
URL:https://disfruta-denia.com/evento/mercat-del-riurau-jesus-pobre-2-22/
LOCATION:Mercado Riurau Jesus Pobre\, Jesus Pobre\, Alicante\, 03749\, España
CATEGORIES:Concierto,Gastronomía,Mercado
ATTACH;FMTTYPE=image/jpeg:https://disfruta-denia.com/wp-content/uploads/2023/09/442416261_820181023478597_201798859942990203_n.jpg
END:VEVENT
BEGIN:VEVENT
DTSTART;TZID=Europe/Madrid:20240512T093000
DTEND;TZID=Europe/Madrid:20240512T140000
DTSTAMP:20260424T135327
CREATED:20231005T110529Z
LAST-MODIFIED:20231005T110529Z
UID:10014613-1715506200-1715522400@disfruta-denia.com
SUMMARY:Mercado del Auto-cine
DESCRIPTION:Empezamos la cuenta atrás > abrimos el 5 de noviembre!!
URL:https://disfruta-denia.com/evento/mercado-del-auto-cine/2024-05-12/
LOCATION:Autociné Denia\, Partida Deveses D\, 27\, Denia\, Alicante\, 03700\, España
CATEGORIES:Mercado
ATTACH;FMTTYPE=image/jpeg:https://disfruta-denia.com/wp-content/uploads/2023/10/385074086_823552942895951_3517898148682678510_n.jpg
END:VEVENT
BEGIN:VEVENT
DTSTART;TZID=Europe/Madrid:20240519T090000
DTEND;TZID=Europe/Madrid:20240519T140000
DTSTAMP:20260424T135327
CREATED:20240517T193641Z
LAST-MODIFIED:20240517T193642Z
UID:10013382-1716109200-1716127200@disfruta-denia.com
SUMMARY:Mercat del Riurau Jesus Pobre
DESCRIPTION:Este domingo 19 de Mayo\, celebra las fiestas del pueblo en el Mercat del Riurau con música tradicional valenciana a cargo de Terrafort y El Mestre Pera! A partir de las 12:00\, disfruta de un ambiente festivo con melodías que nos transportan a nuestras raíces. Estos talentosos músicos han deleitado nuestros oídos previamente en el evento de El Batre\, ¡y ahora están de vuelta para brindarnos otra experiencia inolvidable!¡Únete a nosotros en el Mercat del Riurau para celebrar este domingo especial con música\, comida y buena compañía! ¿Dónde? En Jesús Pobre ¿Cuándo? El domingo 19 de Mayo¡Te esperamos para disfrutar juntos de estas fiestas del pueblo en el Mercat del Riurau!
URL:https://disfruta-denia.com/evento/mercat-del-riurau-jesus-pobre-2-23/
LOCATION:Mercado Riurau Jesus Pobre\, Jesus Pobre\, Alicante\, 03749\, España
CATEGORIES:Concierto,Gastronomía,Mercado
ATTACH;FMTTYPE=image/jpeg:https://disfruta-denia.com/wp-content/uploads/2023/09/374833926_676262521203782_8518398986853285692_n.jpg
END:VEVENT
BEGIN:VEVENT
DTSTART;TZID=Europe/Madrid:20240519T093000
DTEND;TZID=Europe/Madrid:20240519T140000
DTSTAMP:20260424T135327
CREATED:20231005T110529Z
LAST-MODIFIED:20231005T110529Z
UID:10014614-1716111000-1716127200@disfruta-denia.com
SUMMARY:Mercado del Auto-cine
DESCRIPTION:Empezamos la cuenta atrás > abrimos el 5 de noviembre!!
URL:https://disfruta-denia.com/evento/mercado-del-auto-cine/2024-05-19/
LOCATION:Autociné Denia\, Partida Deveses D\, 27\, Denia\, Alicante\, 03700\, España
CATEGORIES:Mercado
ATTACH;FMTTYPE=image/jpeg:https://disfruta-denia.com/wp-content/uploads/2023/10/385074086_823552942895951_3517898148682678510_n.jpg
END:VEVENT
BEGIN:VEVENT
DTSTART;TZID=Europe/Madrid:20240526T090000
DTEND;TZID=Europe/Madrid:20240526T140000
DTSTAMP:20260424T135327
CREATED:20240524T200648Z
LAST-MODIFIED:20240524T200650Z
UID:10013383-1716714000-1716732000@disfruta-denia.com
SUMMARY:Mercat del Riurau Jesus Pobre
DESCRIPTION:Este domingo 27 de mayo\, celebra el último día de fiestas en el Mercat del Riurau! Para cerrar con broche de oro\, tendremos la actuación de Tadeo\, un talentoso guitarrista que nos deleitará con sus versiones y temas propios a partir de las 12:00.Disfruta de un día lleno de música\, productos locales\, artesanía y delicias frescas mientras celebramos juntos el final de las fiestas del pueblo.
URL:https://disfruta-denia.com/evento/mercat-del-riurau-jesus-pobre-2-24/
LOCATION:Mercado Riurau Jesus Pobre\, Jesus Pobre\, Alicante\, 03749\, España
CATEGORIES:Concierto,Gastronomía,Mercado
ATTACH;FMTTYPE=image/jpeg:https://disfruta-denia.com/wp-content/uploads/2023/09/436311430_829828675847165_8578003136941129281_n.jpg
END:VEVENT
BEGIN:VEVENT
DTSTART;TZID=Europe/Madrid:20240526T093000
DTEND;TZID=Europe/Madrid:20240526T140000
DTSTAMP:20260424T135327
CREATED:20231005T110529Z
LAST-MODIFIED:20231005T110529Z
UID:10014615-1716715800-1716732000@disfruta-denia.com
SUMMARY:Mercado del Auto-cine
DESCRIPTION:Empezamos la cuenta atrás > abrimos el 5 de noviembre!!
URL:https://disfruta-denia.com/evento/mercado-del-auto-cine/2024-05-26/
LOCATION:Autociné Denia\, Partida Deveses D\, 27\, Denia\, Alicante\, 03700\, España
CATEGORIES:Mercado
ATTACH;FMTTYPE=image/jpeg:https://disfruta-denia.com/wp-content/uploads/2023/10/385074086_823552942895951_3517898148682678510_n.jpg
END:VEVENT
END:VCALENDAR