BEGIN:VCALENDAR
VERSION:2.0
PRODID:-//Disfruta Denia - ECPv6.15.20//NONSGML v1.0//EN
CALSCALE:GREGORIAN
METHOD:PUBLISH
X-WR-CALNAME:Disfruta Denia
X-ORIGINAL-URL:https://disfruta-denia.com
X-WR-CALDESC:Eventos para Disfruta Denia
REFRESH-INTERVAL;VALUE=DURATION:PT1H
X-Robots-Tag:noindex
X-PUBLISHED-TTL:PT1H
BEGIN:VTIMEZONE
TZID:Europe/Madrid
BEGIN:DAYLIGHT
TZOFFSETFROM:+0100
TZOFFSETTO:+0200
TZNAME:CEST
DTSTART:20230326T010000
END:DAYLIGHT
BEGIN:STANDARD
TZOFFSETFROM:+0200
TZOFFSETTO:+0100
TZNAME:CET
DTSTART:20231029T010000
END:STANDARD
BEGIN:DAYLIGHT
TZOFFSETFROM:+0100
TZOFFSETTO:+0200
TZNAME:CEST
DTSTART:20240331T010000
END:DAYLIGHT
BEGIN:STANDARD
TZOFFSETFROM:+0200
TZOFFSETTO:+0100
TZNAME:CET
DTSTART:20241027T010000
END:STANDARD
BEGIN:DAYLIGHT
TZOFFSETFROM:+0100
TZOFFSETTO:+0200
TZNAME:CEST
DTSTART:20250330T010000
END:DAYLIGHT
BEGIN:STANDARD
TZOFFSETFROM:+0200
TZOFFSETTO:+0100
TZNAME:CET
DTSTART:20251026T010000
END:STANDARD
END:VTIMEZONE
BEGIN:VEVENT
DTSTART;TZID=Europe/Madrid:20241201T090000
DTEND;TZID=Europe/Madrid:20241201T140000
DTSTAMP:20260424T011303
CREATED:20241110T081933Z
LAST-MODIFIED:20241110T081934Z
UID:10019351-1733043600-1733061600@disfruta-denia.com
SUMMARY:Mercat del Riurau Jesus Pobre
DESCRIPTION:Este Domingo: Concierto en el Mercat del Riurau  Fecha: Domingo\, 10 de noviembre Mercat: 9:00h a 14:00h Concierto de Moatr3s: 12:00h Lugar: Mercat del Riurau\, Jesús PobreEste domingo\, disfruta de una mañana especial en el Mercat del Riurau\, donde encontrarás productos locales\, sabores únicos y un ambiente increíble. Y a las 12:00h\, no te pierdas el concierto de Moatr3s para añadir aún más emoción a la jornada.¡Nos vemos para compartir buena música y vivir un domingo inolvidable en el Mercat del Riurau!
URL:https://disfruta-denia.com/evento/mercat-del-riurau-jesus-pobre-2-25-3-2-2-8-2-4/2024-12-01/
LOCATION:Mercado Riurau Jesus Pobre\, Jesus Pobre\, Alicante\, 03749\, España
CATEGORIES:Concierto,Gastronomía,Mercado
ATTACH;FMTTYPE=image/jpeg:https://disfruta-denia.com/wp-content/uploads/2024/09/465972936_942357884594243_5331458508094725501_n.jpg
END:VEVENT
BEGIN:VEVENT
DTSTART;TZID=Europe/Madrid:20241205T110000
DTEND;TZID=Europe/Madrid:20241208T210000
DTSTAMP:20260424T011303
CREATED:20241127T131249Z
LAST-MODIFIED:20241127T131249Z
UID:10020319-1733396400-1733691600@disfruta-denia.com
SUMMARY:Mercado de Navidad de Dénia edición 2024
DESCRIPTION: ¡Llega el espíritu navideño al comercio local! El próximo puente (del 5 al 8 de diciembre) tendremos el Mercado de Navidad en Dénia\, este año con nueva ubicación: en la calle La Via.Artesanía local\, regalos únicos y sabores navideños\, todo en un ambiente mágico y de proximidad.Guarda la fecha\, que esto ya está ahí  HO HO HO
URL:https://disfruta-denia.com/evento/mercado-de-navidad-de-denia-edicion-2024/
LOCATION:Alicante
CATEGORIES:Mercado,Shopping
ATTACH;FMTTYPE=image/jpeg:https://disfruta-denia.com/wp-content/uploads/2024/11/467328275_436696012809025_7780956063525583603_n.jpg
END:VEVENT
BEGIN:VEVENT
DTSTART;TZID=Europe/Madrid:20241207T173000
DTEND;TZID=Europe/Madrid:20241207T213000
DTSTAMP:20260424T011303
CREATED:20241127T130647Z
LAST-MODIFIED:20241127T130839Z
UID:10020318-1733592600-1733607000@disfruta-denia.com
SUMMARY:Nit de la llum 2024
DESCRIPTION:Diciembre ya está a la vuelta de la esquina\, y con él\, llegan todas las actividades que hemos preparado para dar luz a vuestras compras. Guardad la fecha: El próximo 7 de diciembre\, vuelve una de las citas más mágicas de nuestro calendario: La Nit de la Llum! Una noche que transforma Dénia en un espectáculo único\, con miles de velas iluminando las calles del centro.Nos espera un puente cargadito de sorpresas con el Mercado de Navidad y La Nit de la Llum.¡No faltéis!
URL:https://disfruta-denia.com/evento/nit-de-la-llum-2024/
LOCATION:Denia\, Denia\, Alicante\, 03700\, España
CATEGORIES:Mercado
ATTACH;FMTTYPE=image/jpeg:https://disfruta-denia.com/wp-content/uploads/2024/11/468013719_439975349147758_9219002788449765576_n.jpg
END:VEVENT
BEGIN:VEVENT
DTSTART;TZID=Europe/Madrid:20241208T090000
DTEND;TZID=Europe/Madrid:20241208T140000
DTSTAMP:20260424T011303
CREATED:20241206T165430Z
LAST-MODIFIED:20241206T165431Z
UID:10019352-1733648400-1733666400@disfruta-denia.com
SUMMARY:Mercat del Riurau Jesus Pobre
DESCRIPTION:Este domingo 8 de diciembre te esperamos en el Mercat del Riurau\, de 10:00 a 14:00! Además\, a las 12:00 tendremos el placer de disfrutar del concierto en directo de la cantautora Inma Serrano. ¡Ven a pasar una mañana llena de música\, artesanía y buen ambiente!  ¿Dónde? Jesús Pobre ¿Cuándo? Domingo 8 de diciembre\, de 10:00 a 14:00¡No te lo pierdas\, te esperamos con las puertas abiertas!
URL:https://disfruta-denia.com/evento/mercat-del-riurau-jesus-pobre-2-25-3-2-2-8-2-4-3/2024-12-08/
LOCATION:Mercado Riurau Jesus Pobre\, Jesus Pobre\, Alicante\, 03749\, España
CATEGORIES:Concierto,Gastronomía,Mercado
ATTACH;FMTTYPE=image/jpeg:https://disfruta-denia.com/wp-content/uploads/2024/11/468421700_961429749353723_2511845002113226302_n.jpg
END:VEVENT
BEGIN:VEVENT
DTSTART;TZID=Europe/Madrid:20241215T090000
DTEND;TZID=Europe/Madrid:20241215T140000
DTSTAMP:20260424T011303
CREATED:20241206T165430Z
LAST-MODIFIED:20241206T165431Z
UID:10019353-1734253200-1734271200@disfruta-denia.com
SUMMARY:Mercat del Riurau Jesus Pobre
DESCRIPTION:Este domingo 8 de diciembre te esperamos en el Mercat del Riurau\, de 10:00 a 14:00! Además\, a las 12:00 tendremos el placer de disfrutar del concierto en directo de la cantautora Inma Serrano. ¡Ven a pasar una mañana llena de música\, artesanía y buen ambiente!  ¿Dónde? Jesús Pobre ¿Cuándo? Domingo 8 de diciembre\, de 10:00 a 14:00¡No te lo pierdas\, te esperamos con las puertas abiertas!
URL:https://disfruta-denia.com/evento/mercat-del-riurau-jesus-pobre-2-25-3-2-2-8-2-4-3/2024-12-15/
LOCATION:Mercado Riurau Jesus Pobre\, Jesus Pobre\, Alicante\, 03749\, España
CATEGORIES:Concierto,Gastronomía,Mercado
ATTACH;FMTTYPE=image/jpeg:https://disfruta-denia.com/wp-content/uploads/2024/11/468421700_961429749353723_2511845002113226302_n.jpg
END:VEVENT
BEGIN:VEVENT
DTSTART;TZID=Europe/Madrid:20241222T090000
DTEND;TZID=Europe/Madrid:20241222T140000
DTSTAMP:20260424T011303
CREATED:20241206T165430Z
LAST-MODIFIED:20241206T165431Z
UID:10019354-1734858000-1734876000@disfruta-denia.com
SUMMARY:Mercat del Riurau Jesus Pobre
DESCRIPTION:Este domingo 8 de diciembre te esperamos en el Mercat del Riurau\, de 10:00 a 14:00! Además\, a las 12:00 tendremos el placer de disfrutar del concierto en directo de la cantautora Inma Serrano. ¡Ven a pasar una mañana llena de música\, artesanía y buen ambiente!  ¿Dónde? Jesús Pobre ¿Cuándo? Domingo 8 de diciembre\, de 10:00 a 14:00¡No te lo pierdas\, te esperamos con las puertas abiertas!
URL:https://disfruta-denia.com/evento/mercat-del-riurau-jesus-pobre-2-25-3-2-2-8-2-4-3/2024-12-22/
LOCATION:Mercado Riurau Jesus Pobre\, Jesus Pobre\, Alicante\, 03749\, España
CATEGORIES:Concierto,Gastronomía,Mercado
ATTACH;FMTTYPE=image/jpeg:https://disfruta-denia.com/wp-content/uploads/2024/11/468421700_961429749353723_2511845002113226302_n.jpg
END:VEVENT
BEGIN:VEVENT
DTSTART;TZID=Europe/Madrid:20241229T090000
DTEND;TZID=Europe/Madrid:20241229T140000
DTSTAMP:20260424T011303
CREATED:20241206T165430Z
LAST-MODIFIED:20241206T165431Z
UID:10019355-1735462800-1735480800@disfruta-denia.com
SUMMARY:Mercat del Riurau Jesus Pobre
DESCRIPTION:Este domingo 8 de diciembre te esperamos en el Mercat del Riurau\, de 10:00 a 14:00! Además\, a las 12:00 tendremos el placer de disfrutar del concierto en directo de la cantautora Inma Serrano. ¡Ven a pasar una mañana llena de música\, artesanía y buen ambiente!  ¿Dónde? Jesús Pobre ¿Cuándo? Domingo 8 de diciembre\, de 10:00 a 14:00¡No te lo pierdas\, te esperamos con las puertas abiertas!
URL:https://disfruta-denia.com/evento/mercat-del-riurau-jesus-pobre-2-25-3-2-2-8-2-4-3/2024-12-29/
LOCATION:Mercado Riurau Jesus Pobre\, Jesus Pobre\, Alicante\, 03749\, España
CATEGORIES:Concierto,Gastronomía,Mercado
ATTACH;FMTTYPE=image/jpeg:https://disfruta-denia.com/wp-content/uploads/2024/11/468421700_961429749353723_2511845002113226302_n.jpg
END:VEVENT
END:VCALENDAR